Felt | Verdi |
AlreadyApplied | True |
Aperture | 5.6 |
ApertureValue | 5.6 |
BitsPerSample (1) | 16, 16, 16 |
BitsPerSample (2) | 16 16 16 |
BitsPerSample | 8 |
BlueHue | 0 |
BlueSaturation | 0 |
Brightness | +50 |
CameraProfile | Adobe Standard |
ChromaticAberrationB | 0 |
ChromaticAberrationR | 0 |
CircleOfConfusion | 0.031 mm |
Clarity | +10 |
ColorComponents | 3 |
ColorMode | RGB |
ColorNoiseReduction | 25 |
ColorSpace | sRGB |
ColorTemperature | 6643 |
Contrast | +36 |
ConvertToGrayscale | True |
CreateDate (1) | 2009:12:31 23:25:18.29+01:00 |
CreateDate | 2009:12:31 23:25:18 |
CreatorTool | Adobe Photoshop Lightroom |
CropAngle | 0 |
CropBottom | 0.974684 |
CropHeight | 3649 |
CropLeft | 0.06747 |
CropRight | 0.980723 |
CropTop | 0 |
CropUnit | pixels |
CropWidth | 5129 |
CustomRendered | Normal |
DateTimeDigitized | 2009:12:31 23:25:18.29+01:00 |
DateTimeOriginal (1) | 2009:12:31 23:25:18.29+01:00 |
DateTimeOriginal | 2009:12:31 23:25:18 |
Defringe | 0 |
DOF | 0.02 m (0.85 - 0.87 m) |
ExifImageHeight | 800 |
ExifImageWidth | 598 |
Exposure | 0.00 |
ExposureCompensation | 0 |
ExposureMode | Manual |
ExposureProgram | Manual |
ExposureTime | 1/80 |
FillLight | 10 |
Firmware | 1.1.0 |
Flash | On, Fired |
FlashCompensation | 0 |
FlashFired | True |
FlashFunction | False |
FlashMode | On |
FlashRedEyeMode | False |
FlashReturn | No return detection |
FNumber | 5.6 |
FocalLength | 105.0 mm |
FocalLength35efl | 105.0 mm (35 mm equivalent: 102.5 mm) |
Format | image/jpeg |
FOV | 19.9 deg |
GrayMixerAqua | -22 |
GrayMixerBlue | +2 |
GrayMixerGreen | -22 |
GrayMixerMagenta | +11 |
GrayMixerOrange | -7 |
GrayMixerPurple | +14 |
GrayMixerRed | +4 |
GrayMixerYellow | -12 |
GreenHue | 0 |
GreenSaturation | 0 |
HasCrop | True |
HasSettings | True |
HighlightRecovery | 0 |
HyperfocalDistance | 63.95 m |
ICCProfileName | sRGB IEC61966-2.1 |
ImageHeight (1) | 4881 |
ImageHeight (2) | 5129 |
ImageHeight | 800 |
ImageNumber | 0 |
ImageSize | 598x800 |
ImageWidth (1) | 3649 |
ImageWidth | 598 |
ISO | 400 |
Lens | EF24-105mm f/4L IS USM |
LensID (1) | 237 |
LensID | Canon EF 24-105mm f/4L IS USM |
LensInfo | 24-105mm f/? |
LightValue | 9.3 |
LuminanceSmoothing | 20 |
Make | Canon |
MaxApertureValue | 4.0 |
Megapixels | 0.478 |
MeteringMode | Spot |
Model | Canon EOS 5D Mark II |
ModifyDate (1) | 2010:01:11 19:06:37+01:00 |
ModifyDate | 2010:01:11 19:06:37 |
Orientation | Horizontal (normal) |
ParametricDarks | +2 |
ParametricHighlights | -5 |
ParametricHighlightSplit | 75 |
ParametricLights | +2 |
ParametricMidtoneSplit | 50 |
ParametricShadows | -5 |
ParametricShadowSplit | 25 |
PhotometricInterpretation | RGB |
PlanarConfiguration | Chunky |
PostCropVignetteAmount | 0 |
ProfileDescription | sRGB IEC61966-2.1 |
RedHue | 0 |
RedSaturation | 0 |
SamplesPerPixel | 3 |
ScaleFactor35efl | 1.0 |
SceneCaptureType | Standard |
SerialNumber | 530320270 |
Shadows | 2 |
ShadowTint | 0 |
SharpenDetail | 25 |
SharpenEdgeMasking | 0 |
SharpenRadius | +1.0 |
Sharpness | 55 |
ShutterSpeed | 1/80 |
ShutterSpeedValue | 1/80 |
Software | Adobe Photoshop CS4 Windows |
SplitToningBalance | 0 |
SplitToningHighlightHue | 0 |
SplitToningHighlightSaturation | 0 |
SplitToningShadowHue | 0 |
SplitToningShadowSaturation | 0 |
SubjectDistance | 0.86 m |
Tint | -79 |
ToneCurve | 0, 0, 32, 22, 64, 56, 128, 128, 192, 196, 255, 255 |
ToneCurveName | Medium Contrast |
URL_List | |
Version | 5.6 |
VignetteAmount | 0 |
WhiteBalance (2) | Custom |
WhiteBalance | Auto |