Felt | Verdi |
AlreadyApplied | True |
Aperture | 8.0 |
ApertureValue | 8.0 |
BitsPerSample | 8 |
BlueHue | +14 |
BlueSaturation | +14 |
Brightness | +50 |
CameraProfile | Adobe Standard |
ChromaticAberrationB | 0 |
ChromaticAberrationR | 0 |
CircleOfConfusion | 0.019 mm |
Clarity | +45 |
ColorComponents | 3 |
ColorMode | RGB |
ColorNoiseReduction | 25 |
ColorSpace | sRGB |
ColorTemperature | 6286 |
Contrast | +46 |
ConvertToGrayscale | False |
CreateDate (1) | 2009:12:26 16:30:18.80+01:00 |
CreateDate | 2009:12:26 16:30:18 |
CropAngle | 0 |
CropBottom | 1 |
CropLeft | 0 |
CropRight | 1 |
CropTop | 0 |
CustomRendered | Normal |
DateTimeDigitized | 2009:12:26 16:30:18.80+01:00 |
DateTimeOriginal (1) | 2009:12:26 16:30:18.80+01:00 |
DateTimeOriginal | 2009:12:26 16:30:18 |
Defringe | 0 |
ExifImageHeight | 800 |
ExifImageWidth | 554 |
Exposure | +0.19 |
ExposureCompensation | 0 |
ExposureMode | Manual |
ExposureProgram | Manual |
ExposureTime | 1/15 |
FillLight | 0 |
Firmware | 1.0.3 |
Flash | Off, Did not fire |
FlashCompensation | 0 |
FlashFired | False |
FlashFunction | False |
FlashMode | Off |
FlashRedEyeMode | False |
FlashReturn | No return detection |
FNumber | 8.0 |
FocalLength | 41.0 mm |
FocalLength35efl | 41.0 mm (35 mm equivalent: 65.0 mm) |
Format | image/jpeg |
FOV | 31.0 deg |
GreenHue | 0 |
GreenSaturation | 0 |
HasCrop | True |
HasSettings | True |
HighlightRecovery | 0 |
HueAdjustmentAqua | 0 |
HueAdjustmentBlue | 0 |
HueAdjustmentGreen | 0 |
HueAdjustmentMagenta | 0 |
HueAdjustmentOrange | 0 |
HueAdjustmentPurple | 0 |
HueAdjustmentRed | 0 |
HueAdjustmentYellow | 0 |
HyperfocalDistance | 11.08 m |
ICCProfileName | sRGB IEC61966-2.1 |
ImageHeight | 800 |
ImageNumber | 0 |
ImageSize | 554x800 |
ImageWidth | 554 |
ISO | 100 |
Lens | EF-S17-85mm f/4-5.6 IS USM |
LensInfo | 17-85mm f/? |
LightValue | 9.9 |
LuminanceAdjustmentAqua | 0 |
LuminanceAdjustmentBlue | +7 |
LuminanceAdjustmentGreen | 0 |
LuminanceAdjustmentMagenta | 0 |
LuminanceAdjustmentOrange | 0 |
LuminanceAdjustmentPurple | 0 |
LuminanceAdjustmentRed | 0 |
LuminanceAdjustmentYellow | 0 |
LuminanceSmoothing | 0 |
Make | Canon |
MaxApertureValue | 5.2 |
Megapixels | 0.443 |
MeteringMode | Multi-segment |
Model | Canon EOS 50D |
ModifyDate (1) | 2010:01:08 22:55:14+01:00 |
ModifyDate | 2010:01:08 22:55:14 |
Orientation | Horizontal (normal) |
ParametricDarks | 0 |
ParametricHighlights | +40 |
ParametricHighlightSplit | 75 |
ParametricLights | +14 |
ParametricMidtoneSplit | 50 |
ParametricShadows | -50 |
ParametricShadowSplit | 25 |
PostCropVignetteAmount | 0 |
ProfileDescription | sRGB IEC61966-2.1 |
Rating | 0 |
RawFileName | IMG_1619.CR2 |
RedHue | -69 |
RedSaturation | -48 |
Saturation | 0 |
SaturationAdjustmentAqua | 0 |
SaturationAdjustmentBlue | 0 |
SaturationAdjustmentGreen | 0 |
SaturationAdjustmentMagenta | 0 |
SaturationAdjustmentOrange | 0 |
SaturationAdjustmentPurple | 0 |
SaturationAdjustmentRed | 0 |
SaturationAdjustmentYellow | 0 |
ScaleFactor35efl | 1.6 |
SceneCaptureType | Standard |
SerialNumber | 530306785 |
Shadows | 27 |
ShadowTint | -2 |
SharpenDetail | 25 |
SharpenEdgeMasking | 0 |
SharpenRadius | +1.0 |
Sharpness | 53 |
ShutterSpeed | 1/15 |
ShutterSpeedValue | 1/15 |
Software | Adobe Photoshop CS4 Windows |
SplitToningBalance | 0 |
SplitToningHighlightHue | 0 |
SplitToningHighlightSaturation | 0 |
SplitToningShadowHue | 0 |
SplitToningShadowSaturation | 0 |
Tint | +8 |
ToneCurve | 0, 0, 32, 22, 64, 56, 128, 128, 192, 196, 255, 255 |
ToneCurveName | Medium Contrast |
URL_List | |
Version | 5.5 |
Vibrance | 0 |
VignetteAmount | 0 |
WhiteBalance (2) | Custom |
WhiteBalance | Auto |