Felt | Verdi |
AlreadyApplied | True |
Aperture | 5.6 |
ApertureValue | 5.6 |
Artist | Christine S. Kroeger |
BitsPerSample | 8 |
BlueHue | 0 |
BlueSaturation | 0 |
Brightness | +9 |
By-line | Christine S. Kroeger |
CameraProfile | Embedded |
ChromaticAberrationB | 0 |
ChromaticAberrationR | 0 |
CircleOfConfusion | 0.015 mm |
Clarity | 39 |
ColorComponents | 3 |
ColorMode | RGB |
ColorNoiseReduction | 0 |
ColorSpace (1) | Unknown (-1) |
ColorSpace | Uncalibrated |
CompressedBitsPerPixel | 2 |
Contrast (2) | 0 |
Contrast | Normal |
ConvertToGrayscale | False |
Copyright | Christine S. Kroeger |
CopyrightFlag | True |
CopyrightNotice | Christine S. Kroeger |
CreateDate (1) | 2010:01:04 20:09:24+01:00 |
CreateDate | 2009:12:30 09:06:32 |
Creator | Christine S. Kroeger |
CreatorAddress | Aamotveien 4 |
CreatorCity | 3158 Andebu |
CreatorCountry | Norway |
CreatorTool | Adobe Photoshop CS3 Windows |
CreatorWorkEmail | christine.s.kroeger@online.no |
CreatorWorkTelephone | +47 95 88 01 88 |
CreatorWorkURL | www.csk.foto.no |
CustomRendered | Custom |
DateTimeDigitized | 2009:12:30 09:06:32+01:00 |
DateTimeOriginal (1) | 2009:12:30 09:06:32+01:00 |
DateTimeOriginal | 2009:12:30 09:06:32 |
Defringe | 0 |
DigitalZoomRatio | 0 |
ExifImageHeight | 668 |
ExifImageWidth | 1000 |
Exposure | +0.85 |
ExposureCompensation | -1 |
ExposureMode | Auto |
ExposureProgram | Program AE |
ExposureTime | 1/125 |
FillLight | 0 |
Flash | Off, Did not fire |
FlashFired | False |
FlashFunction | False |
FlashMode | Off |
FlashRedEyeMode | False |
FlashReturn | No return detection |
FNumber | 5.6 |
FocalLength | 45.0 mm |
FocalLength35efl | 45.0 mm (35 mm equivalent: 93.0 mm) |
FocalLengthIn35mmFormat | 93 mm |
Format | image/jpeg |
FOV | 21.9 deg |
GainControl | Low gain up |
GreenHue | 0 |
GreenSaturation | 0 |
HasCrop | False |
HasSettings | True |
HierarchicalSubject | Planter|Trær |
HighlightRecovery | 3 |
HueAdjustmentAqua | 0 |
HueAdjustmentBlue | 0 |
HueAdjustmentGreen | 0 |
HueAdjustmentMagenta | 0 |
HueAdjustmentOrange | 0 |
HueAdjustmentPurple | 0 |
HueAdjustmentRed | 0 |
HueAdjustmentYellow | 0 |
HyperfocalDistance | 24.87 m |
ICCProfileName | Adobe RGB (1998) |
ImageHeight | 668 |
ImageSize | 1000x668 |
ImageWidth | 1000 |
IncrementalTemperature | 0 |
IncrementalTint | 0 |
ISO | 200 |
LightSource | Unknown |
LightValue | 10.9 |
LuminanceAdjustmentAqua | 0 |
LuminanceAdjustmentBlue | 0 |
LuminanceAdjustmentGreen | 0 |
LuminanceAdjustmentMagenta | 0 |
LuminanceAdjustmentOrange | 0 |
LuminanceAdjustmentPurple | 0 |
LuminanceAdjustmentRed | 0 |
LuminanceAdjustmentYellow | 0 |
LuminanceSmoothing | 0 |
Make | Panasonic |
Marked | True |
MaxApertureValue | 5.6 |
Megapixels | 0.668 |
MeteringMode | Multi-segment |
Model | DMC-GF1 |
ModifyDate (1) | 2010:01:04 20:09:24+01:00 |
ModifyDate | 2010:01:04 20:09:24 |
Orientation | Horizontal (normal) |
ParametricDarks | 0 |
ParametricHighlights | 0 |
ParametricHighlightSplit | 75 |
ParametricLights | 0 |
ParametricMidtoneSplit | 50 |
ParametricShadows | 0 |
ParametricShadowSplit | 25 |
ProfileDescription | Adobe RGB (1998) |
Rating | 1 |
RawFileName | P1010559.JPG |
RedHue | 0 |
RedSaturation | 0 |
Rights | Christine S. Kroeger |
Saturation (2) | +36 |
Saturation | Normal |
SaturationAdjustmentAqua | 0 |
SaturationAdjustmentBlue | 0 |
SaturationAdjustmentGreen | 0 |
SaturationAdjustmentMagenta | 0 |
SaturationAdjustmentOrange | 0 |
SaturationAdjustmentPurple | 0 |
SaturationAdjustmentRed | 0 |
SaturationAdjustmentYellow | 0 |
ScaleFactor35efl | 2.1 |
SceneCaptureType | Standard |
SceneType | Directly photographed |
SensingMethod | One-chip color area |
Shadows | 0 |
ShadowTint | 0 |
SharpenDetail | 25 |
SharpenEdgeMasking | 0 |
SharpenRadius | +1.0 |
Sharpness (2) | 0 |
Sharpness | Hard |
ShutterSpeed | 1/125 |
ShutterSpeedValue | 1/125 |
Software | Adobe Photoshop CS3 Windows |
SplitToningBalance | 0 |
SplitToningHighlightHue | 0 |
SplitToningHighlightSaturation | 0 |
SplitToningShadowHue | 0 |
SplitToningShadowSaturation | 0 |
ToneCurve | 0, 0, 255, 255 |
ToneCurveName | Linear |
URL_List | |
Version | 4.4.1 |
Vibrance | +33 |
VignetteAmount | 0 |
WhiteBalance (2) | As Shot |
WhiteBalance | Auto |