Felt | Verdi |
AlreadyApplied | True |
Aperture | 4.5 |
ApertureValue | 4.5 |
Artist | www.MartinePetra.com |
AuthorsPosition | www.MartinePetra.com |
BitsPerSample | 8 |
BlueHue | 0 |
BlueSaturation | 0 |
Brightness | +50 |
By-line | www.MartinePetra.com |
By-lineTitle | www.MartinePetra.com |
CameraProfile | ACR 4.4 |
ChromaticAberrationB | 0 |
ChromaticAberrationR | 0 |
CircleOfConfusion | 0.030 mm |
Clarity | +100 |
ColorComponents | 3 |
ColorMode | RGB |
ColorNoiseReduction | 25 |
ColorSpace | Uncalibrated |
ColorTemperature | 4300 |
Contrast | +67 |
ConvertToGrayscale | False |
Copyright | Do not use without authorization from www.MartinePetra.com |
CopyrightFlag | True |
CopyrightNotice | Do not use without authorization from www.MartinePetra.com |
CreateDate (1) | 2009:11:22 23:13:36+01:00 |
CreateDate | 2008:01:24 13:26:38 |
Creator | www.MartinePetra.com |
CreatorTool | Adobe Photoshop CS4 (11.0x20071101 [20071101.m.190 2007/11/01:02:00:00 cutoff; m branch]) Windows |
CustomRendered | Normal |
DateTimeDigitized | 2008:01:24 13:26:38+01:00 |
DateTimeOriginal (1) | 2008:01:24 13:26:38+01:00 |
DateTimeOriginal | 2008:01:24 13:26:38 |
Defringe | 0 |
ExifImageHeight | 600 |
ExifImageWidth | 400 |
Exposure | 0.00 |
ExposureCompensation | 0 |
ExposureMode | Manual |
ExposureProgram | Manual |
ExposureTime | 1/40 |
FillLight | 8 |
Firmware | 1.0.3 |
Flash | Off, Did not fire |
FlashCompensation | 0 |
FlashFired | False |
FlashFunction | False |
FlashMode | Off |
FlashRedEyeMode | False |
FlashReturn | No return detection |
FNumber | 4.5 |
FocalLength | 24.0 mm |
FocalLength35efl | 24.0 mm (35 mm equivalent: 24.0 mm) |
Format | image/jpeg |
FOV | 73.6 deg |
GreenHue | 0 |
GreenSaturation | 0 |
HasCrop | False |
HasSettings | True |
HighlightRecovery | 0 |
HueAdjustmentAqua | 0 |
HueAdjustmentBlue | 0 |
HueAdjustmentGreen | 0 |
HueAdjustmentMagenta | 0 |
HueAdjustmentOrange | 0 |
HueAdjustmentPurple | 0 |
HueAdjustmentRed | 0 |
HueAdjustmentYellow | 0 |
HyperfocalDistance | 4.27 m |
ICCProfileName | Adobe RGB (1998) |
ImageHeight (1) | 4368 |
ImageHeight | 600 |
ImageNumber | 2 |
ImageSize | 400x600 |
ImageWidth (1) | 2912 |
ImageWidth | 400 |
ISO | 640 |
Lens | EF24-105mm f/4L IS USM |
LensInfo | 24-105mm f/? |
LightValue | 7.0 |
LuminanceAdjustmentAqua | 0 |
LuminanceAdjustmentBlue | 0 |
LuminanceAdjustmentGreen | 0 |
LuminanceAdjustmentMagenta | 0 |
LuminanceAdjustmentOrange | 0 |
LuminanceAdjustmentPurple | 0 |
LuminanceAdjustmentRed | 0 |
LuminanceAdjustmentYellow | 0 |
LuminanceSmoothing | 0 |
Make | Canon |
Marked | True |
MaxApertureValue | 4.0 |
Megapixels | 0.240 |
MeteringMode | Spot |
Model | Canon EOS 5D |
ModifyDate (1) | 2009:11:22 23:13:36+01:00 |
ModifyDate | 2009:11:22 23:13:36 |
Orientation | Horizontal (normal) |
ParametricDarks | 0 |
ParametricHighlights | 0 |
ParametricHighlightSplit | 75 |
ParametricLights | 0 |
ParametricMidtoneSplit | 50 |
ParametricShadows | 0 |
ParametricShadowSplit | 25 |
PostCropVignetteAmount | 0 |
ProfileDescription | Adobe RGB (1998) |
RawFileName | ccc 035.CR2 |
RedHue | 0 |
RedSaturation | 0 |
Rights | Do not use without authorization from www.MartinePetra.com |
Saturation | 0 |
SaturationAdjustmentAqua | 0 |
SaturationAdjustmentBlue | 0 |
SaturationAdjustmentGreen | 0 |
SaturationAdjustmentMagenta | 0 |
SaturationAdjustmentOrange | 0 |
SaturationAdjustmentPurple | 0 |
SaturationAdjustmentRed | 0 |
SaturationAdjustmentYellow | 0 |
ScaleFactor35efl | 1.0 |
SceneCaptureType | Standard |
SerialNumber | 530206121 |
Shadows | 5 |
ShadowTint | 0 |
SharpenDetail | 25 |
SharpenEdgeMasking | 0 |
SharpenRadius | +1.0 |
Sharpness | 25 |
ShutterSpeed | 1/40 |
ShutterSpeedValue | 1/40 |
Software | Adobe Photoshop CS4 (11.0x20071101 [20071101.m.190 2007/11/01:02:00:00 cutoff; m branch]) Windows |
SplitToningBalance | 0 |
SplitToningHighlightHue | 0 |
SplitToningHighlightSaturation | 0 |
SplitToningShadowHue | 0 |
SplitToningShadowSaturation | 0 |
Tint | -1 |
ToneCurve | 0, 0, 32, 22, 64, 56, 128, 128, 192, 196, 255, 255 |
ToneCurveName | Medium Contrast |
URL | http://www.martinepetra.com |
URL_List | |
UsageTerms | |
Version | 5.0 |
Vibrance | 0 |
VignetteAmount | 0 |
WebStatement | http://www.martinepetra.com |
WhiteBalance (2) | As Shot |
WhiteBalance | Auto |