Felt | Verdi |
AlreadyApplied | True |
Aperture | 5.6 |
ApertureValue | 5.6 |
Artist | unknown |
BitsPerSample | 8 |
BlueHue | 0 |
BlueSaturation | 0 |
Brightness | -11 |
By-line | unknown |
CameraProfile | Embedded |
ChromaticAberrationB | 0 |
ChromaticAberrationR | 0 |
CircleOfConfusion | 0.019 mm |
Clarity | +2 |
ColorComponents | 3 |
ColorNoiseReduction | 0 |
Contrast | +18 |
ConvertToGrayscale | False |
CreateDate (1) | 2009:08:24 17:52:37+02:00 |
CreateDate | 2009:08:24 17:52:37 |
Creator | unknown |
CreatorTool | Adobe Photoshop Lightroom |
CropAngle | -3.62775 |
CropBottom | 0.921675 |
CropHeight | 2128 |
CropLeft | 0.015517 |
CropRight | 0.878067 |
CropTop | 0.078325 |
CropUnit | pixels |
CropWidth | 2852 |
CustomRendered | Normal |
DateTimeDigitized | 2009:08:24 17:52:37+02:00 |
DateTimeOriginal (1) | 2009:08:24 17:52:37+02:00 |
DateTimeOriginal | 2009:08:24 17:52:37 |
Defringe | 0 |
ExifImageHeight | 2128 |
ExifImageWidth | 2852 |
Exposure | +0.10 |
ExposureCompensation | 0 |
ExposureMode | Manual |
ExposureProgram | Manual |
ExposureTime | 1/50 |
FillLight | 0 |
Firmware | 1.0.3 |
Flash | On, Red-eye reduction |
FlashCompensation | 0 |
FlashFired | True |
FlashFunction | False |
FlashMode | On |
FlashRedEyeMode | True |
FlashReturn | No return detection |
FNumber | 5.6 |
FocalLength | 13.0 mm |
FocalLength35efl | 13.0 mm (35 mm equivalent: 21.1 mm) |
FOV | 81.0 deg |
GreenHue | 0 |
GreenSaturation | 0 |
HasCrop | True |
HasSettings | True |
HighlightRecovery | 62 |
HueAdjustmentAqua | 0 |
HueAdjustmentBlue | 0 |
HueAdjustmentGreen | 0 |
HueAdjustmentMagenta | 0 |
HueAdjustmentOrange | 0 |
HueAdjustmentPurple | 0 |
HueAdjustmentRed | 0 |
HueAdjustmentYellow | 0 |
HyperfocalDistance | 1.63 m |
ImageHeight (1) | 2128 |
ImageHeight | 1064 |
ImageNumber | 66 |
ImageSize | 1426x1064 |
ImageWidth (1) | 2852 |
ImageWidth | 1426 |
IncrementalTemperature | 0 |
IncrementalTint | 0 |
ISO | 200 |
Lens | 10.0-20.0 mm |
LensInfo | 10-20mm f/? |
LightValue | 9.6 |
LuminanceAdjustmentAqua | 0 |
LuminanceAdjustmentBlue | 0 |
LuminanceAdjustmentGreen | 0 |
LuminanceAdjustmentMagenta | 0 |
LuminanceAdjustmentOrange | 0 |
LuminanceAdjustmentPurple | 0 |
LuminanceAdjustmentRed | 0 |
LuminanceAdjustmentYellow | 0 |
LuminanceSmoothing | 0 |
Make | Canon |
MaxApertureValue | 5.6 |
Megapixels | 1.5 |
MeteringMode | Multi-segment |
Model | Canon EOS 350D DIGITAL |
ModifyDate (1) | 2009:08:24 18:10:11+02:00 |
ModifyDate | 2009:08:24 18:10:11 |
OwnerName | unknown |
PaintCorrectionActive | true |
PaintCorrectionAmount | 1.000000 |
PaintCorrectionBrightness (1) | 0.000000 |
PaintCorrectionBrightness (3) | -0.200000 |
PaintCorrectionBrightness | 0.375000 |
PaintCorrectionClarity (2) | -1.000000 |
PaintCorrectionClarity | 0.000000 |
PaintCorrectionContrast | 0.000000 |
PaintCorrectionExposure (1) | 0.075000 |
PaintCorrectionExposure | 0.000000 |
PaintCorrectionHue | 33.000000 |
PaintCorrectionMaskCenterWeight | 0.000000 |
PaintCorrectionMaskFlow | 1.000000 |
PaintCorrectionMaskRadius (1) | 0.033400 |
PaintCorrectionMaskRadius (2) | 0.053290 |
PaintCorrectionMaskRadius | 0.010669 |
PaintCorrectionMaskValue | 1.000000 |
PaintCorrectionMaskWhat | Mask/Paint |
PaintCorrectionSaturation | 0.000000 |
PaintCorrectionSharpness | 0.000000 |
PaintCorrectionWhat | Correction |
ParametricDarks | 0 |
ParametricHighlights | 0 |
ParametricHighlightSplit | 75 |
ParametricLights | 0 |
ParametricMidtoneSplit | 50 |
ParametricShadows | 0 |
ParametricShadowSplit | 25 |
PostCropVignetteAmount | 0 |
ProfileDescription | sRGB IEC61966-2.1 |
RedHue | 0 |
RedSaturation | 0 |
Saturation | 0 |
SaturationAdjustmentAqua | 0 |
SaturationAdjustmentBlue | 0 |
SaturationAdjustmentGreen | 0 |
SaturationAdjustmentMagenta | 0 |
SaturationAdjustmentOrange | +21 |
SaturationAdjustmentPurple | 0 |
SaturationAdjustmentRed | 0 |
SaturationAdjustmentYellow | 0 |
ScaleFactor35efl | 1.6 |
SceneCaptureType | Standard |
SerialNumber | 2430703140 |
Shadows | 0 |
ShadowTint | 0 |
SharpenDetail | 25 |
SharpenEdgeMasking | 0 |
SharpenRadius | +1.0 |
Sharpness | 0 |
ShutterSpeed | 1/50 |
ShutterSpeedValue | 1/50 |
SplitToningBalance | 0 |
SplitToningHighlightHue | 0 |
SplitToningHighlightSaturation | 0 |
SplitToningShadowHue | 0 |
SplitToningShadowSaturation | 0 |
ToneCurve | 0, 0, 255, 255 |
ToneCurveName | Linear |
Version | 5.4 |
Vibrance | -43 |
VignetteAmount | 0 |
WhiteBalance (2) | As Shot |
WhiteBalance | Auto |