Felt | Verdi |
AlreadyApplied | True |
Aperture | 4.5 |
ApertureValue | 4.5 |
Artist | unknown |
BitsPerSample | 8 |
BlueHue | 0 |
BlueSaturation | 0 |
Brightness | +50 |
By-line | unknown |
CameraProfile | ACR 4.4 |
ChromaticAberrationB | 0 |
ChromaticAberrationR | 0 |
CircleOfConfusion | 0.019 mm |
Clarity | +87 |
ColorComponents | 3 |
ColorMode | RGB |
ColorNoiseReduction | 25 |
ColorSpace (1) | Unknown (-1) |
ColorSpace | Uncalibrated |
ColorTemperature | 5150 |
Contrast | +81 |
ConvertToGrayscale | False |
CopyrightFlag | False |
CreateDate (1) | 2009:09:20 18:48:12+02:00 |
CreateDate | 2009:09:18 13:50:40 |
Creator | unknown |
CreatorTool | Adobe Photoshop CS3 Windows |
CropAngle | 0 |
CropBottom | 0.957371 |
CropLeft | 0.092417 |
CropRight | 0.981043 |
CropTop | 0.055062 |
CustomRendered | Normal |
DateTimeDigitized | 2009:09:18 13:50:40+02:00 |
DateTimeOriginal (1) | 2009:09:18 13:50:40+02:00 |
DateTimeOriginal | 2009:09:18 13:50:40 |
Defringe | 0 |
DerivedFrom | |
ExifImageHeight | 2339 |
ExifImageWidth | 3455 |
Exposure | 0.00 |
ExposureCompensation | 0 |
ExposureMode | Auto |
ExposureProgram | Shutter speed priority AE |
ExposureTime | 1/640 |
FillLight | 0 |
Firmware | 1.1.0 |
Flash | Off, Did not fire |
FlashCompensation | 0 |
FlashFired | False |
FlashFunction | False |
FlashMode | Off |
FlashRedEyeMode | False |
FlashReturn | No return detection |
FNumber | 4.5 |
FocalLength | 10.0 mm |
FocalLength35efl | 10.0 mm (35 mm equivalent: 16.2 mm) |
Format | image/jpeg |
FOV | 96.1 deg |
GreenHue | 0 |
GreenSaturation | 0 |
HasCrop | True |
HasSettings | True |
HighlightRecovery | 5 |
HueAdjustmentAqua | +1 |
HueAdjustmentBlue | +9 |
HueAdjustmentGreen | -5 |
HueAdjustmentMagenta | 0 |
HueAdjustmentOrange | -68 |
HueAdjustmentPurple | -8 |
HueAdjustmentRed | -62 |
HueAdjustmentYellow | -20 |
HyperfocalDistance | 1.20 m |
ICCProfileName | Adobe RGB (1998) |
ImageHeight | 2339 |
ImageNumber | 176 |
ImageSize | 3455x2339 |
ImageWidth | 3455 |
ISO | 200 |
Lens | EF-S10-22mm f/3.5-4.5 USM |
LensInfo | 10-22mm f/? |
LightValue | 12.7 |
LuminanceAdjustmentAqua | 0 |
LuminanceAdjustmentBlue | -9 |
LuminanceAdjustmentGreen | +100 |
LuminanceAdjustmentMagenta | 0 |
LuminanceAdjustmentOrange | +64 |
LuminanceAdjustmentPurple | 0 |
LuminanceAdjustmentRed | +58 |
LuminanceAdjustmentYellow | +78 |
LuminanceSmoothing | 0 |
Make | Canon |
MaxApertureValue | 3.5 |
Megapixels | 8.1 |
MeteringMode | Multi-segment |
Model | Canon EOS DIGITAL REBEL XTi |
ModifyDate (1) | 2009:09:20 18:48:12+02:00 |
ModifyDate | 2009:09:20 18:48:12 |
Orientation | Horizontal (normal) |
OwnerName | unknown |
ParametricDarks | 0 |
ParametricHighlights | 0 |
ParametricHighlightSplit | 75 |
ParametricLights | 0 |
ParametricMidtoneSplit | 50 |
ParametricShadows | 0 |
ParametricShadowSplit | 25 |
PostCropVignetteAmount | 0 |
ProfileDescription | Adobe RGB (1998) |
Rating | 0 |
RawFileName | IMG_3083.CR2 |
RedHue | 0 |
RedSaturation | 0 |
Saturation | -2 |
SaturationAdjustmentAqua | +9 |
SaturationAdjustmentBlue | +38 |
SaturationAdjustmentGreen | +74 |
SaturationAdjustmentMagenta | +75 |
SaturationAdjustmentOrange | +72 |
SaturationAdjustmentPurple | +75 |
SaturationAdjustmentRed | +68 |
SaturationAdjustmentYellow | +53 |
ScaleFactor35efl | 1.6 |
SceneCaptureType | Standard |
SerialNumber | 1521027408 |
Shadows | 5 |
ShadowTint | 0 |
SharpenDetail | 25 |
SharpenEdgeMasking | 0 |
SharpenRadius | +1.0 |
Sharpness | 25 |
ShutterSpeed | 1/640 |
ShutterSpeedValue | 1/640 |
SidecarForExtension | CR2 |
Software | Adobe Photoshop CS3 Windows |
SplitToningBalance | 0 |
SplitToningHighlightHue | 0 |
SplitToningHighlightSaturation | 0 |
SplitToningShadowHue | 0 |
SplitToningShadowSaturation | 0 |
Tint | +8 |
ToneCurve | 0, 0, 32, 22, 64, 56, 128, 128, 192, 196, 255, 255 |
ToneCurveName | Medium Contrast |
URL_List | |
Version | 4.6 |
Vibrance | +9 |
VignetteAmount | 0 |
WhiteBalance (2) | As Shot |
WhiteBalance | Manual |