Felt | Verdi |
AlreadyApplied | True |
Aperture | 6.3 |
ApertureValue | 6.3 |
Artist | Photographer: Henrik Erevik Riise |
BitsPerSample | 8 |
BlueHue | 0 |
BlueSaturation | 0 |
Brightness | 0 |
By-line | Photographer: Henrik Erevik Riis |
CameraProfile | Embedded |
ChromaticAberrationB | 0 |
ChromaticAberrationR | 0 |
CircleOfConfusion | 0.019 mm |
Clarity | 0 |
ColorComponents | 3 |
ColorNoiseReduction | 0 |
Contrast | 0 |
ConvertToGrayscale | False |
Copyright | Copyright: Henrik Erevik Riise |
CopyrightNotice | Copyright: Henrik Erevik Riise |
CreateDate (1) | 2009:07:23 15:20:24.67+02:00 |
CreateDate | 2009:07:23 15:20:24 |
Creator | Photographer: Henrik Erevik Riise |
CreatorTool | Adobe Photoshop Lightroom |
CustomRendered | Normal |
DateTimeDigitized | 2009:07:23 15:20:24.67+02:00 |
DateTimeOriginal (1) | 2009:07:23 15:20:24.67+02:00 |
DateTimeOriginal | 2009:07:23 15:20:24 |
Defringe | 0 |
ExifImageHeight | 3168 |
ExifImageWidth | 4752 |
Exposure | 0.00 |
ExposureCompensation | 0 |
ExposureMode | Auto |
ExposureProgram | Aperture-priority AE |
ExposureTime | 1/1250 |
FillLight | 0 |
Firmware | 1.0.6 |
Flash | Off, Did not fire |
FlashCompensation | 0 |
FlashFired | False |
FlashFunction | False |
FlashMode | Off |
FlashRedEyeMode | False |
FlashReturn | No return detection |
FNumber | 6.3 |
FocalLength | 200.0 mm |
FocalLength35efl | 200.0 mm (35 mm equivalent: 316.9 mm) |
FOV | 6.5 deg |
GreenHue | 0 |
GreenSaturation | 0 |
HasCrop | False |
HasSettings | True |
HighlightRecovery | 0 |
HueAdjustmentAqua | 0 |
HueAdjustmentBlue | 0 |
HueAdjustmentGreen | 0 |
HueAdjustmentMagenta | 0 |
HueAdjustmentOrange | 0 |
HueAdjustmentPurple | 0 |
HueAdjustmentRed | 0 |
HueAdjustmentYellow | 0 |
HyperfocalDistance | 334.84 m |
ImageHeight (1) | 3168 |
ImageHeight | 853 |
ImageNumber | 0 |
ImageSize | 1280x853 |
ImageWidth (1) | 4752 |
ImageWidth | 1280 |
IncrementalTemperature | 0 |
IncrementalTint | 0 |
ISO | 200 |
Keywords | Hele driv m/ Cyaneed |
Lens | EF70-200mm f/2.8L USM |
LensInfo | 70-200mm f/? |
LightValue | 14.6 |
LuminanceAdjustmentAqua | 0 |
LuminanceAdjustmentBlue | 0 |
LuminanceAdjustmentGreen | 0 |
LuminanceAdjustmentMagenta | 0 |
LuminanceAdjustmentOrange | 0 |
LuminanceAdjustmentPurple | 0 |
LuminanceAdjustmentRed | 0 |
LuminanceAdjustmentYellow | 0 |
LuminanceSmoothing | 0 |
Make | Canon |
MaxApertureValue | 2.8 |
Megapixels | 1.1 |
MeteringMode | Spot |
Model | Canon EOS 50D |
ModifyDate (1) | 2009:09:01 22:47:23+02:00 |
ModifyDate | 2009:09:01 22:47:23 |
OwnerName | Henrik Erevik Riise |
ParametricDarks | +33 |
ParametricHighlights | +81 |
ParametricHighlightSplit | 75 |
ParametricLights | +24 |
ParametricMidtoneSplit | 50 |
ParametricShadows | -19 |
ParametricShadowSplit | 25 |
PostCropVignetteAmount | 0 |
ProfileDescription | sRGB IEC61966-2.1 |
RedHue | 0 |
RedSaturation | 0 |
Rights | Copyright: Henrik Erevik Riise |
Saturation | 0 |
SaturationAdjustmentAqua | 0 |
SaturationAdjustmentBlue | 0 |
SaturationAdjustmentGreen | +5 |
SaturationAdjustmentMagenta | 0 |
SaturationAdjustmentOrange | +31 |
SaturationAdjustmentPurple | 0 |
SaturationAdjustmentRed | 0 |
SaturationAdjustmentYellow | +5 |
ScaleFactor35efl | 1.6 |
SceneCaptureType | Standard |
SerialNumber | 530309366 |
Shadows | 0 |
ShadowTint | 0 |
SharpenDetail | 25 |
SharpenEdgeMasking | 0 |
SharpenRadius | +1.0 |
Sharpness | 54 |
ShutterSpeed | 1/1250 |
ShutterSpeedValue | 1/1250 |
SplitToningBalance | +7 |
SplitToningHighlightHue | 0 |
SplitToningHighlightSaturation | 0 |
SplitToningShadowHue | 0 |
SplitToningShadowSaturation | 0 |
Subject | Hele driv m/ Cyaneed |
ToneCurve | 0, 0, 255, 255 |
ToneCurveName | Linear |
Version | 5.4 |
Vibrance | 0 |
VignetteAmount | 0 |
WhiteBalance (2) | As Shot |
WhiteBalance | Auto |