Felt | Verdi |
AlreadyApplied | True |
Aperture | 4.0 |
ApertureValue | 4.0 |
BitsPerSample | 8 |
BlueHue | +11 |
BlueSaturation | -21 |
Brightness | +64 |
CameraProfile | ACR 2.4 |
CFAPattern | [Blue,Green][Green,Red] |
ChromaticAberrationB | 0 |
ChromaticAberrationR | 0 |
CircleOfConfusion | 0.020 mm |
Clarity | 0 |
ColorComponents | 3 |
ColorNoiseReduction | 25 |
Contrast (2) | +32 |
Contrast | Normal |
ConvertToGrayscale | True |
CreateDate (1) | 2009:08:01 19:27:17.90+02:00 |
CreateDate | 2009:08:01 19:27:17 |
CreatorTool | Adobe Photoshop Lightroom |
CustomRendered | Normal |
DateTimeDigitized | 2009:08:01 19:27:17.90+02:00 |
DateTimeOriginal (1) | 2009:08:01 19:27:17.90+02:00 |
DateTimeOriginal | 2009:08:01 19:27:17 |
Defringe | 0 |
DigitalZoomRatio | 1 |
ExifImageHeight | 2000 |
ExifImageWidth | 3008 |
Exposure | 0.00 |
ExposureCompensation | -1/3 |
ExposureMode | Auto |
ExposureProgram | Program AE |
ExposureTime | 1/125 |
FillLight | 0 |
Flash | No Flash |
FlashFired | False |
FlashFunction | False |
FlashMode | Unknown |
FlashRedEyeMode | False |
FlashReturn | No return detection |
FNumber | 4.0 |
FocalLength | 70.0 mm |
FocalLength35efl | 70.0 mm (35 mm equivalent: 105.0 mm) |
FocalLengthIn35mmFormat | 105 mm |
FOV | 19.5 deg |
GainControl | Low gain up |
GrayMixerAqua | +2 |
GrayMixerBlue | +19 |
GrayMixerGreen | 0 |
GrayMixerMagenta | +30 |
GrayMixerOrange | +8 |
GrayMixerPurple | +25 |
GrayMixerRed | +34 |
GrayMixerYellow | -12 |
GreenHue | +16 |
GreenSaturation | +51 |
HasCrop | False |
HasSettings | True |
HighlightRecovery | 0 |
HyperfocalDistance | 61.16 m |
ImageHeight | 2000 |
ImageNumber | 11756 |
ImageSize | 3008x2000 |
ImageWidth | 3008 |
IncrementalTemperature | 0 |
IncrementalTint | 0 |
ISO | 400 |
Lens | 70.0-300.0 mm f/4.0-5.6 |
LensInfo | 70-300mm f/4-5.6 |
LightSource | Unknown |
LightValue | 9.0 |
LuminanceSmoothing | 0 |
Make | NIKON CORPORATION |
MaxApertureValue | 4.0 |
Megapixels | 6.0 |
MeteringMode | Center-weighted average |
Model | NIKON D40 |
ModifyDate (1) | 2009:08:16 07:00:33+02:00 |
ModifyDate | 2009:08:16 07:00:33 |
ParametricDarks | 0 |
ParametricHighlights | 0 |
ParametricHighlightSplit | 75 |
ParametricLights | -2 |
ParametricMidtoneSplit | 50 |
ParametricShadows | 0 |
ParametricShadowSplit | 25 |
PostCropVignetteAmount | 0 |
ProfileDescription | sRGB IEC61966-2.1 |
RedHue | +23 |
RedSaturation | +10 |
Saturation | Normal |
ScaleFactor35efl | 1.5 |
SceneCaptureType | Standard |
SceneType | Directly photographed |
SensingMethod | One-chip color area |
Shadows | 10 |
ShadowTint | +4 |
SharpenDetail | 25 |
SharpenEdgeMasking | 0 |
SharpenRadius | +1.0 |
Sharpness (2) | 25 |
Sharpness | Normal |
ShutterSpeed | 1/125 |
ShutterSpeedValue | 1/125 |
Software | Ver.1.11 |
SplitToningBalance | 0 |
SplitToningHighlightHue | 215 |
SplitToningHighlightSaturation | 32 |
SplitToningShadowHue | 240 |
SplitToningShadowSaturation | 29 |
SubjectDistanceRange | Unknown |
ToneCurve | 0, 0, 255, 255 |
ToneCurveName | Linear |
UserComment | NYHETSBILDER VG NETT/PAPIR |
Version | 4.5 |
VignetteAmount | -100 |
VignetteMidpoint | 40 |
WhiteBalance (2) | As Shot |
WhiteBalance | Manual |