Felt | Verdi |
AlreadyApplied | True |
Aperture | 4.5 |
ApertureValue | 4.5 |
BitsPerSample | 8 |
BlueHue | 0 |
BlueSaturation | 0 |
Brightness | +50 |
CameraProfile | ACR 4.4 |
Caption-Abstract | Ida Gudim Sletner |
ChromaticAberrationB | 0 |
ChromaticAberrationR | 0 |
Clarity | +37 |
ColorComponents | 3 |
ColorMode | RGB |
ColorNoiseReduction | 25 |
ColorSpace | Uncalibrated |
ColorTemperature | 2550 |
Contrast | +25 |
ConvertToGrayscale | False |
Copyright | Kenneth Sortland Myklebust, Kenneth Sortland Myklebust |
CopyrightNotice | Kenneth Sortland Myklebust, Kenneth Sortland Myklebust |
CreateDate | 2009:06:02 18:13:02Z |
CreatorTool | Firmware v4.910 |
Credit (1) | Kenneth Sortland Myklebust / cin |
Credit | Kenneth Sortland Myklebust / cinaed.net, Kenneth Sortland Myklebust / cinaed.net |
CropAngle | 0 |
CropBottom | 0.800525 |
CropHeight | 1 |
CropLeft | 0 |
CropRight | 0.666667 |
CropTop | 0.301476 |
CropUnit | Unknown (3) |
CropWidth | 1 |
DateTimeOriginal (1) | 2009:06:02 18:13:02Z |
DateTimeOriginal | 2009:06:02 18:13:02 |
Defringe | 0 |
Description | Ida Gudim Sletner |
ExifImageHeight | 1000 |
ExifImageWidth | 1000 |
Exposure | +0.15 |
ExposureCompensation | 0 |
ExposureMode | Manual |
ExposureTime | 1/60 |
FillLight | 20 |
Flags | --- |
FNumber | 4.5 |
FocalLength | 0.0 mm |
FocalLength35efl | 0.0 mm |
Format | image/jpeg |
GreenHue | 0 |
GreenSaturation | 0 |
HasCrop | True |
HasSettings | True |
HighlightRecovery | 0 |
HueAdjustmentAqua | 0 |
HueAdjustmentBlue | 0 |
HueAdjustmentGreen | 0 |
HueAdjustmentMagenta | 0 |
HueAdjustmentOrange | 0 |
HueAdjustmentPurple | 0 |
HueAdjustmentRed | 0 |
HueAdjustmentYellow | 0 |
ICCProfileName | Adobe RGB (1998) |
ImageDescription | Ida Gudim Sletner |
ImageHeight | 1000 |
ImageSize | 1000x1000 |
ImageWidth | 1000 |
ISO | 200 |
LightValue | 9.2 |
LuminanceAdjustmentAqua | 0 |
LuminanceAdjustmentBlue | 0 |
LuminanceAdjustmentGreen | 0 |
LuminanceAdjustmentMagenta | 0 |
LuminanceAdjustmentOrange | 0 |
LuminanceAdjustmentPurple | 0 |
LuminanceAdjustmentRed | 0 |
LuminanceAdjustmentYellow | 0 |
LuminanceSmoothing | 0 |
Make | Leaf |
Megapixels | 1.0 |
Model | AFi 75S |
ModifyDate (1) | 2009:06:18 12:06:10+02:00 |
ModifyDate | 2009:06:18 12:06:10 |
ObjectName | Ida Gudim Sletner |
Orientation | Horizontal (normal) |
ParametricDarks | 0 |
ParametricHighlights | 0 |
ParametricHighlightSplit | 75 |
ParametricLights | 0 |
ParametricMidtoneSplit | 50 |
ParametricShadows | 0 |
ParametricShadowSplit | 25 |
PostCropVignetteAmount | 0 |
ProfileDescription | Adobe RGB (1998) |
Rating | 0 |
RawFileName | Ida Gudim Sletner 110.mos |
RedHue | 0 |
RedSaturation | 0 |
Rights | Kenneth Sortland Myklebust, Kenneth Sortland Myklebust |
Saturation | -51 |
SaturationAdjustmentAqua | 0 |
SaturationAdjustmentBlue | 0 |
SaturationAdjustmentGreen | 0 |
SaturationAdjustmentMagenta | 0 |
SaturationAdjustmentOrange | 0 |
SaturationAdjustmentPurple | 0 |
SaturationAdjustmentRed | 0 |
SaturationAdjustmentYellow | 0 |
Shadows | 5 |
ShadowTint | 0 |
SharpenDetail | 25 |
SharpenEdgeMasking | 0 |
SharpenRadius | +1.0 |
Sharpness | 25 |
ShutterSpeed | 1/60 |
ShutterSpeedValue | 1/60 |
Software | Adobe Photoshop CS4 Macintosh |
SplitToningBalance | 0 |
SplitToningHighlightHue | 0 |
SplitToningHighlightSaturation | 0 |
SplitToningShadowHue | 0 |
SplitToningShadowSaturation | 0 |
Tint | -18 |
Title | Ida Gudim Sletner |
ToneCurve | 0, 0, 32, 22, 64, 56, 128, 128, 192, 196, 255, 255 |
ToneCurveName | Medium Contrast |
URL_List | |
Version | 5.0 |
Vibrance | +69 |
VignetteAmount | 0 |
WhiteBalance | Custom |