Felt | Verdi |
AlreadyApplied | True |
Aperture | 8.0 |
ApertureValue | 8.0 |
Artist | Morten Prom |
BitsPerSample | 8 |
BlueHue | 0 |
BlueSaturation | 0 |
Brightness | 0 |
By-line | Morten Prom |
CameraProfile | Embedded |
Caption-Abstract | Sometimes objects in our everyday life can be so beautiful :) |
ChromaticAberrationB | 0 |
ChromaticAberrationR | 0 |
CircleOfConfusion | 0.019 mm |
Clarity | +50 |
ColorComponents | 3 |
ColorMode | RGB |
ColorNoiseReduction | 0 |
ColorSpace (1) | Unknown (-1) |
ColorSpace | Uncalibrated |
Contrast | 0 |
ConvertToGrayscale | True |
Copyright | Copyright Morten Prom |
CopyrightFlag | True |
CopyrightNotice | Copyright Morten Prom |
CreateDate (1) | 2009:06:01 16:26:08+02:00 |
CreateDate | 2009:05:27 19:31:42 |
Creator | Morten Prom |
CreatorCity | Oslo |
CreatorCountry | Norway |
CreatorTool | Adobe Photoshop CS3 Windows |
CreatorWorkEmail | morten.prom@gmail.com |
CreatorWorkURL | http://www.mortenprom.com/ |
CropAngle | 2.45424 |
CropBottom | 1 |
CropHeight | 979 |
CropLeft | 0.037651 |
CropRight | 0.836919 |
CropTop | 0 |
CropUnit | pixels |
CropWidth | 1281 |
CustomRendered | Normal |
DateTimeDigitized | 2009:05:27 19:31:42.00+02:00 |
DateTimeOriginal (1) | 2009:05:27 19:31:42.00+02:00 |
DateTimeOriginal | 2009:05:27 19:31:42 |
Defringe | 0 |
DerivedFrom | |
Description | Sometimes objects in our everyday life can be so beautiful :) |
ExifImageHeight | 979 |
ExifImageWidth | 1281 |
Exposure | 0.00 |
ExposureCompensation | 0 |
ExposureMode | Auto |
ExposureProgram | Aperture-priority AE |
ExposureTime | 1/500 |
FillLight | 0 |
Firmware | 1.0.8 |
Flash | Off, Did not fire |
FlashCompensation | 0 |
FlashFired | False |
FlashFunction | False |
FlashMode | Off |
FlashRedEyeMode | False |
FlashReturn | No return detection |
FNumber | 8.0 |
FocalLength | 70.0 mm |
FocalLength35efl | 70.0 mm (35 mm equivalent: 113.3 mm) |
Format | image/jpeg |
FOV | 18.1 deg |
GrayMixerAqua | -18 |
GrayMixerBlue | +9 |
GrayMixerGreen | -27 |
GrayMixerMagenta | +4 |
GrayMixerOrange | -19 |
GrayMixerPurple | +15 |
GrayMixerRed | -9 |
GrayMixerYellow | -22 |
GreenHue | 0 |
GreenSaturation | 0 |
HasCrop | True |
HasSettings | True |
HierarchicalSubject | 2009, abstract, architecture, black, bw, canon 40d, canon 70-200mm f/4L, clouds, cloudy, color, dark, evening, fence, granite, gray, iron, light, may, metal, mortenprom, mysterious, norge, norway, oslo, silhouette, sky, steel, stone, tele |
HighlightRecovery | 34 |
HyperfocalDistance | 33.00 m |
ICCProfileName | Adobe RGB (1998) |
ImageDescription | Sometimes objects in our everyday life can be so beautiful :) |
ImageHeight | 979 |
ImageNumber | 0 |
ImageSize | 1281x979 |
ImageWidth | 1281 |
IncrementalTemperature | 0 |
IncrementalTint | 0 |
ISO | 100 |
Keywords | 2009, abstract, architecture, black, bw, canon 40d, canon 70-200mm f/4L, clouds, cloudy, color, dark, evening, fence, granite, gray, iron, light, may, metal, mortenprom, mysterious, norge, norway, oslo, silhouette, sky, steel, stone, tele |
Lens | EF70-200mm f/4L USM |
LensInfo | 70-200mm f/? |
LightValue | 15.0 |
LuminanceSmoothing | 0 |
Make | Canon |
Marked | True |
MaxApertureValue | 4.0 |
Megapixels | 1.3 |
MeteringMode | Multi-segment |
Model | Canon EOS 40D |
ModifyDate (1) | 2009:06:01 16:26:08+02:00 |
ModifyDate | 2009:06:01 16:26:08 |
ObjectName | Curved Harmony |
Orientation | Horizontal (normal) |
ParametricDarks | +21 |
ParametricHighlights | 0 |
ParametricHighlightSplit | 75 |
ParametricLights | 0 |
ParametricMidtoneSplit | 50 |
ParametricShadows | +37 |
ParametricShadowSplit | 25 |
PostCropVignetteAmount | 0 |
ProfileDescription | Adobe RGB (1998) |
Rating | 5 |
RedHue | 0 |
RedSaturation | 0 |
Rights | Copyright Morten Prom |
ScaleFactor35efl | 1.6 |
SceneCaptureType | Standard |
SerialNumber | 330112890 |
Shadows | 0 |
ShadowTint | 0 |
SharpenDetail | 25 |
SharpenEdgeMasking | 0 |
SharpenRadius | +1.0 |
Sharpness | 0 |
ShutterSpeed | 1/500 |
ShutterSpeedValue | 1/500 |
Software | Adobe Photoshop CS3 Windows |
SplitToningBalance | 0 |
SplitToningHighlightHue | 81 |
SplitToningHighlightSaturation | 19 |
SplitToningShadowHue | 225 |
SplitToningShadowSaturation | 16 |
Subject | 2009, abstract, architecture, black, bw, canon 40d, canon 70-200mm f/4L, clouds, cloudy, color, dark, evening, fence, granite, gray, iron, light, may, metal, mortenprom, mysterious, norge, norway, oslo, silhouette, sky, steel, stone, tele |
Title | Curved Harmony |
ToneCurve | 0, 0, 255, 255 |
ToneCurveName | Linear |
URL | http://www.mortenprom.com/ |
URL_List | |
UsageTerms | http://www.mortenprom.com/ |
Version | 4.5 |
VignetteAmount | 0 |
WebStatement | http://www.mortenprom.com/ |
WhiteBalance (2) | As Shot |
WhiteBalance | Auto |