Felt | Verdi |
AlreadyApplied | True |
Aperture | 6.3 |
ApertureValue | 6.3 |
BitsPerSample (1) | 16, 16, 16 |
BitsPerSample (2) | 16 16 16 |
BitsPerSample | 8 |
BlueHue | 0 |
BlueSaturation | 0 |
Brightness | +50 |
CameraProfile | Adobe Standard |
ChromaticAberrationB | 0 |
ChromaticAberrationR | 0 |
CircleOfConfusion | 0.031 mm |
Clarity | +12 |
ColorComponents | 3 |
ColorMode | RGB |
ColorNoiseReduction | 5 |
ColorSpace | sRGB |
ColorTemperature | 4450 |
Contrast | +37 |
ConvertToGrayscale | False |
CopyrightFlag | False |
CreateDate (1) | 2009:05:18 18:15:03+02:00 |
CreateDate | 2009:05:15 20:23:33 |
CreatorTool | Adobe Photoshop CS3 Windows |
CropAngle | 9.09313 |
CropBottom | 1 |
CropHeight | 2864 |
CropLeft | 0.213957 |
CropRight | 0.733757 |
CropTop | 0.100561 |
CropUnit | pixels |
CropWidth | 3415 |
CustomRendered | Normal |
DateTimeDigitized | 2009:05:15 20:23:33.91+02:00 |
DateTimeOriginal (1) | 2009:05:15 20:23:33.91+02:00 |
DateTimeOriginal | 2009:05:15 20:23:33 |
Defringe | 0 |
ExifImageHeight | 768 |
ExifImageWidth | 913 |
Exposure | +0.19 |
ExposureCompensation | -1 |
ExposureMode | Auto |
ExposureProgram | Aperture-priority AE |
ExposureTime | 1/800 |
FillLight | 0 |
Firmware | 1.0.7 |
Flash | Off, Did not fire |
FlashCompensation | 0 |
FlashFired | False |
FlashFunction | False |
FlashMode | Off |
FlashRedEyeMode | False |
FlashReturn | No return detection |
FNumber | 6.3 |
FocalLength | 400.0 mm |
FocalLength35efl | 400.0 mm (35 mm equivalent: 390.4 mm) |
Format | image/jpeg |
FOV | 5.3 deg |
GreenHue | 0 |
GreenSaturation | 0 |
HasCrop | True |
HasSettings | True |
HighlightRecovery | 100 |
HueAdjustmentAqua | 0 |
HueAdjustmentBlue | 0 |
HueAdjustmentGreen | 0 |
HueAdjustmentMagenta | 0 |
HueAdjustmentOrange | 0 |
HueAdjustmentPurple | 0 |
HueAdjustmentRed | 0 |
HueAdjustmentYellow | 0 |
HyperfocalDistance | 824.92 m |
ICCProfileName | sRGB IEC61966-2.1 |
ImageHeight (1) | 2724 |
ImageHeight (2) | 2864 |
ImageHeight | 768 |
ImageNumber | 0 |
ImageSize | 913x768 |
ImageWidth (1) | 3237 |
ImageWidth (2) | 3415 |
ImageWidth | 913 |
ISO | 200 |
Lens | EF100-400mm f/4.5-5.6L IS USM |
LensInfo | 100-400mm f/? |
LightValue | 14.0 |
LuminanceAdjustmentAqua | 0 |
LuminanceAdjustmentBlue | 0 |
LuminanceAdjustmentGreen | 0 |
LuminanceAdjustmentMagenta | 0 |
LuminanceAdjustmentOrange | 0 |
LuminanceAdjustmentPurple | 0 |
LuminanceAdjustmentRed | 0 |
LuminanceAdjustmentYellow | 0 |
LuminanceSmoothing | 24 |
Make | Canon |
MaxApertureValue | 4.6 |
Megapixels | 0.701 |
MeteringMode | Multi-segment |
Model | Canon EOS 5D Mark II |
ModifyDate (1) | 2009:05:18 18:53:44+02:00 |
ModifyDate | 2009:05:18 18:53:44 |
Orientation | Horizontal (normal) |
ParametricDarks | 0 |
ParametricHighlights | -29 |
ParametricHighlightSplit | 75 |
ParametricLights | -10 |
ParametricMidtoneSplit | 50 |
ParametricShadows | 0 |
ParametricShadowSplit | 25 |
PhotometricInterpretation | RGB |
PlanarConfiguration | Chunky |
PostCropVignetteAmount | 0 |
ProfileDescription | sRGB IEC61966-2.1 |
RedHue | 0 |
RedSaturation | 0 |
SamplesPerPixel | 3 |
Saturation | 0 |
SaturationAdjustmentAqua | 0 |
SaturationAdjustmentBlue | 0 |
SaturationAdjustmentGreen | 0 |
SaturationAdjustmentMagenta | 0 |
SaturationAdjustmentOrange | 0 |
SaturationAdjustmentPurple | 0 |
SaturationAdjustmentRed | 0 |
SaturationAdjustmentYellow | 0 |
ScaleFactor35efl | 1.0 |
SceneCaptureType | Standard |
SerialNumber | 530320270 |
Shadows | 0 |
ShadowTint | 0 |
SharpenDetail | 25 |
SharpenEdgeMasking | 13 |
SharpenRadius | +1.0 |
Sharpness | 52 |
ShutterSpeed | 1/800 |
ShutterSpeedValue | 1/800 |
Software | Adobe Photoshop CS3 Windows |
SplitToningBalance | 0 |
SplitToningHighlightHue | 0 |
SplitToningHighlightSaturation | 0 |
SplitToningShadowHue | 0 |
SplitToningShadowSaturation | 0 |
Tint | -3 |
ToneCurve | 0, 0, 32, 22, 64, 56, 128, 128, 192, 196, 255, 255 |
ToneCurveName | Medium Contrast |
URL_List | |
Version | 5.3 |
Vibrance | 0 |
VignetteAmount | 0 |
WhiteBalance (2) | As Shot |
WhiteBalance | Auto |