Felt | Verdi |
AlreadyApplied | True |
Aperture | 4.0 |
ApertureValue | 4.0 |
BitsPerSample (1) | 16, 16, 16 |
BitsPerSample (2) | 16 16 16 |
BitsPerSample | 8 |
BlueHue | 0 |
BlueSaturation | 0 |
Brightness | +50 |
CameraProfile | Adobe Standard |
ChromaticAberrationB | 0 |
ChromaticAberrationR | 0 |
CircleOfConfusion | 0.031 mm |
Clarity | +5 |
ColorComponents | 1 |
ColorMode | RGB |
ColorNoiseReduction | 5 |
ColorSpace | sRGB |
ColorTemperature | 5150 |
Contrast | +34 |
ConvertToGrayscale | False |
CopyrightFlag | False |
CreateDate (1) | 2009:05:18 19:32:46+02:00 |
CreateDate | 2009:05:15 20:07:26 |
CreatorTool | Adobe Photoshop CS3 Windows |
CropAngle | 0 |
CropBottom | 1 |
CropHeight | 3744 |
CropLeft | 0 |
CropRight | 0.665061 |
CropTop | 0 |
CropUnit | pixels |
CropWidth | 3735 |
CustomRendered | Normal |
DateTimeDigitized | 2009:05:15 20:07:26.12+02:00 |
DateTimeOriginal (1) | 2009:05:15 20:07:26.12+02:00 |
DateTimeOriginal | 2009:05:15 20:07:26 |
Defringe | 0 |
ExifImageHeight | 768 |
ExifImageWidth | 814 |
Exposure | +0.10 |
ExposureCompensation | -1/3 |
ExposureMode | Auto |
ExposureProgram | Aperture-priority AE |
ExposureTime | 1/320 |
FillLight | 4 |
Firmware | 1.0.7 |
Flash | Off, Did not fire |
FlashCompensation | 0 |
FlashFired | False |
FlashFunction | False |
FlashMode | Off |
FlashRedEyeMode | False |
FlashReturn | No return detection |
FNumber | 4.0 |
FocalLength | 32.0 mm |
FocalLength35efl | 32.0 mm (35 mm equivalent: 31.2 mm) |
Format | image/jpeg |
FOV | 59.9 deg |
GreenHue | 0 |
GreenSaturation | 0 |
HasCrop | True |
HasSettings | True |
HighlightRecovery | 29 |
HueAdjustmentAqua | 0 |
HueAdjustmentBlue | 0 |
HueAdjustmentGreen | 0 |
HueAdjustmentMagenta | 0 |
HueAdjustmentOrange | 0 |
HueAdjustmentPurple | 0 |
HueAdjustmentRed | 0 |
HueAdjustmentYellow | 0 |
HyperfocalDistance | 8.32 m |
ICCProfileName | sRGB IEC61966-2.1 |
ImageHeight (1) | 3373 |
ImageHeight (2) | 3735 |
ImageHeight | 768 |
ImageNumber | 0 |
ImageSize | 814x768 |
ImageWidth (1) | 3575 |
ImageWidth (2) | 3744 |
ImageWidth | 814 |
ISO | 200 |
Lens | EF24-105mm f/4L IS USM |
LensInfo | 24-105mm f/? |
LightValue | 11.3 |
LuminanceAdjustmentAqua | 0 |
LuminanceAdjustmentBlue | 0 |
LuminanceAdjustmentGreen | 0 |
LuminanceAdjustmentMagenta | 0 |
LuminanceAdjustmentOrange | 0 |
LuminanceAdjustmentPurple | 0 |
LuminanceAdjustmentRed | 0 |
LuminanceAdjustmentYellow | 0 |
LuminanceSmoothing | 26 |
Make | Canon |
MaxApertureValue | 4.0 |
Megapixels | 0.625 |
MeteringMode | Multi-segment |
Model | Canon EOS 5D Mark II |
ModifyDate (1) | 2009:05:18 19:32:46+02:00 |
ModifyDate | 2009:05:18 19:32:46 |
Orientation | Horizontal (normal) |
ParametricDarks | 0 |
ParametricHighlights | -2 |
ParametricHighlightSplit | 75 |
ParametricLights | -5 |
ParametricMidtoneSplit | 50 |
ParametricShadows | -2 |
ParametricShadowSplit | 25 |
PhotometricInterpretation | RGB |
PlanarConfiguration | Chunky |
PostCropVignetteAmount | 0 |
ProfileDescription | sRGB IEC61966-2.1 |
RedHue | 0 |
RedSaturation | 0 |
SamplesPerPixel | 3 |
Saturation | 0 |
SaturationAdjustmentAqua | 0 |
SaturationAdjustmentBlue | 0 |
SaturationAdjustmentGreen | 0 |
SaturationAdjustmentMagenta | 0 |
SaturationAdjustmentOrange | 0 |
SaturationAdjustmentPurple | 0 |
SaturationAdjustmentRed | 0 |
SaturationAdjustmentYellow | 0 |
ScaleFactor35efl | 1.0 |
SceneCaptureType | Standard |
SerialNumber | 530320270 |
Shadows | 2 |
ShadowTint | 0 |
SharpenDetail | 30 |
SharpenEdgeMasking | 14 |
SharpenRadius | +1.0 |
Sharpness | 55 |
ShutterSpeed | 1/320 |
ShutterSpeedValue | 1/320 |
Software | Adobe Photoshop CS3 Windows |
SplitToningBalance | 0 |
SplitToningHighlightHue | 0 |
SplitToningHighlightSaturation | 0 |
SplitToningShadowHue | 0 |
SplitToningShadowSaturation | 0 |
Tint | -5 |
ToneCurve | 0, 0, 32, 22, 64, 56, 128, 128, 192, 196, 255, 255 |
ToneCurveName | Medium Contrast |
URL_List | |
Version | 5.3 |
Vibrance | 0 |
VignetteAmount | 0 |
WhiteBalance (2) | Custom |
WhiteBalance | Auto |