Felt | Verdi |
"Opphavsretten tilhører skribenten/fotogr |
"Opphavsretten tilhører skribenten/fotografen, og teksten/bildene leveres med reproduksjonsrett for gangs bruk. Teksten/bildene må ikke videreselges, kopieres, lagres digitalt eller lånes ut til tredjemann uten samtykke fra opphavsmann. Opphavsmannens navn skal angis ved enhver bruk av teksten/bildene. Det er ikke tillatt å manipulere med opphavsmannens materiale." |
AlreadyApplied | True |
Aperture | 20.0 |
ApertureValue | 20.0 |
BitsPerSample (1) | 8, 8, 8 |
BitsPerSample | 8 |
BlueHue | 0 |
BlueSaturation | 0 |
Brightness | +54 |
CameraProfile | ACR 4.4 |
Caption-Abstract | signert fotograf svein engum |
CFAPattern | [Red,Green][Green,Blue] |
ChromaticAberrationB | 0 |
ChromaticAberrationR | 0 |
CircleOfConfusion | 0.020 mm |
Clarity | +33 |
ColorComponents | 3 |
ColorMode | RGB |
ColorNoiseReduction | 25 |
ColorSpace | Uncalibrated |
ColorTemperature | 6200 |
Contrast (2) | +38 |
Contrast | Normal |
ConvertToGrayscale | False |
Copyright | svein engum er eier av bildet, brudd på copyright loven blir etterfulgt etter loven.
CopyrightNotice | svein engum er eier av bildet, brudd på copyright loven blir etterfulgt etter loven.
CreateDate (1) | 2009:05:16 21:22:37.25+02:00 |
CreateDate | 2009:05:16 21:22:37 |
CreatorTool | Ver.1.00 |
CustomRendered | Custom |
DateTimeDigitized | 2009:05:16 21:22:37.25+02:00 |
DateTimeOriginal (1) | 2009:05:16 21:22:37.25+02:00 |
DateTimeOriginal | 2009:05:16 21:22:37 |
Defringe | 0 |
Description | signert fotograf svein engum |
DigitalZoomRatio | 1 |
ExifImageHeight | 1024 |
ExifImageWidth | 865 |
Exposure | -0.45 |
ExposureCompensation | 0 |
ExposureMode | Manual |
ExposureProgram | Manual |
ExposureTime | 20 |
FillLight | 0 |
Flash | No Flash |
FlashFired | False |
FlashFunction | False |
FlashMode | Unknown |
FlashRedEyeMode | False |
FlashReturn | No return detection |
FNumber | 20.0 |
FocalLength | 50.0 mm |
FocalLength35efl | 50.0 mm (35 mm equivalent: 75.0 mm) |
FocalLengthIn35mmFormat | 75 mm |
Format | image/jpeg |
FOV | 27.0 deg |
GainControl | None |
GreenHue | 0 |
GreenSaturation | 0 |
HasCrop | False |
HasSettings | True |
HighlightRecovery | 0 |
HueAdjustmentAqua | 0 |
HueAdjustmentBlue | 0 |
HueAdjustmentGreen | 0 |
HueAdjustmentMagenta | 0 |
HueAdjustmentOrange | 0 |
HueAdjustmentPurple | 0 |
HueAdjustmentRed | 0 |
HueAdjustmentYellow | 0 |
HyperfocalDistance | 6.24 m |
ICCProfileName | Adobe RGB (1998) |
ImageDescription | signert fotograf svein engum |
ImageHeight (1) | 2665 |
ImageHeight | 1024 |
ImageNumber | 18722 |
ImageSize | 865x1024 |
ImageWidth (1) | 2247 |
ImageWidth | 865 |
ISO | 100 |
Lens | 18.0-270.0 mm f/3.5-6.3 |
LensInfo | 18-270mm f/3.5-6.3 |
LightSource | Cloudy |
LightValue | 4.3 |
LuminanceAdjustmentAqua | 0 |
LuminanceAdjustmentBlue | 0 |
LuminanceAdjustmentGreen | 0 |
LuminanceAdjustmentMagenta | 0 |
LuminanceAdjustmentOrange | 0 |
LuminanceAdjustmentPurple | 0 |
LuminanceAdjustmentRed | 0 |
LuminanceAdjustmentYellow | 0 |
LuminanceSmoothing | 0 |
Make | NIKON CORPORATION |
MaxApertureValue | 4.4 |
Megapixels | 0.886 |
MeteringMode | Multi-segment |
Model | NIKON D300 |
ModifyDate (1) | 2009:05:17 03:36:26+02:00 |
ModifyDate | 2009:05:17 03:36:26 |
ObjectName | Vannglimt |
Orientation | Horizontal (normal) |
ParametricDarks | -8 |
ParametricHighlights | -68 |
ParametricHighlightSplit | 75 |
ParametricLights | +1 |
ParametricMidtoneSplit | 50 |
ParametricShadows | +8 |
ParametricShadowSplit | 25 |
PhotometricInterpretation | RGB |
PlanarConfiguration | Chunky |
PostCropVignetteAmount | 0 |
ProfileDescription | Adobe RGB (1998) |
Rating | 0 |
RawFileName | _DSC9114.NEF |
RedHue | 0 |
RedSaturation | 0 |
Rights | svein engum er eier av bildet, brudd på copyright loven blir etterfulgt etter loven.
SamplesPerPixel | 3 |
Saturation (2) | -2 |
Saturation | Normal |
SaturationAdjustmentAqua | 0 |
SaturationAdjustmentBlue | 0 |
SaturationAdjustmentGreen | 0 |
SaturationAdjustmentMagenta | 0 |
SaturationAdjustmentOrange | 0 |
SaturationAdjustmentPurple | 0 |
SaturationAdjustmentRed | 0 |
SaturationAdjustmentYellow | 0 |
ScaleFactor35efl | 1.5 |
SceneCaptureType | Standard |
SceneType | Directly photographed |
SensingMethod | One-chip color area |
SerialNumber | 2077811 |
Shadows | 1 |
ShadowTint | 0 |
SharpenDetail | 25 |
SharpenEdgeMasking | 0 |
SharpenRadius | +1.0 |
Sharpness (2) | 25 |
Sharpness | Normal |
ShutterSpeed | 20 |
ShutterSpeedValue | 20 |
Software | Adobe Photoshop CS4 Windows |
SplitToningBalance | 0 |
SplitToningHighlightHue | 0 |
SplitToningHighlightSaturation | 0 |
SplitToningShadowHue | 0 |
SplitToningShadowSaturation | 0 |
SubjectDistanceRange | Unknown |
Tint | 0 |
Title | Vannglimt |
ToneCurve | 0, 0, 32, 22, 64, 56, 128, 128, 192, 196, 255, 255 |
ToneCurveName | Medium Contrast |
URL_List | |
Version | 5.0 |
Vibrance | +30 |
VignetteAmount | 0 |
WhiteBalance (2) | Custom |
WhiteBalance | Manual |