Felt | Verdi |
AlreadyApplied | True |
Aperture | 6.3 |
ApertureValue | 6.3 |
BitsPerSample | 8 |
BlueHue | 0 |
BlueSaturation | 0 |
Brightness | +50 |
CameraProfile | ACR 4.4 |
CFAPattern | [Red,Green][Green,Blue] |
ChromaticAberrationB | 0 |
ChromaticAberrationR | 0 |
CircleOfConfusion | 0.020 mm |
Clarity | +15 |
ColorComponents | 3 |
ColorMode | RGB |
ColorNoiseReduction | 69 |
ColorSpace (1) | Unknown (-1) |
ColorSpace | Uncalibrated |
ColorTemperature | 5500 |
Contrast (2) | +25 |
Contrast | Normal |
ConvertToGrayscale | False |
CopyrightFlag | False |
CreateDate (1) | 2009:04:14 12:43:05+02:00 |
CreateDate | 2009:04:14 12:11:23 |
CreatorTool | Adobe Photoshop CS3 Windows |
CustomRendered | Normal |
DateTimeDigitized | 2009:04:14 12:11:23.17+02:00 |
DateTimeOriginal (1) | 2009:04:14 12:11:23.17+02:00 |
DateTimeOriginal | 2009:04:14 12:11:23 |
Defringe | 0 |
DerivedFrom | |
DigitalZoomRatio | 1 |
ExifImageHeight | 587 |
ExifImageWidth | 1000 |
Exposure | 0.00 |
ExposureCompensation | 0 |
ExposureMode | Auto |
ExposureProgram | Aperture-priority AE |
ExposureTime | 1/1000 |
FillLight | 8 |
Flash | No Flash |
FlashFired | False |
FlashFunction | False |
FlashMode | Unknown |
FlashRedEyeMode | False |
FlashReturn | No return detection |
FNumber | 6.3 |
FocalLength | 340.0 mm |
FocalLength35efl | 340.0 mm (35 mm equivalent: 510.0 mm) |
FocalLengthIn35mmFormat | 510 mm |
Format | image/jpeg |
FOV | 4.0 deg |
GainControl | None |
GreenHue | 0 |
GreenSaturation | 0 |
HasCrop | False |
HasSettings | True |
HighlightRecovery | 33 |
HueAdjustmentAqua | 0 |
HueAdjustmentBlue | 0 |
HueAdjustmentGreen | 0 |
HueAdjustmentMagenta | 0 |
HueAdjustmentOrange | 0 |
HueAdjustmentPurple | 0 |
HueAdjustmentRed | 0 |
HueAdjustmentYellow | 0 |
HyperfocalDistance | 916.05 m |
ICCProfileName | Adobe RGB (1998) |
ImageHeight | 587 |
ImageNumber | 25358 |
ImageSize | 1000x587 |
ImageWidth | 1000 |
ISO | 200 |
Lens | 70.0-200.0 mm f/2.8 |
LensInfo | 70-200mm f/2.8 |
LightSource | Fine Weather |
LightValue | 14.3 |
LuminanceAdjustmentAqua | 0 |
LuminanceAdjustmentBlue | 0 |
LuminanceAdjustmentGreen | 0 |
LuminanceAdjustmentMagenta | 0 |
LuminanceAdjustmentOrange | 0 |
LuminanceAdjustmentPurple | 0 |
LuminanceAdjustmentRed | 0 |
LuminanceAdjustmentYellow | 0 |
LuminanceSmoothing | 80 |
Make | NIKON CORPORATION |
MaxApertureValue | 4.8 |
Megapixels | 0.587 |
MeteringMode | Spot |
Model | NIKON D300 |
ModifyDate (1) | 2009:04:14 12:43:05+02:00 |
ModifyDate | 2009:04:14 12:43:05 |
Orientation | Horizontal (normal) |
ParametricDarks | +13 |
ParametricHighlights | +4 |
ParametricHighlightSplit | 75 |
ParametricLights | +7 |
ParametricMidtoneSplit | 50 |
ParametricShadows | +21 |
ParametricShadowSplit | 25 |
PostCropVignetteAmount | 0 |
ProfileDescription | Adobe RGB (1998) |
Rating | 0 |
RawFileName | DSC_5346.NEF |
RedHue | 0 |
RedSaturation | 0 |
Saturation (2) | 0 |
Saturation | Normal |
SaturationAdjustmentAqua | 0 |
SaturationAdjustmentBlue | 0 |
SaturationAdjustmentGreen | 0 |
SaturationAdjustmentMagenta | 0 |
SaturationAdjustmentOrange | 0 |
SaturationAdjustmentPurple | 0 |
SaturationAdjustmentRed | 0 |
SaturationAdjustmentYellow | 0 |
ScaleFactor35efl | 1.5 |
SceneCaptureType | Standard |
SceneType | Directly photographed |
SensingMethod | One-chip color area |
SerialNumber | 4073404 |
Shadows | 5 |
ShadowTint | 0 |
SharpenDetail | 25 |
SharpenEdgeMasking | 0 |
SharpenRadius | +1.0 |
Sharpness (2) | 25 |
Sharpness | Normal |
ShutterSpeed | 1/1000 |
ShutterSpeedValue | 1/1000 |
SidecarForExtension | NEF |
Software | Adobe Photoshop CS3 Windows |
SplitToningBalance | 0 |
SplitToningHighlightHue | 0 |
SplitToningHighlightSaturation | 0 |
SplitToningShadowHue | 0 |
SplitToningShadowSaturation | 0 |
SubjectDistanceRange | Unknown |
Tint | +10 |
ToneCurve | 0, 0, 32, 22, 64, 56, 128, 128, 192, 196, 255, 255 |
ToneCurveName | Medium Contrast |
URL_List | |
Version | 4.6 |
Vibrance | +13 |
VignetteAmount | 0 |
WhiteBalance (2) | Daylight |
WhiteBalance | Manual |