Felt | Verdi |
AlreadyApplied | True |
Aperture | 3.6 |
ApertureValue | 3.6 |
BitsPerSample | 8 |
BlueHue | 0 |
BlueSaturation | 0 |
Brightness | +4 |
BrightnessValue | 7.7421875 |
CameraProfile | Embedded |
ChromaticAberrationB | 0 |
ChromaticAberrationR | 0 |
Clarity | 35 |
ColorComponents | 3 |
ColorNoiseReduction | 0 |
Contrast (2) | +12 |
Contrast | Normal |
ConvertToGrayscale | False |
Copyright | Helene Laeknes |
CopyrightNotice | Helene Læknes |
CreateDate | 2008:07:01 00:32:31 |
CreatorTool | Adobe Photoshop Lightroom |
CropAngle | 6.783049 |
CropBottom | 0.970057 |
CropHeight | 2837 |
CropLeft | 0.136882 |
CropRight | 0.863118 |
CropTop | 0.029943 |
CropUnit | pixels |
CropWidth | 2128 |
DateTimeDigitized | 2008:07:01 00:32:31+02:00 |
DateTimeOriginal (1) | 2008:07:01 00:32:31+02:00 |
DateTimeOriginal | 2008:07:01 00:32:31 |
Defringe | 0 |
Exposure | +0.19 |
ExposureCompensation | 0 |
ExposureIndex | 100 |
ExposureMode | Auto |
ExposureProgram | Program AE |
ExposureTime | 1/270 |
FillLight | 12 |
Flash | Auto, Did not fire |
FlashFired | False |
FlashFunction | False |
FlashMode | Auto |
FlashRedEyeMode | False |
FlashReturn | No return detection |
FNumber | 3.6 |
FocalLength | 6.5 mm |
FocalLength35efl | 6.5 mm |
GreenHue | 0 |
GreenSaturation | 0 |
HasCrop | True |
HasSettings | True |
HighlightRecovery | 43 |
HueAdjustmentAqua | +21 |
HueAdjustmentBlue | +21 |
HueAdjustmentGreen | 0 |
HueAdjustmentMagenta | 0 |
HueAdjustmentOrange | 0 |
HueAdjustmentPurple | 0 |
HueAdjustmentRed | 0 |
HueAdjustmentYellow | -21 |
ImageHeight | 2837 |
ImageSize | 2128x2837 |
ImageWidth | 2128 |
IncrementalTemperature | 0 |
IncrementalTint | 0 |
ISO | 100 |
LightSource (1) | Unknown (16128) |
LightValue | 11.8 |
LuminanceAdjustmentAqua | 0 |
LuminanceAdjustmentBlue | +62 |
LuminanceAdjustmentGreen | 0 |
LuminanceAdjustmentMagenta | 0 |
LuminanceAdjustmentOrange | 0 |
LuminanceAdjustmentPurple | -2 |
LuminanceAdjustmentRed | 0 |
LuminanceAdjustmentYellow | 0 |
LuminanceSmoothing | 0 |
Make | Hewlett-Packard |
Marked | True |
MaxApertureValue | 3.5 |
Megapixels | 6.0 |
MeteringMode | Average |
Model | HP Photosmart R840 |
ModifyDate (1) | 2009:01:18 14:12:33+01:00 |
ModifyDate | 2009:01:18 14:12:33 |
ParametricDarks | 0 |
ParametricHighlights | 0 |
ParametricHighlightSplit | 75 |
ParametricLights | 0 |
ParametricMidtoneSplit | 50 |
ParametricShadows | 0 |
ParametricShadowSplit | 25 |
ProfileDescription | Adobe RGB (1998) |
RedHue | 0 |
RedSaturation | 0 |
Rights | Helene Læknes |
Saturation (2) | 0 |
Saturation | Normal |
SaturationAdjustmentAqua | +19 |
SaturationAdjustmentBlue | +19 |
SaturationAdjustmentGreen | 0 |
SaturationAdjustmentMagenta | 0 |
SaturationAdjustmentOrange | +21 |
SaturationAdjustmentPurple | 0 |
SaturationAdjustmentRed | 0 |
SaturationAdjustmentYellow | +26 |
SceneCaptureType | Standard |
SceneType | Directly photographed |
SensingMethod (1) | Monochrome area |
SensingMethod | Not defined |
Shadows | 4 |
ShadowTint | 0 |
SharpenDetail | 40 |
SharpenEdgeMasking | 17 |
SharpenRadius | +1.5 |
Sharpness (2) | 62 |
Sharpness | Hard |
ShutterSpeed | 1/270 |
ShutterSpeedValue | 1/270 |
Software | ACD Systems Digital Imaging |
SplitToningBalance | 0 |
SplitToningHighlightHue | 0 |
SplitToningHighlightSaturation | 0 |
SplitToningShadowHue | 0 |
SplitToningShadowSaturation | 0 |
SubjectDistance | 3.246 m |
SubjectDistanceRange | Distant |
ToneCurve | 0, 0, 255, 255 |
ToneCurveName | Linear |
UsageTerms | Ask first |
Version | 4.4.1 |
Vibrance | +19 |
VignetteAmount | 0 |
WebStatement | www.helenefoto.com |
WhiteBalance (2) | As Shot |
WhiteBalance | Auto |