Felt | Verdi |
AlreadyApplied | True |
Aperture | 6.3 |
ApertureValue | 6.3 |
BitsPerSample | 8 |
BlueHue | 0 |
BlueSaturation | 0 |
Brightness | 0 |
CameraProfile | Embedded |
ChromaticAberrationB | 0 |
ChromaticAberrationR | 0 |
CircleOfConfusion | 0.019 mm |
Clarity | 49 |
ColorComponents | 1 |
ColorNoiseReduction | 0 |
Contrast | +39 |
ConvertToGrayscale | True |
Copyright | Helene Laeknes |
CopyrightNotice | Helene Læknes |
CreateDate | 2009:03:27 16:32:45 |
CreatorTool | Adobe Photoshop Lightroom |
CropAngle | 0 |
CropBottom | 1 |
CropHeight | 3456 |
CropLeft | 0.204548 |
CropRight | 0.750001 |
CropTop | 0 |
CropUnit | pixels |
CropWidth | 1257 |
CustomRendered | Normal |
DateTimeDigitized | 2009:03:27 16:32:45+01:00 |
DateTimeOriginal (1) | 2009:03:27 16:32:45+01:00 |
DateTimeOriginal | 2009:03:27 16:32:45 |
Defringe | 0 |
Exposure | -0.86 |
ExposureCompensation | 0 |
ExposureMode | Auto |
ExposureProgram | Program AE |
ExposureTime | 1/80 |
FillLight | 0 |
Firmware | Kirsten |
Flash | Off, Did not fire |
FlashCompensation | 0 |
FlashFired | False |
FlashFunction | False |
FlashMode | Off |
FlashRedEyeMode | False |
FlashReturn | No return detection |
FNumber | 6.3 |
FocalLength | 35.0 mm |
FocalLength35efl | 35.0 mm (35 mm equivalent: 56.8 mm) |
FOV | 35.2 deg |
GrayMixerAqua | -17 |
GrayMixerBlue | -45 |
GrayMixerGreen | -27 |
GrayMixerMagenta | +3 |
GrayMixerOrange | -20 |
GrayMixerPurple | +17 |
GrayMixerRed | -31 |
GrayMixerYellow | -24 |
GreenHue | 0 |
GreenSaturation | 0 |
HasCrop | True |
HasSettings | True |
HighlightRecovery | 100 |
HyperfocalDistance | 10.50 m |
ImageHeight | 3456 |
ImageNumber | 0 |
ImageSize | 1257x3456 |
ImageWidth | 1257 |
IncrementalTemperature | 0 |
IncrementalTint | 0 |
ISO | 200 |
Keywords | Paris |
LightValue | 10.6 |
LuminanceSmoothing | 0 |
Make | Canon |
Marked | True |
MaxApertureValue | 1.0 |
Megapixels | 4.3 |
MeteringMode | Partial |
Model | Canon EOS 350D DIGITAL |
ModifyDate (1) | 2009:03:30 22:01:16+02:00 |
ModifyDate | 2009:03:30 22:01:16 |
ParametricDarks | 0 |
ParametricHighlights | +5 |
ParametricHighlightSplit | 75 |
ParametricLights | +24 |
ParametricMidtoneSplit | 50 |
ParametricShadows | 0 |
ParametricShadowSplit | 25 |
ProfileDescription | Adobe RGB (1998) |
RedHue | 0 |
RedSaturation | 0 |
Rights | Helene Læknes |
ScaleFactor35efl | 1.6 |
SceneCaptureType | Standard |
SerialNumber | 630519349 |
Shadows | 0 |
ShadowTint | 0 |
SharpenDetail | 25 |
SharpenEdgeMasking | 0 |
SharpenRadius | +1.0 |
Sharpness | 0 |
ShutterSpeed | 1/80 |
ShutterSpeedValue | 1/80 |
SplitToningBalance | 0 |
SplitToningHighlightHue | 0 |
SplitToningHighlightSaturation | 0 |
SplitToningShadowHue | 0 |
SplitToningShadowSaturation | 0 |
Subject | Paris |
ToneCurve | 0, 0, 32, 22, 64, 56, 128, 128, 192, 196, 255, 255 |
ToneCurveName | Medium Contrast |
UsageTerms | Ask first |
Version | 4.4.1 |
VignetteAmount | -21 |
VignetteMidpoint | 0 |
WebStatement | www.helenefoto.com |
WhiteBalance (2) | As Shot |
WhiteBalance | Auto |