Felt | Verdi |
2009-03-20T23:33:47+01:00 File H:\Caroline N\20090319\jpg\old style\old style_20090319_0150.jpg saved
2009-03-20T23:35:12+01:00 File H:\Caroline N\20090319\jpg\old style\old style_20090319_0150.jpg saved
2009-03-20T23:37:19+01:00 File H:\Caroline N\20090319\jpg\old style\old style_20090319_0150 copy copy.jpg saved
2009-03-20T23:47:07+01:00 File H:\Caroline N\20090319\jpg\old style\1.jpg saved
2009-03-20T23:47:45+01:00 File H:\Caroline N\20090319\jpg\old style\2.jpg saved
2009-03-20T23:48:37+01:00 File H:\Caroline N\20090319\jpg\old style\3.jpg saved
2009-03-20T23:49:38+01:00 File H:\Caroline N\20090319\jpg\old style\4.jpg saved
AlreadyApplied | True |
Aperture | 5.6 |
ApertureValue | 5.6 |
BitsPerSample | 8 |
BlueHue | 0 |
BlueSaturation | 0 |
Brightness | +50 |
CameraProfile | ACR 2.4 |
ChromaticAberrationB | 0 |
ChromaticAberrationR | 0 |
CircleOfConfusion | 0.030 mm |
Clarity | 0 |
ColorComponents | 3 |
ColorMode | RGB |
ColorNoiseReduction | 100 |
ColorSpace | Unknown (-1) |
ColorTemperature | 4650 |
Contrast | +25 |
ConvertToGrayscale | False |
CreateDate | 2009:03:19 15:39:07+01:00 |
Creator | www.photomic.com, Tommy Andersson |
CreatorTool | Adobe Photoshop CS3 Windows |
CustomRendered | Normal |
DateTimeDigitized | 2009:03:19 15:39:07+01:00 |
DateTimeOriginal | 2009:03:19 15:39:07+01:00 |
Defringe | 0 |
ExifImageHeight | 6144 |
ExifImageWidth | 4096 |
Exposure | -0.90 |
ExposureCompensation | 0 |
ExposureMode | Manual |
ExposureProgram | Manual |
ExposureTime | 1/125 |
FillLight | 25 |
Firmware | 1.1.6 |
Flash | Off, Did not fire |
FlashCompensation | 0 |
FlashFired | False |
FlashFunction | False |
FlashMode | Off |
FlashRedEyeMode | False |
FlashReturn | No return detection |
FNumber | 5.6 |
FocalLength | 200.0 mm |
FocalLength35efl | 200.0 mm (35 mm equivalent: 199.7 mm) |
Format | image/jpeg |
FOV | 10.3 deg |
GreenHue | 0 |
GreenSaturation | 0 |
HasCrop | False |
HasSettings | True |
HighlightRecovery | 23 |
HueAdjustmentAqua | 0 |
HueAdjustmentBlue | 0 |
HueAdjustmentGreen | 0 |
HueAdjustmentMagenta | 0 |
HueAdjustmentOrange | 0 |
HueAdjustmentPurple | 0 |
HueAdjustmentRed | 0 |
HueAdjustmentYellow | 0 |
HyperfocalDistance | 237.41 m |
ICCProfileName | Adobe RGB (1998) |
ImageHeight (1) | 6144 |
ImageHeight | 1181 |
ImageNumber | 11058 |
ImageSize | 787x1181 |
ImageWidth (1) | 4096 |
ImageWidth | 787 |
ISO | 100 |
Lens | 80.0-200.0 mm |
LensInfo | 80-200mm f/? |
LightValue | 11.9 |
LuminanceAdjustmentAqua | 0 |
LuminanceAdjustmentBlue | 0 |
LuminanceAdjustmentGreen | 0 |
LuminanceAdjustmentMagenta | 0 |
LuminanceAdjustmentOrange | 0 |
LuminanceAdjustmentPurple | 0 |
LuminanceAdjustmentRed | 0 |
LuminanceAdjustmentYellow | 0 |
LuminanceSmoothing | 0 |
Make | Canon |
MaxApertureValue | 2.8 |
Megapixels | 0.929 |
MeteringMode | Spot |
Model | Canon EOS-1Ds Mark II |
ModifyDate | 2009:03:20 23:35:12+01:00 |
Orientation | Horizontal (normal) |
OwnerName | www.photomic.com |
ParametricDarks | 0 |
ParametricHighlights | 0 |
ParametricHighlightSplit | 75 |
ParametricLights | 0 |
ParametricMidtoneSplit | 50 |
ParametricShadows | 0 |
ParametricShadowSplit | 25 |
PreservedFileName | WX9G5633.CR2 |
ProfileDescription | sRGB IEC61966-2.1 |
Rating | 0 |
RawFileName | old style_20090319_0150.CR2 |
RedHue | 0 |
RedSaturation | 0 |
Rights | Tommy Andersson |
Saturation | 0 |
SaturationAdjustmentAqua | 0 |
SaturationAdjustmentBlue | 0 |
SaturationAdjustmentGreen | 0 |
SaturationAdjustmentMagenta | 0 |
SaturationAdjustmentOrange | 0 |
SaturationAdjustmentPurple | 0 |
SaturationAdjustmentRed | 0 |
SaturationAdjustmentYellow | 0 |
ScaleFactor35efl | 1.0 |
SceneCaptureType | Standard |
SerialNumber | 314380 |
Shadows | 28 |
ShadowTint | 0 |
SharpenDetail | 25 |
SharpenEdgeMasking | 0 |
SharpenRadius | +1.0 |
Sharpness | 25 |
ShutterSpeed | 1/125 |
ShutterSpeedValue | 1/125 |
SplitToningBalance | 0 |
SplitToningHighlightHue | 0 |
SplitToningHighlightSaturation | 0 |
SplitToningShadowHue | 0 |
SplitToningShadowSaturation | 0 |
Tint | +2 |
ToneCurve | 0, 0, 32, 22, 64, 56, 128, 128, 192, 196, 255, 255 |
ToneCurveName | Medium Contrast |
Version | 4.3.1 |
Vibrance | 0 |
VignetteAmount | 0 |
WhiteBalance (1) | As Shot |
WhiteBalance | Auto |