Felt | Verdi |
AlreadyApplied | True |
Aperture | 8.0 |
ApertureValue | 8.0 |
BitsPerSample | 8 |
BlueHue | 0 |
BlueSaturation | 0 |
Brightness | 0 |
CameraProfile | ACR 4.4 |
ChromaticAberrationB | 0 |
ChromaticAberrationR | 0 |
CircleOfConfusion | 0.030 mm |
Clarity | +36 |
ColorComponents | 1 |
ColorNoiseReduction | 25 |
ColorTemperature | 6405 |
Contrast | +100 |
ConvertToGrayscale | True |
CreateDate (1) | 2009:02:14 10:38:39+01:00 |
CreateDate | 2009:02:14 10:38:39 |
CreatorTool | Adobe Photoshop Lightroom |
CropAngle | 0.520392 |
CropBottom | 1 |
CropHeight | 2873 |
CropLeft | 0.051164 |
CropRight | 0.978162 |
CropTop | 0.00073 |
CropUnit | pixels |
CropWidth | 4075 |
CustomRendered | Normal |
DateTimeDigitized | 2009:02:14 10:38:39+01:00 |
DateTimeOriginal (1) | 2009:02:14 10:38:39+01:00 |
DateTimeOriginal | 2009:02:14 10:38:39 |
Defringe | 0 |
ExifImageHeight | 4075 |
ExifImageWidth | 2873 |
Exposure | -0.38 |
ExposureCompensation | 0 |
ExposureMode | Manual |
ExposureProgram | Manual |
ExposureTime | 1/100 |
FillLight | 0 |
Firmware | 1.1.1 |
Flash | Off, Did not fire |
FlashCompensation | 0 |
FlashFired | False |
FlashFunction | False |
FlashMode | Off |
FlashRedEyeMode | False |
FlashReturn | No return detection |
FNumber | 8.0 |
FocalLength | 50.0 mm |
FocalLength35efl | 50.0 mm (35 mm equivalent: 50.1 mm) |
FOV | 39.5 deg |
GrayMixerAqua | -20 |
GrayMixerBlue | +3 |
GrayMixerGreen | -22 |
GrayMixerMagenta | +6 |
GrayMixerOrange | -11 |
GrayMixerPurple | +12 |
GrayMixerRed | -3 |
GrayMixerYellow | -14 |
GreenHue | 0 |
GreenSaturation | 0 |
HasCrop | True |
HasSettings | True |
HighlightRecovery | 100 |
HyperfocalDistance | 10.42 m |
ImageHeight | 4075 |
ImageNumber | 31 |
ImageSize | 2873x4075 |
ImageWidth | 2873 |
ISO | 100 |
Keywords | Vinter |
Lens | EF50mm f/1.4 USM |
LensInfo | 50mm f/? |
LightValue | 12.6 |
LuminanceSmoothing | 0 |
Make | Canon |
MaxApertureValue | 1.4 |
Megapixels | 11.7 |
MeteringMode | Unknown |
Model | Canon EOS 5D |
ModifyDate (1) | 2009:02:14 12:53:06+01:00 |
ModifyDate | 2009:02:14 12:53:06 |
ParametricDarks | -6 |
ParametricHighlights | +32 |
ParametricHighlightSplit | 75 |
ParametricLights | +63 |
ParametricMidtoneSplit | 50 |
ParametricShadows | -14 |
ParametricShadowSplit | 25 |
PostCropVignetteAmount | -43 |
PostCropVignetteFeather | 31 |
PostCropVignetteMidpoint | 63 |
PostCropVignetteRoundness | +33 |
ProfileDescription | sRGB IEC61966-2.1 |
RedHue | 0 |
RedSaturation | 0 |
ScaleFactor35efl | 1.0 |
SceneCaptureType | Standard |
SerialNumber | 2921205756 |
Shadows | 20 |
ShadowTint | 0 |
SharpenDetail | 90 |
SharpenEdgeMasking | 67 |
SharpenRadius | +1.0 |
Sharpness | 73 |
ShutterSpeed | 1/100 |
ShutterSpeedValue | 1/100 |
SplitToningBalance | 0 |
SplitToningHighlightHue | 0 |
SplitToningHighlightSaturation | 0 |
SplitToningShadowHue | 0 |
SplitToningShadowSaturation | 0 |
Subject | Vinter |
Tint | -4 |
ToneCurve | 0, 0, 255, 255 |
ToneCurveName | Linear |
Version | 4.5 |
VignetteAmount | 0 |
WhiteBalance (2) | Custom |
WhiteBalance | Manual |