Felt | Verdi |
2009-02-05T18:39:12+01:00 File C:\Documents and Settings\Tommy Andersson.TOMMY\Skrivbord\gammla\040108_glen gordon_0013 copy copy.PSD saved
2009-02-05T18:39:48+01:00 File C:\Documents and Settings\Tommy Andersson.TOMMY\Skrivbord\gammla\040108_glen gordon_0013.jpg saved
2009-02-05T18:42:02+01:00 File 040108_glen gordon_0013.jpg opened
AlreadyApplied | True |
Aperture | 8.0 |
ApertureValue | 8.0 |
BitsPerSample | 8 |
BlueHue | 0 |
BlueSaturation | 0 |
Brightness | +90 |
CameraProfile | ACR 2.4 |
ChromaticAberrationB | 0 |
ChromaticAberrationR | 0 |
CircleOfConfusion | 0.030 mm |
Clarity | 32 |
ColorComponents | 3 |
ColorMode | RGB |
ColorNoiseReduction | 100 |
ColorSpace | Unknown (-1) |
ColorTemperature | 5000 |
Contrast | +36 |
ConvertToGrayscale | False |
CreateDate | 2008:04:01 13:55:37+02:00 |
Creator | www.photomic.com, Tommy Andersson |
CreatorTool | Adobe Photoshop CS3 Windows |
CustomRendered | Normal |
DateTimeDigitized | 2008:04:01 13:55:37+02:00 |
DateTimeOriginal | 2008:04:01 13:55:37+02:00 |
Defringe | 0 |
ExifImageHeight | 3543 |
ExifImageWidth | 2362 |
Exposure | +1.05 |
ExposureCompensation | 0 |
ExposureMode | Manual |
ExposureProgram | Manual |
ExposureTime | 1/250 |
FillLight | 32 |
Firmware | 1.1.6 |
Flash | Off, Did not fire |
FlashCompensation | 0 |
FlashFired | False |
FlashFunction | False |
FlashMode | Off |
FlashRedEyeMode | False |
FlashReturn | No return detection |
FNumber | 8.0 |
FocalLength | 125.0 mm |
FocalLength35efl | 125.0 mm (35 mm equivalent: 124.8 mm) |
Format | image/jpeg |
FOV | 16.4 deg |
GreenHue | 0 |
GreenSaturation | 0 |
HasCrop | False |
HasSettings | True |
HighlightRecovery | 0 |
HueAdjustmentAqua | 0 |
HueAdjustmentBlue | 0 |
HueAdjustmentGreen | 0 |
HueAdjustmentMagenta | 0 |
HueAdjustmentOrange | 0 |
HueAdjustmentPurple | 0 |
HueAdjustmentRed | 0 |
HueAdjustmentYellow | 0 |
HyperfocalDistance | 64.92 m |
ICCProfileName | Adobe RGB (1998) |
ImageHeight (1) | 3072 |
ImageHeight | 850 |
ImageNumber | 44441 |
ImageSize | 567x850 |
ImageWidth (1) | 2048 |
ImageWidth | 567 |
ISO | 100 |
Lens | 80.0-200.0 mm |
LensInfo | 80-200mm f/? |
LightValue | 14.0 |
LuminanceAdjustmentAqua | 0 |
LuminanceAdjustmentBlue | 0 |
LuminanceAdjustmentGreen | 0 |
LuminanceAdjustmentMagenta | 0 |
LuminanceAdjustmentOrange | 0 |
LuminanceAdjustmentPurple | 0 |
LuminanceAdjustmentRed | 0 |
LuminanceAdjustmentYellow | 0 |
LuminanceSmoothing | 0 |
Make | Canon |
MaxApertureValue | 2.8 |
Megapixels | 0.482 |
MeteringMode | Multi-segment |
Model | Canon EOS-1Ds Mark II |
ModifyDate | 2009:02:05 18:39:48+01:00 |
Orientation | Horizontal (normal) |
OwnerName | www.photomic.com |
ParametricDarks | 0 |
ParametricHighlights | 0 |
ParametricHighlightSplit | 75 |
ParametricLights | 0 |
ParametricMidtoneSplit | 50 |
ParametricShadows | 0 |
ParametricShadowSplit | 25 |
PreservedFileName | _X9G1534.CR2 |
ProfileDescription | sRGB IEC61966-2.1 |
Rating | 0 |
RawFileName | 040108_glen gordon_0013.CR2 |
RedHue | 0 |
RedSaturation | 0 |
Rights | Tommy Andersson |
Saturation | 0 |
SaturationAdjustmentAqua | 0 |
SaturationAdjustmentBlue | 0 |
SaturationAdjustmentGreen | 0 |
SaturationAdjustmentMagenta | 0 |
SaturationAdjustmentOrange | 0 |
SaturationAdjustmentPurple | 0 |
SaturationAdjustmentRed | 0 |
SaturationAdjustmentYellow | 0 |
ScaleFactor35efl | 1.0 |
SceneCaptureType | Standard |
SerialNumber | 314380 |
Shadows | 1 |
ShadowTint | 0 |
SharpenDetail | 25 |
SharpenEdgeMasking | 0 |
SharpenRadius | +1.0 |
Sharpness | 25 |
ShutterSpeed | 1/250 |
ShutterSpeedValue | 1/250 |
SplitToningBalance | 0 |
SplitToningHighlightHue | 0 |
SplitToningHighlightSaturation | 0 |
SplitToningShadowHue | 0 |
SplitToningShadowSaturation | 0 |
Tint | +5 |
ToneCurve | 0, 0, 32, 22, 64, 56, 128, 128, 192, 196, 255, 255 |
ToneCurveName | Medium Contrast |
Version | 4.3.1 |
Vibrance | -12 |
VignetteAmount | 0 |
WhiteBalance (1) | Custom |
WhiteBalance | Manual |