Felt | Verdi |
AlreadyApplied | True |
Aperture | 9.1 |
ApertureValue | 9.1 |
BitsPerSample | 8 |
BlackClip | 0.000000 |
BlueHue | 0 |
BlueSaturation | 0 |
Brightness | 0 |
By-line | Jan Erik Arud |
CameraProfile | Embedded |
ChromaticAberrationB | 0 |
ChromaticAberrationR | -29 |
Clarity | 0 |
ColorComponents | 3 |
ColorNoiseReduction | 0 |
ColorSaturation | 46 |
ColorTemperature | 0 |
Contrast | +30 |
ConvertToGrayscale | False |
Copyright | Jan Erik Arud |
CopyrightFlag | True |
CopyrightNotice | Jan Erik Arud |
CreateDate | 2008:12:29 11:16:19+01:00 |
Creator | Jan Erik Arud |
CreatorTool | Adobe Photoshop Lightroom |
CreatorWorkEmail | arud@bluezone.no |
CreatorWorkURL | http://www.flickr.com/photos/jarud/ |
CropAngle | -0.306707 |
CropBottom | 0.986802 |
CropHeight | 681 |
CropLeft | 0.007503 |
CropRight | 0.992497 |
CropTop | 0.013198 |
CropUnit | pixels |
CropWidth | 1024 |
DateTimeOriginal (1) | 2008:12:29 11:16:19+01:00 |
DateTimeOriginal | 2008:12:29 11:16:19 |
Defringe | 2 |
ExifImageHeight | 681 |
ExifImageWidth | 1024 |
Exposure | 0.00 |
ExposureTime | 1/10 |
FillLight | 0 |
FNumber | 9.1 |
FocalLength | 17.0 mm |
FocalLength35efl | 17.0 mm |
Gamma | 1.000000 |
GradientBasedCorrActive | true |
GradientBasedCorrAmount | 1.000000 |
GradientBasedCorrBrightness | -0.300000 |
GradientBasedCorrClarity | 0.000000 |
GradientBasedCorrContrast | 0.000000 |
GradientBasedCorrExposure | -0.150000 |
GradientBasedCorrHue | 57.000000 |
GradientBasedCorrMaskFullX | -0.009355 |
GradientBasedCorrMaskFullY | 1.584330 |
GradientBasedCorrMaskValue | 1.000000 |
GradientBasedCorrMaskWhat | Mask/Gradient |
GradientBasedCorrMaskZeroX | 0.521579 |
GradientBasedCorrMaskZeroY | -0.395813 |
GradientBasedCorrSaturation (1) | -0.350000 |
GradientBasedCorrSaturation | 0.140000 |
GradientBasedCorrSharpness | 0.000000 |
GradientBasedCorrWhat | Correction |
GreenHue | 0 |
GreenSaturation | 0 |
HasCrop | True |
HasSettings | True |
HighlightRecovery | 7 |
HighlightsSmoothing | 0 |
HueAdjustmentAqua | 0 |
HueAdjustmentBlue | 0 |
HueAdjustmentGreen | 0 |
HueAdjustmentMagenta | 0 |
HueAdjustmentOrange | 0 |
HueAdjustmentPurple | 0 |
HueAdjustmentRed | 0 |
HueAdjustmentYellow | 0 |
ImageHeight | 681 |
ImageSize | 1024x681 |
ImageWidth | 1024 |
IncrementalTemperature | 0 |
IncrementalTint | 0 |
ISO | 100 |
Label | Red |
LightValue | 9.7 |
LuminanceAdjustmentAqua | 0 |
LuminanceAdjustmentBlue | 0 |
LuminanceAdjustmentGreen | 0 |
LuminanceAdjustmentMagenta | 0 |
LuminanceAdjustmentOrange | 0 |
LuminanceAdjustmentPurple | 0 |
LuminanceAdjustmentRed | 0 |
LuminanceAdjustmentYellow | 0 |
LuminanceSmoothing | 0 |
Luminosity | 0 |
Marked | True |
Megapixels | 0.697 |
Method | Details Enhancer |
Microcontrast | 0 |
Microsmoothing | 2 |
Model | Canon EOS-1D Mark III |
ModifyDate (1) | 2008:12:29 22:10:45+01:00 |
ModifyDate | 2008:12:29 22:10:45 |
PaintCorrectionActive | true |
PaintCorrectionAmount | 1.000000 |
PaintCorrectionBrightness (1) | 0.475000 |
PaintCorrectionBrightness (2) | -0.350000 |
PaintCorrectionBrightness | 0.000000 |
PaintCorrectionClarity (2) | 0.000000 |
PaintCorrectionClarity | -1.000000 |
PaintCorrectionContrast (1) | 0.275000 |
PaintCorrectionContrast (2) | -0.500000 |
PaintCorrectionContrast (3) | 0.000000 |
PaintCorrectionContrast | 0.340965 |
PaintCorrectionExposure (2) | 0.000000 |
PaintCorrectionExposure | 0.125000 |
PaintCorrectionHue | 83.000000 |
PaintCorrectionMaskCenterWeight | 0.035858 |
PaintCorrectionMaskFlow | 0.616000 |
PaintCorrectionMaskRadius (1) | 0.229251 |
PaintCorrectionMaskRadius (2) | 0.225012 |
PaintCorrectionMaskRadius (6) | 0.097810 |
PaintCorrectionMaskRadius | 0.324639 |
PaintCorrectionMaskValue | 0.738000 |
PaintCorrectionMaskWhat | Mask/Paint |
PaintCorrectionSaturation (1) | 0.300000 |
PaintCorrectionSaturation (3) | -0.575000 |
PaintCorrectionSaturation (5) | -0.100000 |
PaintCorrectionSaturation (7) | 0.498333 |
PaintCorrectionSaturation | 0.000000 |
PaintCorrectionSharpness | 0.000000 |
PaintCorrectionWhat | Correction |
ParametricDarks | -6 |
ParametricHighlights | 0 |
ParametricHighlightSplit | 75 |
ParametricLights | -14 |
ParametricMidtoneSplit | 50 |
ParametricShadows | 0 |
ParametricShadowSplit | 25 |
PostCropVignetteAmount | 0 |
ProfileDescription | sRGB IEC61966-2.1 |
RedHue | 0 |
RedSaturation | 0 |
Rights | Jan Erik Arud |
Saturation | +19 |
SaturationAdjustmentAqua | 0 |
SaturationAdjustmentBlue | 0 |
SaturationAdjustmentGreen | 0 |
SaturationAdjustmentMagenta | 0 |
SaturationAdjustmentOrange | 0 |
SaturationAdjustmentPurple | 0 |
SaturationAdjustmentRed | 0 |
SaturationAdjustmentYellow | 0 |
SaturationHighlights | 0 |
SaturationShadows | 0 |
Shadows | 12 |
ShadowsClipping | 0 |
ShadowsSmoothing | 0 |
ShadowTint | 0 |
SharpenDetail | 74 |
SharpenEdgeMasking | 0 |
SharpenRadius | +1.0 |
Sharpness | 73 |
ShutterSpeed | 1/10 |
ShutterSpeedValue | 1/10 |
Smoothing | High |
SplitToningBalance | 0 |
SplitToningHighlightHue | 0 |
SplitToningHighlightSaturation | 0 |
SplitToningShadowHue | 0 |
SplitToningShadowSaturation | 0 |
Strength | 70 |
ToneCurve | 0, 0, 255, 255 |
ToneCurveName | Linear |
Version (1) | 2.5 |
Version | 5.2 |
Vibrance | +21 |
VignetteAmount | +10 |
VignetteMidpoint | 50 |
WhiteBalance | Custom |
WhiteClip | 0.249450 |