Felt | Verdi |
AlreadyApplied | True |
Aperture | 9.0 |
ApertureValue | 9.0 |
BitsPerSample | 8 |
BlueHue | -5 |
BlueSaturation | +3 |
Brightness | +34 |
CameraProfile | ACR 4.4 |
ChromaticAberrationB | 0 |
ChromaticAberrationR | 0 |
CircleOfConfusion | 0.019 mm |
Clarity | +10 |
ColorComponents | 3 |
ColorNoiseReduction | 25 |
ColorTemperature | 5650 |
Contrast | +18 |
ConvertToGrayscale | False |
CreateDate (1) | 2008:10:17 11:20:12.00+02:00 |
CreateDate | 2008:10:17 11:20:12 |
CustomRendered | Normal |
DateTimeDigitized | 2008:10:17 11:20:12.00+02:00 |
DateTimeOriginal (1) | 2008:10:17 11:20:12.00+02:00 |
DateTimeOriginal | 2008:10:17 11:20:12 |
Defringe | 0 |
ExifImageHeight | 2731 |
ExifImageWidth | 4096 |
Exposure | +0.05 |
ExposureCompensation | 0 |
ExposureMode | Auto |
ExposureProgram | Shutter speed priority AE |
ExposureTime | 1/125 |
FillLight | 22 |
Firmware | 1.0.8 |
Flash | Off, Did not fire |
FlashCompensation | 0 |
FlashFired | False |
FlashFunction | False |
FlashMode | Off |
FlashRedEyeMode | False |
FlashReturn | No return detection |
FNumber | 9.0 |
FocalLength | 24.0 mm |
FocalLength35efl | 24.0 mm (35 mm equivalent: 38.9 mm) |
FOV | 49.7 deg |
GreenHue | +3 |
GreenSaturation | +3 |
HasCrop | False |
HasSettings | True |
HighlightRecovery | 23 |
HueAdjustmentAqua | 0 |
HueAdjustmentBlue | +29 |
HueAdjustmentGreen | +4 |
HueAdjustmentMagenta | 0 |
HueAdjustmentOrange | +8 |
HueAdjustmentPurple | -35 |
HueAdjustmentRed | 0 |
HueAdjustmentYellow | -10 |
HyperfocalDistance | 3.45 m |
ImageHeight | 2731 |
ImageNumber | 0 |
ImageSize | 4096x2731 |
ImageWidth | 4096 |
ISO | 100 |
Lens | EF24-70mm f/2.8L USM |
LensInfo | 24-70mm f/? |
LightValue | 13.3 |
LuminanceAdjustmentAqua | 0 |
LuminanceAdjustmentBlue | 0 |
LuminanceAdjustmentGreen | 0 |
LuminanceAdjustmentMagenta | 0 |
LuminanceAdjustmentOrange | 0 |
LuminanceAdjustmentPurple | 0 |
LuminanceAdjustmentRed | 0 |
LuminanceAdjustmentYellow | 0 |
LuminanceSmoothing | 0 |
Make | Canon |
MaxApertureValue | 2.8 |
Megapixels | 11.2 |
MeteringMode | Multi-segment |
Model | Canon EOS 40D |
ModifyDate (1) | 2008:10:17 18:08:22+02:00 |
ModifyDate | 2008:10:17 18:08:22 |
ParametricDarks | +4 |
ParametricHighlights | -6 |
ParametricHighlightSplit | 75 |
ParametricLights | -8 |
ParametricMidtoneSplit | 50 |
ParametricShadows | +8 |
ParametricShadowSplit | 25 |
PostCropVignetteAmount | 0 |
ProfileDescription | sRGB IEC61966-2.1 |
RawFileName | IMG_2229.CR2 |
RedHue | +3 |
RedSaturation | 0 |
Saturation | 0 |
SaturationAdjustmentAqua | 0 |
SaturationAdjustmentBlue | 0 |
SaturationAdjustmentGreen | 0 |
SaturationAdjustmentMagenta | 0 |
SaturationAdjustmentOrange | 0 |
SaturationAdjustmentPurple | 0 |
SaturationAdjustmentRed | 0 |
SaturationAdjustmentYellow | 0 |
ScaleFactor35efl | 1.6 |
SceneCaptureType | Standard |
SerialNumber | 530227584 |
Shadows | 6 |
ShadowTint | -3 |
SharpenDetail | 25 |
SharpenEdgeMasking | 0 |
SharpenRadius | +1.0 |
Sharpness | 25 |
ShutterSpeed | 1/125 |
ShutterSpeedValue | 1/125 |
SplitToningBalance | -3 |
SplitToningHighlightHue | 26 |
SplitToningHighlightSaturation | 0 |
SplitToningShadowHue | 30 |
SplitToningShadowSaturation | 7 |
Tint | +7 |
ToneCurve | 0, 0, 32, 22, 64, 56, 128, 128, 192, 196, 255, 255 |
ToneCurveName | Medium Contrast |
Version | 4.5 |
Vibrance | 0 |
VignetteAmount | +3 |
VignetteMidpoint | 50 |
WhiteBalance (2) | Custom |
WhiteBalance | Manual |