Felt | Verdi |
AlreadyApplied | True |
Aperture | 6.3 |
ApertureValue | 6.3 |
BitsPerSample | 8 |
BlueHue | 0 |
BlueSaturation | 0 |
Brightness | +15 |
By-line | Johan Conradson |
CameraProfile | ACR 4.4 |
Caption-Abstract | Copyright |
CFAPattern | [Green,Blue][Red,Green] |
ChromaticAberrationB | 0 |
ChromaticAberrationR | 0 |
CircleOfConfusion | 0.020 mm |
Clarity | +96 |
ColorComponents | 1 |
ColorNoiseReduction | 25 |
ColorTemperature | 5150 |
Contrast (2) | +21 |
Contrast | High |
ConvertToGrayscale | True |
Copyright | Johan Conradson |
CopyrightNotice | Johan Conradson |
CreateDate (1) | 2008:08:25 17:59:20.00+02:00 |
CreateDate | 2008:08:25 17:59:20 |
Creator | Johan Conradson |
CreatorAddress | Østreheimsveien 38 |
CreatorCity | Oslo |
CreatorCountry | Norway |
CreatorPostalCode | 0590 |
CreatorTool | Adobe Photoshop Lightroom |
CreatorWorkEmail | johanconradson@gmail.com |
CropAngle | 0 |
CropBottom | 1 |
CropHeight | 443 |
CropLeft | 0 |
CropRight | 0.907463 |
CropTop | 0 |
CropUnit | pixels |
CropWidth | 600 |
CustomRendered | Normal |
DateTimeDigitized | 2008:08:25 17:59:20.00+02:00 |
DateTimeOriginal (1) | 2008:08:25 17:59:20.00+02:00 |
DateTimeOriginal | 2008:08:25 17:59:20 |
Defringe | 0 |
Description | Copyright |
DigitalZoomRatio | 1 |
ExifImageHeight | 600 |
ExifImageWidth | 443 |
Exposure | 0.00 |
ExposureCompensation | -1/3 |
ExposureMode | Auto |
ExposureProgram | Aperture-priority AE |
ExposureTime | 1/100 |
FillLight | 0 |
Flash | No Flash |
FlashFired | False |
FlashFunction | False |
FlashMode | Unknown |
FlashRedEyeMode | False |
FlashReturn | No return detection |
FNumber | 6.3 |
FocalLength | 45.0 mm |
FocalLength35efl | 45.0 mm (35 mm equivalent: 67.0 mm) |
FocalLengthIn35mmFormat | 67 mm |
FOV | 30.1 deg |
GainControl | None |
GrayMixerAqua | -18 |
GrayMixerBlue | +9 |
GrayMixerGreen | -27 |
GrayMixerMagenta | +4 |
GrayMixerOrange | -19 |
GrayMixerPurple | +15 |
GrayMixerRed | -10 |
GrayMixerYellow | -23 |
GreenHue | 0 |
GreenSaturation | 0 |
HasCrop | True |
HasSettings | True |
HighlightRecovery | 100 |
HyperfocalDistance | 15.93 m |
ImageDescription | Copyright |
ImageHeight | 600 |
ImageNumber | 6291 |
ImageSize | 443x600 |
ImageWidth | 443 |
ISO | 100 |
Lens | 24.0-70.0 mm f/2.8 |
LensInfo | 24-70mm f/2.8 |
LightSource | Unknown |
LightValue | 12.0 |
LuminanceSmoothing | 0 |
Make | NIKON CORPORATION |
Marked | True |
MaxApertureValue | 2.8 |
Megapixels | 0.266 |
MeteringMode | Spot |
Model | NIKON D80 |
ModifyDate (1) | 2008:09:08 19:52:14+02:00 |
ModifyDate | 2008:09:08 19:52:14 |
ParametricDarks | 0 |
ParametricHighlights | 0 |
ParametricHighlightSplit | 75 |
ParametricLights | 0 |
ParametricMidtoneSplit | 50 |
ParametricShadows | 0 |
ParametricShadowSplit | 25 |
PostCropVignetteAmount | 0 |
ProfileDescription | sRGB IEC61966-2.1 |
Rating | 4 |
RedHue | 0 |
RedSaturation | 0 |
Rights | Johan Conradson |
Saturation | Normal |
ScaleFactor35efl | 1.5 |
SceneCaptureType | Standard |
SceneType | Directly photographed |
SensingMethod | One-chip color area |
Shadows | 23 |
ShadowTint | 0 |
SharpenDetail | 25 |
SharpenEdgeMasking | 0 |
SharpenRadius | +1.0 |
Sharpness (2) | 25 |
Sharpness | Normal |
ShutterSpeed | 1/100 |
ShutterSpeedValue | 1/100 |
Software | Ver.1.01 |
SplitToningBalance | 0 |
SplitToningHighlightHue | 0 |
SplitToningHighlightSaturation | 0 |
SplitToningShadowHue | 0 |
SplitToningShadowSaturation | 0 |
SubjectDistanceRange | Unknown |
Tint | 0 |
ToneCurve | 0, 0, 32, 22, 64, 56, 128, 128, 192, 196, 255, 255 |
ToneCurveName | Medium Contrast |
Version | 4.5 |
VignetteAmount | 0 |
WhiteBalance (2) | As Shot |
WhiteBalance | Auto |