Felt | Verdi |
AlreadyApplied | True |
Aperture | 7.1 |
ApertureValue | 7.1 |
BitsPerSample (1) | 16, 16, 16 |
BitsPerSample (2) | 16 16 16 |
BitsPerSample | 8 |
BlueHue | 0 |
BlueSaturation | 0 |
Brightness | 0 |
CameraProfile | ACR 2.4 |
ChromaticAberrationB | 0 |
ChromaticAberrationR | 0 |
CircleOfConfusion | 0.030 mm |
Clarity | 71 |
ColorComponents | 1 |
ColorMode | RGB |
ColorSpace (1) | Unknown (-1) |
ColorSpace | Uncalibrated |
ColorTemperature | 5229 |
Contrast | +12 |
ConvertToGrayscale | True |
CopyrightFlag | False |
CreateDate (1) | 2008:05:06 19:51:31+02:00 |
CreateDate | 2008:04:05 14:03:49 |
CreatorTool | Adobe Photoshop CS3 Macintosh |
CropAngle | 0.279906 |
CropBottom | 1 |
CropHeight | 2894 |
CropLeft | 0.176158 |
CropRight | 0.995885 |
CropTop | 0 |
CropUnit | pixels |
CropWidth | 3595 |
CustomRendered | Normal |
DateTimeDigitized | 2008:04:05 14:03:49+02:00 |
DateTimeOriginal (1) | 2008:04:05 14:03:49+02:00 |
DateTimeOriginal | 2008:04:05 14:03:49 |
Defringe | 0 |
ExifImageHeight | 665 |
ExifImageWidth | 1000 |
Exposure | -1.83 |
ExposureCompensation | +1 |
ExposureMode | Auto |
ExposureProgram | Aperture-priority AE |
ExposureTime | 10 |
FillLight | 15 |
Firmware | 1.0.3 |
Flash | Off, Did not fire |
FlashCompensation | 0 |
FlashFired | False |
FlashFunction | False |
FlashMode | Off |
FlashRedEyeMode | False |
FlashReturn | No return detection |
FNumber | 7.1 |
FocalLength | 24.0 mm |
FocalLength35efl | 24.0 mm (35 mm equivalent: 24.0 mm) |
Format | image/jpeg |
FOV | 73.6 deg |
GrayMixerAqua | -46 |
GrayMixerBlue | -15 |
GrayMixerGreen | -46 |
GrayMixerMagenta | +46 |
GrayMixerOrange | +31 |
GrayMixerPurple | +15 |
GrayMixerRed | +42 |
GrayMixerYellow | -11 |
GreenHue | 0 |
GreenSaturation | 0 |
HasCrop | True |
HasSettings | True |
HighlightRecovery | 0 |
HyperfocalDistance | 2.71 m |
ICCProfileName | Adobe RGB (1998) |
ImageHeight (1) | 3118 |
ImageHeight | 665 |
ImageNumber | 8 |
ImageSize | 1000x665 |
ImageWidth (1) | 4501 |
ImageWidth | 1000 |
ISO | 400 |
Lens | EF24mm f/1.4L USM |
LensInfo | 24mm f/? |
LightValue | 0.3 |
LuminanceSmoothing | 0 |
Make | Canon |
MaxApertureValue | 1.4 |
Megapixels | 0.665 |
MeteringMode | Unknown |
Model | Canon EOS 5D |
ModifyDate (1) | 2008:05:06 19:51:31+02:00 |
ModifyDate | 2008:05:06 19:51:31 |
Orientation | Horizontal (normal) |
ParametricDarks | -13 |
ParametricHighlights | +4 |
ParametricHighlightSplit | 75 |
ParametricLights | +27 |
ParametricMidtoneSplit | 50 |
ParametricShadows | -27 |
ParametricShadowSplit | 25 |
PhotometricInterpretation | RGB |
PlanarConfiguration | Chunky |
ProfileDescription | Adobe RGB (1998) |
RedHue | 0 |
RedSaturation | 0 |
SamplesPerPixel | 3 |
ScaleFactor35efl | 1.0 |
SceneCaptureType | Standard |
SerialNumber | 730504271 |
Shadows | 0 |
ShadowTint | 0 |
SharpenDetail | 46 |
SharpenEdgeMasking | 58 |
SharpenRadius | +0.5 |
Sharpness | 83 |
ShutterSpeed | 10 |
ShutterSpeedValue | 10 |
Software | Adobe Photoshop CS3 Macintosh |
SplitToningBalance | 0 |
SplitToningHighlightHue | 0 |
SplitToningHighlightSaturation | 0 |
SplitToningShadowHue | 0 |
SplitToningShadowSaturation | 0 |
Tint | -3 |
ToneCurve | 0, 0, 32, 22, 64, 56, 128, 128, 192, 196, 255, 255 |
ToneCurveName | Medium Contrast |
URL_List | |
Version | 1.0 |
VignetteAmount | 0 |
WhiteBalance (1) | Custom |
WhiteBalance | Auto |