Felt | Verdi |
AlreadyApplied | True |
Aperture | 9.5 |
ApertureValue | 9.5 |
Artist | Nanna Egidius |
BitsPerSample | 8 |
BlueHue | 0 |
BlueSaturation | 0 |
Brightness | 0 |
By-line | Nanna Egidius |
CameraProfile | ACR 2.4 |
CFAPattern | [Red,Green][Green,Blue] |
ChromaticAberrationB | 0 |
ChromaticAberrationR | 0 |
CircleOfConfusion | 0.020 mm |
Clarity | 21 |
ColorComponents | 3 |
ColorMode | RGB |
ColorNoiseReduction | 0 |
ColorSpace | sRGB |
ColorTemperature | 8005 |
Contrast (2) | +25 |
Contrast | Normal |
ConvertToGrayscale | False |
Copyright | Nanna Egidius |
CopyrightFlag | True |
CopyrightNotice | Nanna Egidius |
CreateDate (1) | 2008:02:21 21:23:25+01:00 |
CreateDate | 2007:07:11 14:22:26 |
Creator | Nanna Egidius |
CreatorAddress | Kaldor |
CreatorCity | Øyer |
CreatorCountry | Norway |
CreatorPostalCode | 2636 |
CreatorTool | Adobe Photoshop CS3 Windows |
CreatorWorkEmail | nanna@digitalverkstedet.com |
CreatorWorkTelephone | +47 90057958 |
CreatorWorkURL | www.digitalverkstedet.com |
CropAngle | 0 |
CropBottom | 1 |
CropHeight | 2008 |
CropLeft | 0.433333 |
CropRight | 0.87896 |
CropTop | 0 |
CropUnit | pixels |
CropWidth | 1340 |
CustomRendered | Normal |
DateTimeDigitized | 2007:07:11 14:22:26+02:00 |
DateTimeOriginal (1) | 2007:07:11 14:22:26+02:00 |
DateTimeOriginal | 2007:07:11 14:22:26 |
Defringe | 0 |
DerivedFrom | |
ExifImageHeight | 700 |
ExifImageWidth | 467 |
Exposure | +1.91 |
ExposureCompensation | 0 |
ExposureMode | Auto |
ExposureProgram | Aperture-priority AE |
ExposureTime | 1/250 |
FillLight | 14 |
Flash | Off, Did not fire |
FlashFired | False |
FlashFunction | False |
FlashMode | Off |
FlashRedEyeMode | False |
FlashReturn | No return detection |
FNumber | 9.5 |
FocalLength | 38.0 mm |
FocalLength35efl | 38.0 mm (35 mm equivalent: 57.0 mm) |
FocalLengthIn35mmFormat | 57 mm |
Format | image/jpeg |
FOV | 35.1 deg |
GreenHue | 0 |
GreenSaturation | 0 |
HasCrop | True |
HasSettings | True |
HighlightRecovery | 39 |
HueAdjustmentAqua | 0 |
HueAdjustmentBlue | 0 |
HueAdjustmentGreen | 0 |
HueAdjustmentMagenta | 0 |
HueAdjustmentOrange | 0 |
HueAdjustmentPurple | 0 |
HueAdjustmentRed | -2 |
HueAdjustmentYellow | 0 |
HyperfocalDistance | 7.59 m |
ICCProfileName | sRGB IEC61966-2.1 |
ImageHeight (1) | 2008 |
ImageHeight | 700 |
ImageSize | 467x700 |
ImageWidth (1) | 1340 |
ImageWidth | 467 |
ISO | 200 |
Lens | smc PENTAX-FA J 28-80mm F3.5-5.6 AL |
LensID (1) | 4 46 |
LensID | smc PENTAX-FA J 28-80mm F3.5-5.6 AL |
LensInfo | 28-80mm f/3.5-5.6 |
LightValue | 13.5 |
LuminanceAdjustmentAqua | 0 |
LuminanceAdjustmentBlue | 0 |
LuminanceAdjustmentGreen | 0 |
LuminanceAdjustmentMagenta | 0 |
LuminanceAdjustmentOrange | 0 |
LuminanceAdjustmentPurple | 0 |
LuminanceAdjustmentRed | 0 |
LuminanceAdjustmentYellow | 0 |
LuminanceSmoothing | 0 |
Make | PENTAX Corporation |
Marked | True |
Megapixels | 0.327 |
MeteringMode | Multi-segment |
Model | PENTAX *ist DL |
ModifyDate (1) | 2008:02:21 21:23:25+01:00 |
ModifyDate | 2008:02:21 21:23:25 |
Orientation | Horizontal (normal) |
ParametricDarks | 0 |
ParametricHighlights | 0 |
ParametricHighlightSplit | 75 |
ParametricLights | 0 |
ParametricMidtoneSplit | 50 |
ParametricShadows | 0 |
ParametricShadowSplit | 25 |
ProfileDescription | sRGB IEC61966-2.1 |
RedHue | 0 |
RedSaturation | 0 |
Rights | Nanna Egidius |
Saturation (2) | 0 |
Saturation | Normal |
SaturationAdjustmentAqua | 0 |
SaturationAdjustmentBlue | 0 |
SaturationAdjustmentGreen | 0 |
SaturationAdjustmentMagenta | 0 |
SaturationAdjustmentOrange | 0 |
SaturationAdjustmentPurple | 0 |
SaturationAdjustmentRed | 0 |
SaturationAdjustmentYellow | 0 |
ScaleFactor35efl | 1.5 |
SceneCaptureType | Standard |
SceneType | Directly photographed |
SensingMethod | One-chip color area |
Shadows | 43 |
ShadowTint | 0 |
SharpenDetail | 50 |
SharpenEdgeMasking | 0 |
SharpenRadius | +1.0 |
Sharpness (2) | 0 |
Sharpness | Normal |
ShutterSpeed | 1/250 |
ShutterSpeedValue | 1/250 |
Software | Adobe Photoshop CS3 Windows |
SplitToningBalance | 0 |
SplitToningHighlightHue | 0 |
SplitToningHighlightSaturation | 0 |
SplitToningShadowHue | 0 |
SplitToningShadowSaturation | 0 |
SubjectDistanceRange | Macro |
Tint | +75 |
ToneCurve | 0, 0, 255, 255 |
ToneCurveName | Linear |
URL_List | |
Version | 1.0 |
Vibrance | +50 |
VignetteAmount | 0 |
WhiteBalance (2) | Custom |
WhiteBalance | Auto |