Felt | Verdi |
AlreadyApplied | True |
Aperture | 8.0 |
ApertureValue | 8.0 |
Artist | Kurt Gaasoe |
BitsPerSample | 8 |
BlueHue | 0 |
BlueSaturation | 0 |
Brightness | +50 |
By-line | Kurt Gaasoe |
CameraProfile | ACR 3.6 |
ChromaticAberrationB | 0 |
ChromaticAberrationR | 0 |
CircleOfConfusion | 0.019 mm |
Clarity | 74 |
ColorComponents | 3 |
ColorMode | RGB |
ColorNoiseReduction | 25 |
ColorSpace (1) | Unknown (-1) |
ColorSpace | Uncalibrated |
ColorTemperature | 5085 |
Contrast | +25 |
ConvertToGrayscale | False |
Copyright | Kurt Gaasoe |
CopyrightFlag | False |
CopyrightNotice | Kurt Gaasoe |
CreateDate (1) | 2008:02:17 15:42:27+01:00 |
CreateDate | 2008:02:17 15:42:27 |
Creator | Kurt Gaasoe |
CreatorAddress | Lille Bislett 2 |
CreatorCity | Oslo |
CreatorCountry | Norway |
CreatorPostalCode | 0170 |
CreatorRegion | Oslo |
CreatorTool | Adobe Photoshop CS2 Macintosh |
CreatorWorkEmail | goga@online.no |
CropAngle | 0 |
CropBottom | 0.80885 |
CropHeight | 1996 |
CropLeft | 0 |
CropRight | 1 |
CropTop | 0.038937 |
CropUnit | pixels |
CropWidth | 3888 |
CustomRendered | Normal |
DateTimeDigitized | 2008:02:17 15:42:27+01:00 |
DateTimeOriginal (1) | 2008:02:17 15:42:27+01:00 |
DateTimeOriginal | 2008:02:17 15:42:27 |
Defringe | 0 |
ExifImageHeight | 657 |
ExifImageWidth | 1280 |
Exposure | 0.00 |
ExposureCompensation | 0 |
ExposureMode | Manual |
ExposureProgram | Manual |
ExposureTime | 1/15 |
FillLight | 0 |
Firmware | 1.0.4 |
Flash | Off, Did not fire |
FlashCompensation | 0 |
FlashFired | False |
FlashFunction | False |
FlashMode | Off |
FlashRedEyeMode | False |
FlashReturn | No return detection |
FNumber | 8.0 |
FocalLength | 143.0 mm |
FocalLength35efl | 143.0 mm (35 mm equivalent: 231.4 mm) |
Format | image/jpeg |
FOV | 8.9 deg |
GreenHue | 0 |
GreenSaturation | 0 |
HasCrop | True |
HasSettings | True |
HighlightRecovery | 0 |
HueAdjustmentAqua | 0 |
HueAdjustmentBlue | 0 |
HueAdjustmentGreen | 0 |
HueAdjustmentMagenta | 0 |
HueAdjustmentOrange | 0 |
HueAdjustmentPurple | 0 |
HueAdjustmentRed | 0 |
HueAdjustmentYellow | 0 |
HyperfocalDistance | 137.68 m |
ICCProfileName | Adobe RGB (1998) |
ImageHeight (1) | 1996 |
ImageHeight | 657 |
ImageNumber | 240 |
ImageSize | 1280x657 |
ImageWidth (1) | 3888 |
ImageWidth | 1280 |
ISO | 200 |
Keywords | Frognerparken, Oslo |
Lens | EF80-200mm f/2.8L |
LensInfo | 80-200mm f/? |
LightValue | 8.9 |
LuminanceAdjustmentAqua | 0 |
LuminanceAdjustmentBlue | 0 |
LuminanceAdjustmentGreen | 0 |
LuminanceAdjustmentMagenta | 0 |
LuminanceAdjustmentOrange | 0 |
LuminanceAdjustmentPurple | 0 |
LuminanceAdjustmentRed | 0 |
LuminanceAdjustmentYellow | 0 |
LuminanceSmoothing | 0 |
Make | Canon |
MaxApertureValue | 2.8 |
Megapixels | 0.841 |
MeteringMode | Multi-segment |
Model | Canon EOS 400D DIGITAL |
ModifyDate (1) | 2008:02:18 10:52:47+01:00 |
ModifyDate | 2008:02:18 10:52:47 |
Orientation | Horizontal (normal) |
OwnerName | unknown |
ParametricDarks | -21 |
ParametricHighlights | 0 |
ParametricHighlightSplit | 75 |
ParametricLights | -50 |
ParametricMidtoneSplit | 50 |
ParametricShadows | -3 |
ParametricShadowSplit | 25 |
ProfileDescription | Adobe RGB (1998) |
Rating | 1 |
RedHue | 0 |
RedSaturation | 0 |
Rights | Kurt Gaasoe |
Saturation | 0 |
SaturationAdjustmentAqua | 0 |
SaturationAdjustmentBlue | 0 |
SaturationAdjustmentGreen | 0 |
SaturationAdjustmentMagenta | 0 |
SaturationAdjustmentOrange | 0 |
SaturationAdjustmentPurple | 0 |
SaturationAdjustmentRed | 0 |
SaturationAdjustmentYellow | 0 |
ScaleFactor35efl | 1.6 |
SceneCaptureType | Standard |
SerialNumber | 530167206 |
Shadows | 1 |
ShadowTint | 0 |
SharpenDetail | 25 |
SharpenEdgeMasking | 0 |
SharpenRadius | +1.0 |
Sharpness | 25 |
ShutterSpeed | 1/15 |
ShutterSpeedValue | 1/15 |
Software | Adobe Photoshop CS2 Macintosh |
SplitToningBalance | 0 |
SplitToningHighlightHue | 0 |
SplitToningHighlightSaturation | 0 |
SplitToningShadowHue | 0 |
SplitToningShadowSaturation | 0 |
Subject | Frognerparken, Oslo |
Tint | +19 |
ToneCurve | 0, 0, 32, 22, 64, 56, 128, 128, 192, 196, 255, 255 |
ToneCurveName | Medium Contrast |
URL_List | |
Version | 1.0 |
Vibrance | +21 |
VignetteAmount | 0 |
WhiteBalance (2) | Custom |
WhiteBalance | Auto |