Felt | Verdi |
AlreadyApplied | True |
Aperture | 3.7 |
ApertureValue | 3.7 |
BitsPerSample (1) | 8, 8, 8 |
BitsPerSample | 8 |
BlueHue | 0 |
BlueSaturation | 0 |
Brightness | +65 |
CameraProfile | ACR 3.5 |
ChromaticAberrationB | 0 |
ChromaticAberrationR | 0 |
Clarity | 0 |
ColorComponents | 3 |
ColorMode | RGB |
ColorNoiseReduction | 25 |
ColorSpace (1) | Unknown (-1) |
ColorSpace | Uncalibrated |
ColorTemperature | 5550 |
Contrast | +35 |
ConvertToGrayscale | False |
CopyrightFlag | False |
CreateDate (1) | 2008:02:11 00:29:57+01:00 |
CreateDate | 2007:08:17 21:34:07 |
CreatorTool | Adobe Photoshop CS3 Macintosh |
DateTimeDigitized | 2007:08:17 21:34:07+02:00 |
DateTimeOriginal (1) | 2007:08:17 21:34:07+02:00 |
DateTimeOriginal | 2007:08:17 21:34:07 |
Defringe | 0 |
ExifImageHeight | 768 |
ExifImageWidth | 928 |
Exposure | -0.95 |
ExposureCompensation | 0 |
ExposureProgram | Program AE |
ExposureTime | 1/40 |
FillLight | 6 |
Flash | Off, Did not fire |
FlashFired | False |
FlashFunction | False |
FlashMode | Off |
FlashRedEyeMode | False |
FlashReturn | No return detection |
FNumber | 3.7 |
FocalLength | 88.8 mm |
FocalLength35efl | 88.8 mm |
Format | image/jpeg |
GreenHue | 0 |
GreenSaturation | 0 |
HasCrop | False |
HasSettings | True |
HighlightRecovery | 86 |
HueAdjustmentAqua | 0 |
HueAdjustmentBlue | 0 |
HueAdjustmentGreen | 0 |
HueAdjustmentMagenta | 0 |
HueAdjustmentOrange | 0 |
HueAdjustmentPurple | 0 |
HueAdjustmentRed | 0 |
HueAdjustmentYellow | 0 |
ICCProfileName | Adobe RGB (1998) |
ImageHeight (1) | 3020 |
ImageHeight | 768 |
ImageSize | 928x768 |
ImageWidth (1) | 3648 |
ImageWidth | 928 |
ISO | 100 |
LightValue | 9.1 |
LuminanceAdjustmentAqua | 0 |
LuminanceAdjustmentBlue | 0 |
LuminanceAdjustmentGreen | 0 |
LuminanceAdjustmentMagenta | 0 |
LuminanceAdjustmentOrange | 0 |
LuminanceAdjustmentPurple | 0 |
LuminanceAdjustmentRed | 0 |
LuminanceAdjustmentYellow | 0 |
LuminanceSmoothing | 0 |
Make | LEICA |
MaxApertureValue | 2.8 |
Megapixels | 0.713 |
MeteringMode | Multi-segment |
Model | V-LUX 1 |
ModifyDate (1) | 2008:02:11 00:29:58+01:00 |
ModifyDate | 2008:02:11 00:29:58 |
Orientation | Horizontal (normal) |
ParametricDarks | 0 |
ParametricHighlights | 0 |
ParametricHighlightSplit | 75 |
ParametricLights | 0 |
ParametricMidtoneSplit | 50 |
ParametricShadows | 0 |
ParametricShadowSplit | 25 |
PhotometricInterpretation | RGB |
PlanarConfiguration | Chunky |
ProfileDescription | Adobe RGB (1998) |
Rating | 0 |
RawFileName | L1000888.RAW |
RedHue | 0 |
RedSaturation | 0 |
SamplesPerPixel | 3 |
Saturation | -65 |
SaturationAdjustmentAqua | 0 |
SaturationAdjustmentBlue | 0 |
SaturationAdjustmentGreen | 0 |
SaturationAdjustmentMagenta | 0 |
SaturationAdjustmentOrange | 0 |
SaturationAdjustmentPurple | 0 |
SaturationAdjustmentRed | 0 |
SaturationAdjustmentYellow | 0 |
Shadows | 70 |
ShadowTint | 0 |
SharpenDetail | 25 |
SharpenEdgeMasking | 0 |
SharpenRadius | +1.0 |
Sharpness | 25 |
ShutterSpeed | 1/40 |
ShutterSpeedValue | 1/40 |
SidecarForExtension | RAW |
Software | Adobe Photoshop CS3 Macintosh |
SplitToningBalance | 0 |
SplitToningHighlightHue | 0 |
SplitToningHighlightSaturation | 0 |
SplitToningShadowHue | 0 |
SplitToningShadowSaturation | 0 |
Tint | -16 |
ToneCurve | 0, 0, 32, 22, 64, 56, 128, 128, 192, 196, 255, 255 |
ToneCurveName | Medium Contrast |
URL_List | |
Version | 4.3.1 |
Vibrance | 0 |
VignetteAmount | 0 |
WhiteBalance | As Shot |