Felt | Verdi |
AlreadyApplied | True |
Aperture | 8.0 |
ApertureValue | 8.0 |
BitsPerSample (1) | 8, 8, 8 |
BitsPerSample | 8 |
BlueHue | 0 |
BlueSaturation | 0 |
Brightness | 0 |
CameraProfile | ACR 2.4 |
ChromaticAberrationB | 0 |
ChromaticAberrationR | 0 |
CircleOfConfusion | 0.030 mm |
Clarity | 78 |
ColorComponents | 3 |
ColorNoiseReduction | 25 |
ColorSpace | Uncalibrated |
ColorTemperature | 3596 |
Contrast | +17 |
ConvertToGrayscale | False |
CopyrightFlag | False |
CreateDate (1) | 2008:01:01 22:11:23+01:00 |
CreateDate | 2006:07:21 19:58:23 |
CreatorTool | Adobe Photoshop CS Macintosh |
CropAngle | 1.109333 |
CropBottom | 1 |
CropHeight | 2858 |
CropLeft | 0.27218 |
CropRight | 0.913518 |
CropTop | 0 |
CropUnit | pixels |
CropWidth | 2858 |
CustomRendered | Normal |
DateTimeDigitized | 2006:07:21 19:58:23+01:00 |
DateTimeOriginal (1) | 2006:07:21 19:58:23+01:00 |
DateTimeOriginal | 2006:07:21 19:58:23 |
Defringe | 0 |
ExifImageHeight | 768 |
ExifImageWidth | 768 |
Exposure | +0.26 |
ExposureCompensation | -4/3 |
ExposureMode | Auto |
ExposureProgram | Aperture-priority AE |
ExposureTime | 1/4000 |
FillLight | 72 |
Firmware | 1.0.4 |
Flash | Off, Did not fire |
FlashCompensation | 0 |
FlashFired | False |
FlashFunction | False |
FlashMode | Off |
FlashRedEyeMode | False |
FlashReturn | No return detection |
FNumber | 8.0 |
FocalLength | 24.0 mm |
FocalLength35efl | 24.0 mm (35 mm equivalent: 24.0 mm) |
Format | image/jpeg |
FOV | 73.6 deg |
GreenHue | 0 |
GreenSaturation | 0 |
HasCrop | True |
HasSettings | True |
HighlightRecovery | 100 |
HueAdjustmentAqua | 0 |
HueAdjustmentBlue | 0 |
HueAdjustmentGreen | 0 |
HueAdjustmentMagenta | 0 |
HueAdjustmentOrange | 0 |
HueAdjustmentPurple | 0 |
HueAdjustmentRed | 0 |
HueAdjustmentYellow | 0 |
HyperfocalDistance | 2.40 m |
ImageHeight (1) | 2858 |
ImageHeight | 768 |
ImageNumber | 11 |
ImageSize | 768x768 |
ImageWidth (1) | 2858 |
ImageWidth | 768 |
ISO | 400 |
Lens | EF24mm f/1.4L USM |
LensInfo | 24mm f/? |
LightValue | 16.0 |
LuminanceAdjustmentAqua | 0 |
LuminanceAdjustmentBlue | 0 |
LuminanceAdjustmentGreen | 0 |
LuminanceAdjustmentMagenta | 0 |
LuminanceAdjustmentOrange | 0 |
LuminanceAdjustmentPurple | 0 |
LuminanceAdjustmentRed | 0 |
LuminanceAdjustmentYellow | 0 |
LuminanceSmoothing | 0 |
Make | Canon |
MaxApertureValue | 1.4 |
Megapixels | 0.590 |
MeteringMode | Unknown |
Model | Canon EOS 5D |
ModifyDate (1) | 2008:01:01 22:11:23+01:00 |
ModifyDate | 2008:01:01 22:11:23 |
Orientation | Horizontal (normal) |
ParametricDarks | -15 |
ParametricHighlights | +9 |
ParametricHighlightSplit | 75 |
ParametricLights | +9 |
ParametricMidtoneSplit | 50 |
ParametricShadows | -4 |
ParametricShadowSplit | 25 |
PhotometricInterpretation | RGB |
ProfileDescription | sRGB Profile |
ProfileDescriptionML | sRGB Profile |
ProfileDescriptionML-da-DK | sRGB-beskrivelse |
ProfileDescriptionML-de-DE | sRGB-Profil |
ProfileDescriptionML-es-ES | Perfil sRGB |
ProfileDescriptionML-fi-FI | sRGB-profiili |
ProfileDescriptionML-fr-FU | Profil sRVB |
ProfileDescriptionML-it-IT | Profilo sRGB |
ProfileDescriptionML-ja-JP | sRGB プロファイル |
ProfileDescriptionML-ko-KR | sRGB 프로파일 |
ProfileDescriptionML-nl-NL | sRGB-profiel |
ProfileDescriptionML-no-NO | sRGB-profil |
ProfileDescriptionML-pt-BR | Perfil sRGB |
ProfileDescriptionML-sv-SE | sRGB-profil |
ProfileDescriptionML-zh-CN | sRGB 描述文件 |
ProfileDescriptionML-zh-TW | sRGB 色彩描述 |
Rating | 4 |
RedHue | 0 |
RedSaturation | 0 |
SamplesPerPixel | 3 |
Saturation | 0 |
SaturationAdjustmentAqua | 0 |
SaturationAdjustmentBlue | 0 |
SaturationAdjustmentGreen | 0 |
SaturationAdjustmentMagenta | 0 |
SaturationAdjustmentOrange | 0 |
SaturationAdjustmentPurple | 0 |
SaturationAdjustmentRed | 0 |
SaturationAdjustmentYellow | 0 |
ScaleFactor35efl | 1.0 |
SceneCaptureType | Standard |
SerialNumber | 930606403 |
Shadows | 1 |
ShadowTint | 0 |
SharpenDetail | 25 |
SharpenEdgeMasking | 0 |
SharpenRadius | +1.0 |
Sharpness | 78 |
ShutterSpeed | 1/4000 |
ShutterSpeedValue | 1/4000 |
Software | Adobe Photoshop CS Macintosh |
SplitToningBalance | 0 |
SplitToningHighlightHue | 0 |
SplitToningHighlightSaturation | 0 |
SplitToningShadowHue | 0 |
SplitToningShadowSaturation | 0 |
Tint | +41 |
ToneCurve | 0, 0, 32, 22, 64, 56, 128, 128, 192, 196, 255, 255 |
ToneCurveName | Medium Contrast |
URL_List | |
Version | 1.0 |
Vibrance | 0 |
VignetteAmount | 0 |
WhiteBalance (1) | Custom |
WhiteBalance | Auto |