Felt | Verdi |
AlreadyApplied | True |
Aperture | 7.1 |
ApertureValue | 7.1 |
Artist | Sigurd Haugan Danielsen |
BitsPerSample (1) | 16, 16, 16 |
BitsPerSample (2) | 8 8 8 |
BitsPerSample | 8 |
BlueHue | 0 |
BlueSaturation | 0 |
Brightness | +50 |
By-line | Sigurd Haugan Danielsen |
CameraProfile | ACR 2.4 |
ChromaticAberrationB | 0 |
ChromaticAberrationR | 0 |
CircleOfConfusion | 0.019 mm |
Clarity | 31 |
ColorComponents | 3 |
ColorMode | RGB |
ColorNoiseReduction | 25 |
ColorSpace | sRGB |
ColorTemperature | 4750 |
Contrast | +25 |
ConvertToGrayscale | False |
Copyright | 2007 Sigurd Haugan Danielsen |
CopyrightFlag | False |
CopyrightNotice | 2007 Sigurd Haugan Danielsen |
CreateDate (1) | 2007:08:22 18:07:28+02:00 |
CreateDate | 2007:03:08 15:01:11 |
Creator | Sigurd Haugan Danielsen |
CreatorAddress | Geiterygglia 39 |
CreatorCity | Skien |
CreatorCountry | Norway |
CreatorPostalCode | N3728 |
CreatorTool | Adobe Photoshop CS2 Windows |
CreatorWorkEmail | sigurdhd@online.no |
CreatorWorkTelephone | +4790848258 |
CropAngle | 0 |
CropBottom | 0.997694 |
CropHeight | 1939 |
CropLeft | 0 |
CropRight | 0.727902 |
CropTop | 0.167548 |
CropUnit | pixels |
CropWidth | 2551 |
CustomRendered | Normal |
DateTimeDigitized | 2007:03:08 15:01:11+01:00 |
DateTimeOriginal (1) | 2007:03:08 15:01:11+01:00 |
DateTimeOriginal | 2007:03:08 15:01:11 |
Defringe | 0 |
ExifImageHeight | 722 |
ExifImageWidth | 950 |
Exposure | +0.24 |
ExposureCompensation | 0 |
ExposureMode | Manual |
ExposureProgram | Manual |
ExposureTime | 1/320 |
FillLight | 0 |
Firmware | 1.1.0 |
Flash | Off, Did not fire |
FlashCompensation | 0 |
FlashFired | False |
FlashFunction | False |
FlashMode | Off |
FlashRedEyeMode | False |
FlashReturn | No return detection |
FNumber | 7.1 |
FocalLength | 420.0 mm |
FocalLength35efl | 420.0 mm (35 mm equivalent: 672.6 mm) |
Format | image/jpeg |
FOV | 3.1 deg |
GreenHue | 0 |
GreenSaturation | 0 |
HasCrop | True |
HasSettings | True |
HierarchicalSubject | Tanzania |
HighlightRecovery | 0 |
HueAdjustmentAqua | 0 |
HueAdjustmentBlue | 0 |
HueAdjustmentGreen | -1 |
HueAdjustmentMagenta | 0 |
HueAdjustmentOrange | 0 |
HueAdjustmentPurple | 0 |
HueAdjustmentRed | 0 |
HueAdjustmentYellow | 0 |
HyperfocalDistance | 1324.27 m |
ICCProfileName | sRGB IEC61966-2.1 |
ImageHeight (1) | 1939 |
ImageHeight | 722 |
ImageNumber | 253 |
ImageSize | 950x722 |
ImageWidth (1) | 2551 |
ImageWidth | 950 |
ISO | 400 |
Keywords | Tanzania |
Lens | 300.0 mm |
LensInfo | 300mm f/? |
LightValue | 12.0 |
Location | |
LuminanceAdjustmentAqua | 0 |
LuminanceAdjustmentBlue | 0 |
LuminanceAdjustmentGreen | 0 |
LuminanceAdjustmentMagenta | 0 |
LuminanceAdjustmentOrange | 0 |
LuminanceAdjustmentPurple | 0 |
LuminanceAdjustmentRed | 0 |
LuminanceAdjustmentYellow | 0 |
LuminanceSmoothing | 35 |
Make | Canon |
MaxApertureValue | 5.6 |
Megapixels | 0.686 |
MeteringMode | Partial |
Model | Canon EOS 20D |
ModifyDate (1) | 2007:08:22 18:07:28+02:00 |
ModifyDate | 2007:08:22 18:07:28 |
Orientation | Horizontal (normal) |
OwnerName | unknown |
ParametricDarks | -2 |
ParametricHighlights | 0 |
ParametricHighlightSplit | 75 |
ParametricLights | +12 |
ParametricMidtoneSplit | 50 |
ParametricShadows | 0 |
ParametricShadowSplit | 25 |
PhotometricInterpretation | RGB |
PlanarConfiguration | Chunky |
ProfileDescription | sRGB IEC61966-2.1 |
RedHue | 0 |
RedSaturation | 0 |
Rights | 2007 Sigurd Haugan Danielsen |
SamplesPerPixel | 3 |
Saturation | +15 |
SaturationAdjustmentAqua | 0 |
SaturationAdjustmentBlue | 0 |
SaturationAdjustmentGreen | 0 |
SaturationAdjustmentMagenta | 0 |
SaturationAdjustmentOrange | 0 |
SaturationAdjustmentPurple | 0 |
SaturationAdjustmentRed | 0 |
SaturationAdjustmentYellow | 0 |
ScaleFactor35efl | 1.6 |
SceneCaptureType | Standard |
SerialNumber | 730402257 |
Shadows | 7 |
ShadowTint | 0 |
SharpenDetail | 25 |
SharpenEdgeMasking | 0 |
SharpenRadius | +1.0 |
Sharpness | 0 |
ShutterSpeed | 1/320 |
ShutterSpeedValue | 1/320 |
Software | Adobe Photoshop CS2 Windows |
SplitToningBalance | 0 |
SplitToningHighlightHue | 0 |
SplitToningHighlightSaturation | 0 |
SplitToningShadowHue | 0 |
SplitToningShadowSaturation | 0 |
Subject | Tanzania |
Tint | +24 |
ToneCurve | 0, 0, 32, 22, 64, 56, 128, 128, 192, 196, 255, 255 |
ToneCurveName | Medium Contrast |
URL_List | |
Version | 1.0 |
Vibrance | 0 |
VignetteAmount | 0 |
WhiteBalance (2) | As Shot |
WhiteBalance | Auto |