Felt | Verdi |
AlreadyApplied | True |
Aperture | 13.0 |
ApertureValue | 13.0 |
Artist | Stener Widnes |
AuthorsPosition | Mngr. |
BitsPerSample | 8 |
BlueHue | 0 |
BlueSaturation | 0 |
Brightness | +50 |
By-line | Stener Widnes |
By-lineTitle | Mngr. |
CameraProfile | ACR 3.3 |
ChromaticAberrationB | 0 |
ChromaticAberrationR | 0 |
CircleOfConfusion | 0.030 mm |
ColorComponents | 3 |
ColorMode | RGB |
ColorNoiseReduction | 25 |
ColorSpace | sRGB |
ColorTemperature | 5550 |
Contrast | +25 |
ConvertToGrayscale | False |
Copyright | Stener Widnes |
CopyrightFlag | False |
CopyrightNotice | Stener Widnes |
CreateDate (1) | 2007:06:20 17:58:56+02:00 |
CreateDate | 2007:06:20 17:58:56 |
Creator | Stener Widnes |
CreatorAddress | Østbyåsen 3 |
CreatorCity | Filtvet |
CreatorCountry | Norway |
CreatorPostalCode | 3480 |
CreatorTool | Adobe Photoshop Elements 5.0 (20060914.r.77) Windows |
CreatorWorkEmail | bilde@widnesfoto.no |
CreatorWorkTelephone | +47 94 42 42 42 |
CreatorWorkURL | www.widnesfoto.no |
CropAngle | 0 |
CropBottom | 1 |
CropHeight | 2912 |
CropLeft | 0.246171 |
CropRight | 0.690616 |
CropTop | 0 |
CropUnit | pixels |
CropWidth | 1941 |
CustomRendered | Normal |
DateTimeDigitized | 2007:06:20 17:58:56+02:00 |
DateTimeOriginal (1) | 2007:06:20 17:58:56+02:00 |
DateTimeOriginal | 2007:06:20 17:58:56 |
ExifImageHeight | 630 |
ExifImageWidth | 945 |
Exposure | -0.24 |
ExposureCompensation | 0 |
ExposureMode | Manual |
ExposureProgram | Manual |
ExposureTime | 1/180 |
FillLight | 0 |
Firmware | 1.1.0 |
Flash | On, Fired |
FlashCompensation | 0 |
FlashFired | True |
FlashFunction | False |
FlashMode | On |
FlashRedEyeMode | False |
FlashReturn | No return detection |
FNumber | 13.0 |
FocalLength | 65.0 mm |
FocalLength35efl | 65.0 mm (35 mm equivalent: 65.1 mm) |
Format | image/jpeg |
FOV | 30.9 deg |
GreenHue | 0 |
GreenSaturation | 0 |
HasCrop | True |
HasSettings | True |
HighlightRecovery | 47 |
HueAdjustmentAqua | 0 |
HueAdjustmentBlue | 0 |
HueAdjustmentGreen | 0 |
HueAdjustmentMagenta | 0 |
HueAdjustmentOrange | 0 |
HueAdjustmentPurple | 0 |
HueAdjustmentRed | 0 |
HueAdjustmentYellow | 0 |
HyperfocalDistance | 10.84 m |
ICCProfileName | sRGB IEC61966-2.1 |
ImageHeight (1) | 1941 |
ImageHeight | 630 |
ImageNumber | 3 |
ImageSize | 945x630 |
ImageWidth (1) | 2912 |
ImageWidth | 945 |
ISO | 100 |
Keywords | Dyr, Makro |
Lens | MP-E65mm f/2.8 1-5x Macro Photo |
LensInfo | 65mm f/? |
LightValue | 14.9 |
LuminanceAdjustmentAqua | 0 |
LuminanceAdjustmentBlue | 0 |
LuminanceAdjustmentGreen | 0 |
LuminanceAdjustmentMagenta | 0 |
LuminanceAdjustmentOrange | 0 |
LuminanceAdjustmentPurple | 0 |
LuminanceAdjustmentRed | 0 |
LuminanceAdjustmentYellow | 0 |
LuminanceSmoothing | 0 |
Make | Canon |
MaxApertureValue | 2.8 |
Megapixels | 0.595 |
MeteringMode | Multi-segment |
Model | Canon EOS 5D |
ModifyDate (1) | 2007:06:21 00:54:04+02:00 |
ModifyDate | 2007:06:21 00:54:04 |
Orientation | Horizontal (normal) |
OwnerName | Copyright Stener Widnes, Norway |
ParametricDarks | 0 |
ParametricHighlights | 0 |
ParametricHighlightSplit | 75 |
ParametricLights | 0 |
ParametricMidtoneSplit | 50 |
ParametricShadows | 0 |
ParametricShadowSplit | 25 |
PrivateRTKInfo | cHJpdmF0ZVJUS0luZm8gPSB7Cgl7CgkJZmxhdCA9IHsKCQkJIkR5ciIsCgkJfSwKCQlwYXRoID0gewoJCQkiRHlyIiwKCQl9LAoJCXByaW1hcnkgPSAiRHlyIiwKCQl1dWlkID0gIjZDNjMyN0E1LTFDNzktNDMzNi1BQTNFLTI5NDU2RUUxOUJFOSIsCgl9LAoJewoJCWZsYXQgPSB7CgkJCSJNYWtybyIsCgkJfSwKCQlwYXRoID0gewoJCQkiTWFrcm8iLAoJCX0sCgkJcHJpbWFyeSA9ICJNYWtybyIsCgkJdXVpZCA9ICJFODI1NkI1OS0zQkRCLTRCMDAtQjg0Qi0xN0U0Q0VBRjY5MEUiLAoJfSwKfQo= |
ProfileDescription | sRGB IEC61966-2.1 |
RedHue | 0 |
RedSaturation | 0 |
Rights | Stener Widnes |
Saturation | -8 |
SaturationAdjustmentAqua | 0 |
SaturationAdjustmentBlue | 0 |
SaturationAdjustmentGreen | 0 |
SaturationAdjustmentMagenta | 0 |
SaturationAdjustmentOrange | 0 |
SaturationAdjustmentPurple | 0 |
SaturationAdjustmentRed | 0 |
SaturationAdjustmentYellow | 0 |
ScaleFactor35efl | 1.0 |
SceneCaptureType | Standard |
SerialNumber | 530310427 |
Shadows | 5 |
ShadowTint | 0 |
Sharpness | 25 |
ShutterSpeed | 1/180 |
ShutterSpeedValue | 1/180 |
Software | Adobe Photoshop Elements 5.0 (20060914.r.77) Windows |
SplitToningBalance | 0 |
SplitToningHighlightHue | 0 |
SplitToningHighlightSaturation | 0 |
SplitToningShadowHue | 0 |
SplitToningShadowSaturation | 0 |
Subject | Dyr, Makro |
Tint | -6 |
ToneCurve | 0, 0, 32, 22, 64, 56, 128, 128, 192, 196, 255, 255 |
ToneCurveName | Medium Contrast |
URL_List | |
UsageTerms | |
Version | 1.0 |
Vibrance | +20 |
VignetteAmount | 0 |
WhiteBalance (2) | As Shot |
WhiteBalance | Manual |