Felt | Verdi |
AlreadyApplied | True |
Aperture | 3.5 |
ApertureValue | 3.5 |
BitsPerSample | 8 |
BlueHue | 0 |
BlueSaturation | 0 |
Brightness | +50 |
By-line | Eivind Sjursen |
CameraProfile | ACR 3.6 |
CFAPattern | [Green,Blue][Red,Green] |
ChromaticAberrationB | 0 |
ChromaticAberrationR | 0 |
CircleOfConfusion | 0.020 mm |
ColorComponents | 3 |
ColorNoiseReduction | 25 |
ColorTemperature | 2000 |
Contrast (2) | +25 |
Contrast | Low |
ConvertToGrayscale | False |
Copyright | Eivind Sjursen |
CopyrightNotice | Eivind Sjursen |
CreateDate | 2007:05:11 18:42:43 |
Creator | Eivind Sjursen |
CreatorAddress | Tormodsveg 7 |
CreatorCity | Haugesund |
CreatorCountry | Norway |
CreatorPostalCode | 5518 |
CreatorRegion | Rogaland |
CreatorTool | Adobe Photoshop Lightroom |
CreatorWorkEmail | steelyj0@gmail.com |
CreatorWorkTelephone | 98477507 |
CreatorWorkURL | sjurfoto.googlepages.com |
CustomRendered | Normal |
DateTimeDigitized | 2007:05:11 18:42:43.20+02:00 |
DateTimeOriginal (1) | 2007:05:11 18:42:43.20+02:00 |
DateTimeOriginal | 2007:05:11 18:42:43 |
DigitalZoomRatio | 1 |
Exposure | -1.27 |
ExposureCompensation | 0 |
ExposureMode | Auto |
ExposureProgram | Not Defined |
ExposureTime | 1/100 |
FillLight | 36 |
Flash | Auto, Fired, Return detected |
FlashFired | True |
FlashFunction | False |
FlashMode | Auto |
FlashRedEyeMode | False |
FlashReturn | Return detected |
FNumber | 3.5 |
FocalLength | 18.0 mm |
FocalLength35efl | 18.0 mm (35 mm equivalent: 27.0 mm) |
FocalLengthIn35mmFormat | 27 mm |
FOV | 67.4 deg |
GainControl | None |
GreenHue | 0 |
GreenSaturation | 0 |
HasCrop | False |
HasSettings | True |
HighlightRecovery | 49 |
HueAdjustmentAqua | 0 |
HueAdjustmentBlue | 0 |
HueAdjustmentGreen | 0 |
HueAdjustmentMagenta | +100 |
HueAdjustmentOrange | +100 |
HueAdjustmentPurple | +100 |
HueAdjustmentRed | +100 |
HueAdjustmentYellow | 0 |
HyperfocalDistance | 4.62 m |
ImageHeight | 669 |
ImageNumber | 5513 |
ImageSize | 1000x669 |
ImageWidth | 1000 |
ISO | 200 |
Keywords | blod |
Lens | 18.0-200.0 mm f/3.5-6.3 |
LensInfo | 18-200mm f/3.5-6.3 |
LightSource | Unknown |
LightValue | 9.3 |
LuminanceAdjustmentAqua | 0 |
LuminanceAdjustmentBlue | 0 |
LuminanceAdjustmentGreen | 0 |
LuminanceAdjustmentMagenta | 0 |
LuminanceAdjustmentOrange | 0 |
LuminanceAdjustmentPurple | 0 |
LuminanceAdjustmentRed | 0 |
LuminanceAdjustmentYellow | 0 |
LuminanceSmoothing | 0 |
Make | NIKON CORPORATION |
MaxApertureValue | 3.5 |
Megapixels | 0.669 |
MeteringMode | Multi-segment |
Model | NIKON D80 |
ModifyDate (1) | 2007:05:12 03:01:58+02:00 |
ModifyDate | 2007:05:12 03:01:58 |
ParametricDarks | +27 |
ParametricHighlights | +100 |
ParametricHighlightSplit | 75 |
ParametricLights | +41 |
ParametricMidtoneSplit | 50 |
ParametricShadows | -86 |
ParametricShadowSplit | 25 |
PrivateRTKInfo | cHJpdmF0ZVJUS0luZm8gPSB7Cgl7CgkJZmxhdCA9IHsKCQkJImJsb2QiLAoJCX0sCgkJcGF0aCA9IHsKCQkJImJsb2QiLAoJCX0sCgkJcHJpbWFyeSA9ICJibG9kIiwKCQl1dWlkID0gIkZCRjNGQzc4LTY2M0UtNEVDQi1CRTFBLTM1NDE0NUZEQTI5QiIsCgl9LAp9Cg== |
ProfileDescription | Adobe RGB (1998) |
RedHue | +17 |
RedSaturation | +31 |
Rights | Eivind Sjursen |
Saturation (2) | +13 |
Saturation | Normal |
SaturationAdjustmentAqua | 0 |
SaturationAdjustmentBlue | 0 |
SaturationAdjustmentGreen | 0 |
SaturationAdjustmentMagenta | 0 |
SaturationAdjustmentOrange | 0 |
SaturationAdjustmentPurple | 0 |
SaturationAdjustmentRed | 0 |
SaturationAdjustmentYellow | 0 |
ScaleFactor35efl | 1.5 |
SceneCaptureType | Standard |
SceneType | Directly photographed |
SensingMethod | One-chip color area |
Shadows | 100 |
ShadowTint | 0 |
Sharpness (2) | 25 |
Sharpness | Normal |
ShutterSpeed | 1/100 |
ShutterSpeedValue | 1/100 |
Software | Ver.1.00 |
SplitToningBalance | 0 |
SplitToningHighlightHue | 360 |
SplitToningHighlightSaturation | 69 |
SplitToningShadowHue | 360 |
SplitToningShadowSaturation | 26 |
Subject | blod |
SubjectDistanceRange | Unknown |
Tint | -150 |
ToneCurve | 0, 0, 32, 22, 64, 56, 128, 128, 192, 196, 255, 255 |
ToneCurveName | Medium Contrast |
Version | 1.0 |
Vibrance | -100 |
VignetteAmount | 0 |
WebStatement | sjurfoto.googlepages.com |
WhiteBalance (2) | Custom |
WhiteBalance | Auto |