Felt | Verdi |
AlreadyApplied | True |
Aperture | 8.0 |
ApertureValue | 8.0 |
Artist | HANS KRISTIAN LEREN |
AutoLateralCA | 1 |
BitsPerSample | 8 |
Blacks2012 | -17 |
BlueHue | 0 |
BlueSaturation | 0 |
BrightnessValue | 8.91 |
By-line | HANS KRISTIAN LEREN |
CameraElevationAngle | -9.6 |
CameraProfile | Adobe Standard |
CameraProfilesApertureValue | 6 |
CameraProfilesAuthor | Adobe |
CameraProfilesAutoScale | False |
CameraProfilesCameraPrettyName | Fujifilm X-T5 |
CameraProfilesCameraRawProfile | True |
CameraProfilesFocalLength | 23 |
CameraProfilesFocusDistance | 10000 |
CameraProfilesLens | XF23mmF2 R WR |
CameraProfilesLensPrettyName | XF23mmF2 R WR |
CameraProfilesMake | FUJIFILM |
CameraProfilesModel | X-T5 |
CameraProfilesPerspectiveModelVersion | 2 |
CameraProfilesPerspectiveModelVignetteModelImageXCenter | 0.495471 |
CameraProfilesPerspectiveModelVignetteModelImageYCenter | 0.498835 |
CameraProfilesPerspectiveModelVignetteModelVignetteModelParam1 | 1 |
CameraProfilesPerspectiveModelVignetteModelVignetteModelPiecewiseParam | 0.000000, 1.000000, 0.216006, 0.965127, 0.305506, 0.933452, 0.374352, 0.902202, 0.432011, 0.870747, 0.483216, 0.843145, 0.529257, 0.815933, 0.571425, 0.784370, 0.611012, 0.761055, 0.648017, 0.761055 |
CameraProfilesProfileName | Camera Settings |
CameraProfilesSensorFormatFactor | 1.539063 |
CameraProfilesUniqueCameraModel | Fujifilm X-T5 |
CircleOfConfusion | 0.020 mm |
Clarity2012 | 0 |
ColorComponents | 3 |
ColorGradeBlending | 50 |
ColorGradeGlobalHue | 0 |
ColorGradeGlobalLum | 0 |
ColorGradeGlobalSat | 0 |
ColorGradeHighlightLum | 0 |
ColorGradeMidtoneHue | 38 |
ColorGradeMidtoneLum | 0 |
ColorGradeMidtoneSat | 7 |
ColorGradeShadowLum | 0 |
ColorNoiseReduction | 25 |
ColorNoiseReductionDetail | 50 |
ColorNoiseReductionSmoothness | 50 |
ColorSpace | sRGB |
ColorTemperature | 5648 |
ColorTransform | YCbCr |
CompatibleVersion | 251920384 |
Contrast2012 | 0 |
Copyright | HANS KRISTIAN LEREN |
CopyrightNotice | HANS KRISTIAN LEREN |
CreateDate (1) | 2023:10:09 10:00:10+02:00 |
CreateDate | 2023:10:09 10:00:10 |
Creator | HANS KRISTIAN LEREN |
CreatorTool | Adobe Lightroom 7.1.2 (Macintosh) |
CropAngle | 3.350632 |
CropBottom | 0.990662 |
CropConstrainToWarp | 0 |
CropLeft | 0.066554 |
CropRight | 0.933446 |
CropTop | 0.009338 |
CurveRefineSaturation | 100 |
CustomRendered | Normal |
DateCreated (1) | 2023:10:09 |
DateCreated | 2023:10:09 10:00:10+02:00 |
DateTimeOriginal | 2023:10:09 10:00:10 |
DefringeGreenAmount | 0 |
DefringeGreenHueHi | 60 |
DefringeGreenHueLo | 40 |
DefringePurpleAmount | 0 |
DefringePurpleHueHi | 70 |
DefringePurpleHueLo | 30 |
Dehaze | 0 |
Exposure2012 | +0.54 |
ExposureCompensation | 0 |
ExposureMode | Manual |
ExposureProgram | Manual |
ExposureTime | 1/500 |
Flash | No Flash |
FNumber | 8.0 |
FocalLength | 23.0 mm |
FocalLength35efl | 23.0 mm (35 mm equivalent: 35.0 mm) |
FocalLengthIn35mmFormat | 35 mm |
Format | image/jpeg |
FOV | 54.4 deg |
FujiRatingAlreadyApplied | True |
GrainAmount | 0 |
GreenHue | 0 |
GreenSaturation | 0 |
HasCrop | True |
HasSettings | True |
HDREditMode | 0 |
Highlights2012 | -3 |
HueAdjustmentAqua | 0 |
HueAdjustmentBlue | 0 |
HueAdjustmentGreen | -8 |
HueAdjustmentMagenta | 0 |
HueAdjustmentOrange | 0 |
HueAdjustmentPurple | 0 |
HueAdjustmentRed | 0 |
HueAdjustmentYellow | 0 |
HyperfocalDistance | 3.35 m |
ImageHeight | 4655 |
ImageSize | 6983x4655 |
ImageWidth | 6983 |
ISO | 125 |
LateralChromaticAberrationCorrectionAlreadyApplied | True |
Lens | XF23mmF2 R WR |
LensInfo | 23mm f/2 |
LensMake | FUJIFILM |
LensManualDistortionAmount | 0 |
LensModel | XF23mmF2 R WR |
LensProfileDistortionScale | 100 |
LensProfileEnable | 1 |
LensProfileIsEmbedded | True |
LensProfileName | Camera Settings |
LensProfileSetup | LensDefaults |
LensProfileVignettingScale | 100 |
LensSerialNumber | 75A12267 |
LightSource | Unknown |
LightValue | 14.6 |
LookAmount | 1 |
LookGroup | Profiles |
LookName | Adobe Color |
LookParametersCameraProfile | Adobe Standard |
LookParametersConvertToGrayscale | False |
LookParametersLookTable | E1095149FDB39D7A057BAB208837E2E1 |
LookParametersProcessVersion | 15.4 |
LookParametersToneCurvePV2012 | 0, 0, 22, 16, 40, 35, 127, 127, 224, 230, 240, 246, 255, 255 |
LookParametersToneCurvePV2012Blue | 0, 0, 255, 255 |
LookParametersToneCurvePV2012Green | 0, 0, 255, 255 |
LookParametersToneCurvePV2012Red | 0, 0, 255, 255 |
LookParametersVersion | 16.1 |
LookSupportsAmount | false |
LookSupportsMonochrome | false |
LookSupportsOutputReferred | false |
LuminanceAdjustmentAqua | 0 |
LuminanceAdjustmentBlue | 0 |
LuminanceAdjustmentGreen | -39 |
LuminanceAdjustmentMagenta | -53 |
LuminanceAdjustmentOrange | +19 |
LuminanceAdjustmentPurple | +90 |
LuminanceAdjustmentRed | +39 |
LuminanceAdjustmentYellow | +43 |
LuminanceSmoothing | 0 |
Make | FUJIFILM |
MaxApertureValue | 2.0 |
Megapixels | 32.5 |
MeteringMode | Spot |
Model | X-T5 |
ModifyDate (1) | 2024:01:09 22:23:08+01:00 |
ModifyDate | 2024:01:09 22:23:08 |
OverrideLookVignette | False |
ParametricDarks | 0 |
ParametricHighlights | 0 |
ParametricHighlightSplit | 75 |
ParametricLights | 0 |
ParametricMidtoneSplit | 50 |
ParametricShadows | 0 |
ParametricShadowSplit | 25 |
PerspectiveAspect | 0 |
PerspectiveHorizontal | 0 |
PerspectiveRotate | 0.0 |
PerspectiveScale | 100 |
PerspectiveUpright | 0 |
PerspectiveVertical | 0 |
PerspectiveX | 0.00 |
PerspectiveY | 0.00 |
PointColors | -1.000000, -1.000000, -1.000000, -1.000000, -1.000000, -1.000000, -1.000000, -1.000000, -1.000000, -1.000000, -1.000000, -1.000000, -1.000000, -1.000000, -1.000000, -1.000000, -1.000000, -1.000000, -1.000000 |
PostCropVignetteAmount | 0 |
ProcessVersion | 15.4 |
ProfileDescription | sRGB IEC61966-2.1 |
RawFileName | DSCF9102.RAF |
RedHue | 0 |
RedSaturation | 0 |
Rights | HANS KRISTIAN LEREN |
Saturation | 0 |
SaturationAdjustmentAqua | +1 |
SaturationAdjustmentBlue | -57 |
SaturationAdjustmentGreen | -44 |
SaturationAdjustmentMagenta | +10 |
SaturationAdjustmentOrange | -16 |
SaturationAdjustmentPurple | -20 |
SaturationAdjustmentRed | +4 |
SaturationAdjustmentYellow | 0 |
ScaleFactor35efl | 1.5 |
SceneCaptureType | Standard |
SceneType | Directly photographed |
SensingMethod | One-chip color area |
SensitivityType | Standard Output Sensitivity |
SerialNumber | 2D006389 |
Shadows2012 | -31 |
ShadowTint | 0 |
SharpenDetail | 25 |
SharpenEdgeMasking | 83 |
SharpenRadius | +1.0 |
Sharpness (1) | 111 |
Sharpness | Normal |
ShutterSpeed | 1/500 |
ShutterSpeedValue | 1/500 |
Software | Adobe Lightroom 7.1.2 (Macintosh) |
SplitToningBalance | 0 |
SplitToningHighlightHue | 49 |
SplitToningHighlightSaturation | 13 |
SplitToningShadowHue | 65 |
SplitToningShadowSaturation | 4 |
SubjectDistanceRange | Unknown |
Texture | 0 |
Tint | +9 |
ToneCurveName2012 | Custom |
ToneCurvePV2012 | 0, 0, 138, 151, 255, 255 |
ToneCurvePV2012Blue | 0, 0, 255, 255 |
ToneCurvePV2012Green | 0, 0, 255, 255 |
ToneCurvePV2012Red | 0, 0, 255, 255 |
Version | 16.1 |
Vibrance | 0 |
VignetteAmount | 0 |
VignetteCorrectionAlreadyApplied | True |
WhiteBalance (1) | Custom |
WhiteBalance | Auto |
Whites2012 | +18 |