Felt | Verdi |
AlreadyApplied | True |
AutoLateralCA | 0 |
BitsPerSample (2) | 8 8 8 |
BitsPerSample (4) | 16, 16, 16 |
BitsPerSample | 16 16 16 |
Blacks2012 | -56 |
BlueHue | 0 |
BlueSaturation | 0 |
CameraProfile | Embedded |
ChromaticityChannel1 | 0.7347 0.2653 |
ChromaticityChannel2 | 0.15961 0.84039 |
ChromaticityChannel3 | 0.03661 0.00011 |
ChromaticityChannels | 3 |
ChromaticityColorant | Unknown (0) |
Clarity2012 | +29 |
ColorGradeBlending | 50 |
ColorGradeGlobalHue | 0 |
ColorGradeGlobalLum | 0 |
ColorGradeGlobalSat | 0 |
ColorGradeHighlightLum | 0 |
ColorGradeMidtoneHue | 0 |
ColorGradeMidtoneLum | 0 |
ColorGradeMidtoneSat | 0 |
ColorGradeShadowLum | 0 |
ColorMode | RGB |
ColorNoiseReduction | 0 |
ColorSpace | Uncalibrated |
CompatibleVersion | 234881024 |
Contrast2012 | 0 |
ConvertToGrayscale | True |
CreateDate | 2020:08:22 14:57:27 |
CreatorTool | Adobe Photoshop Lightroom Classic 11.3.1 (Macintosh) |
CropAngle | 0 |
CropBottom | 1 |
CropConstrainToWarp | 0 |
CropLeft | 0 |
CropRight | 1 |
CropTop | 0 |
Dehaze | +18 |
ExifImageHeight | 1393 |
ExifImageWidth | 1083 |
Exposure2012 | +0.25 |
Format | image/tiff |
GrainAmount | 0 |
GrayMixerAqua | +1 |
GrayMixerBlue | -47 |
GrayMixerGreen | 0 |
GrayMixerMagenta | +6 |
GrayMixerOrange | +83 |
GrayMixerPurple | +6 |
GrayMixerRed | 0 |
GrayMixerYellow | +83 |
GreenHue | 0 |
GreenSaturation | 0 |
HasCrop | False |
HasSettings | True |
Highlights2012 | -54 |
ICCProfileName | ProPhoto |
ImageHeight (1) | 697 |
ImageHeight (2) | 349 |
ImageHeight (3) | 175 |
ImageHeight (4) | 4152 |
ImageHeight | 1393 |
ImageSize | 1083x1393 |
ImageWidth (1) | 542 |
ImageWidth (2) | 271 |
ImageWidth (3) | 136 |
ImageWidth (4) | 3095 |
ImageWidth | 1083 |
IncrementalTemperature | 0 |
IncrementalTint | 0 |
LensManualDistortionAmount | 0 |
LensProfileEnable | 0 |
LuminanceSmoothing | 0 |
Megapixels | 1.5 |
ModifyDate (1) | 2023:04:26 19:38:31+02:00 |
ModifyDate | 2023:04:26 19:38:31 |
Orientation | Horizontal (normal) |
OverrideLookVignette | False |
ParametricDarks | 0 |
ParametricHighlights | 0 |
ParametricHighlightSplit | 75 |
ParametricLights | 0 |
ParametricMidtoneSplit | 50 |
ParametricShadows | 0 |
ParametricShadowSplit | 25 |
PerspectiveAspect | 0 |
PerspectiveHorizontal | 0 |
PerspectiveRotate | 0.0 |
PerspectiveScale | 100 |
PerspectiveUpright | 0 |
PerspectiveVertical | 0 |
PerspectiveX | 0.00 |
PerspectiveY | 0.00 |
PhotometricInterpretation | RGB |
PlanarConfiguration | Chunky |
PostCropVignetteAmount | 0 |
PreservedFileName | _MG_2616.tif en tjeld på gimsøysand HALVFERDIG.tif |
ProcessVersion | 11.0 |
ProfileDescription | ProPhoto |
RawFileName | |
RedHue | 0 |
RedSaturation | 0 |
RowsPerStrip (1) | 697 |
RowsPerStrip (2) | 349 |
RowsPerStrip (3) | 175 |
RowsPerStrip | 1393 |
SamplesPerPixel | 3 |
Shadows2012 | 0 |
ShadowTint | 0 |
Sharpness | 0 |
Software | Adobe Photoshop 24.4 (Macintosh) |
SplitToningBalance | 0 |
SplitToningHighlightHue | 0 |
SplitToningHighlightSaturation | 0 |
SplitToningShadowHue | 0 |
SplitToningShadowSaturation | 0 |
StripByteCounts (1) | 9051714 |
StripByteCounts (2) | 1133322 |
StripByteCounts (3) | 283737 |
StripByteCounts | 71400 |
StripOffsets (1) | 39694 |
StripOffsets (2) | 9091704 |
StripOffsets (3) | 10225234 |
StripOffsets | 10509180 |
SubfileType (1) | Full-resolution Image |
SubfileType | Reduced-resolution image |
Texture | 0 |
This work is licensed under the Creative Commons Attribution-Share Alike 3.0 United States License. To view a copy of this license, visit http://creativecommons.org/licenses/by-sa/3.0/us/ or send a letter to Creative Commons, 171 Second Street, Suite 300, San Francisco, California, 94105, USA. |
ToneCurveName2012 | Linear |
ToneCurvePV2012 | 0, 0, 255, 255 |
ToneCurvePV2012Blue | 0, 0, 255, 255 |
ToneCurvePV2012Green | 0, 0, 255, 255 |
ToneCurvePV2012Red | 0, 0, 255, 255 |
URL_List | |
Version | 14.3 |
VignetteAmount | 0 |
WhiteBalance | As Shot |
Whites2012 | +1 |