Felt | Verdi |
AlreadyApplied | True |
Aperture | 2.4 |
ApertureValue | 2.4 |
AutoLateralCA | 0 |
BitsPerSample | 8 |
Blacks2012 | 0 |
BlueHue | 0 |
BlueSaturation | 0 |
Brightness | +50 |
BrightnessValue | 10.32503612 |
CameraProfile | Embedded |
CircleOfConfusion | 0.003 mm |
Clarity2012 | +8 |
ColorComponents | 3 |
ColorGradeBlending | 83 |
ColorGradeGlobalHue | 0 |
ColorGradeGlobalLum | 0 |
ColorGradeGlobalSat | 0 |
ColorGradeHighlightLum | +3 |
ColorGradeMidtoneHue | 0 |
ColorGradeMidtoneLum | -25 |
ColorGradeMidtoneSat | 0 |
ColorGradeShadowLum | +16 |
ColorNoiseReduction | 21 |
ColorNoiseReductionDetail | 50 |
ColorNoiseReductionSmoothness | 50 |
ColorSpace | sRGB |
ColorTransform | YCbCr |
Contrast | +25 |
Contrast2012 | +7 |
ConvertToGrayscale | False |
CreateDate (1) | 2023:04:04 18:54:33.880+02:00 |
CreateDate | 2023:04:04 18:54:33 |
CreatorTool | Adobe Lightroom 6.2 (Windows) |
CropAngle | 0 |
CropBottom | 1 |
CropConstrainToWarp | 0 |
CropLeft | 0 |
CropRight | 1 |
CropTop | 0 |
DateCreated (1) | 2023:04:04 |
DateCreated | 2023:04:04 18:54:33.880+02:00 |
DateTimeOriginal | 2023:04:04 18:54:33 |
DefringeGreenAmount | 0 |
DefringeGreenHueHi | 60 |
DefringeGreenHueLo | 40 |
DefringePurpleAmount | 0 |
DefringePurpleHueHi | 70 |
DefringePurpleHueLo | 30 |
Dehaze | +32 |
DigitalZoomRatio | 1.034199726 |
Exposure2012 | -0.07 |
ExposureCompensation | 0 |
ExposureMode | Auto |
ExposureProgram | Program AE |
ExposureTime | 1/2300 |
Flash | Off, Did not fire |
FNumber | 2.4 |
FocalLength | 1.5 mm |
FocalLength35efl | 1.5 mm (35 mm equivalent: 14.0 mm) |
FocalLengthIn35mmFormat | 14 mm |
Format | image/jpeg |
FOV | 104.3 deg |
GPSAltitude | 844.5 m |
GPSDestBearing | 253.4107969 |
GPSDestBearingRef | Magnetic North |
GPSHPositioningError | 4.400443555 m |
GPSImgDirection | 253.41 |
GPSLatitude (1) | 59 deg 30' 52.43" |
GPSLatitude | 59 deg 30' 52.43" N |
GPSLatitudeRef | North |
GPSLongitude (1) | 8 deg 43' 3.40" |
GPSLongitude | 8 deg 43' 3.40" E |
GPSLongitudeRef | East |
GPSPosition | 59 deg 30' 52.43" N, 8 deg 43' 3.40" E |
GPSSpeed | 0 |
GPSSpeedRef | km/h |
GPSVersionID | 2.2.0.0 |
GrainAmount | 0 |
GreenHue | 0 |
GreenSaturation | 0 |
HasCrop | False |
HasSettings | True |
Highlights2012 | -57 |
HueAdjustmentAqua | 0 |
HueAdjustmentBlue | 0 |
HueAdjustmentGreen | 0 |
HueAdjustmentMagenta | 0 |
HueAdjustmentOrange | 0 |
HueAdjustmentPurple | 0 |
HueAdjustmentRed | 0 |
HueAdjustmentYellow | 0 |
HyperfocalDistance | 0.30 m |
ImageHeight | 3333 |
ImageSize | 5000x3333 |
ImageWidth | 5000 |
IncrementalTemperature | -14 |
IncrementalTint | 0 |
ISO | 32 |
Lens | iPhone 13 back dual wide camera 1.54mm f/2.4 |
LensInfo (1) | 1.53999996185121-5.1mm f/1.6-2.4 |
LensInfo | 1.539999962-5.1mm f/1.6-2.4 |
LensMake | Apple |
LensManualDistortionAmount | 0 |
LensModel | iPhone 13 back dual wide camera 1.54mm f/2.4 |
LensProfileEnable | 0 |
LightValue | 15.3 |
LuminanceAdjustmentAqua | 0 |
LuminanceAdjustmentBlue | 0 |
LuminanceAdjustmentGreen | 0 |
LuminanceAdjustmentMagenta | 0 |
LuminanceAdjustmentOrange | +18 |
LuminanceAdjustmentPurple | 0 |
LuminanceAdjustmentRed | 0 |
LuminanceAdjustmentYellow | +54 |
LuminanceSmoothing | 0 |
Make | Apple |
Megapixels | 16.7 |
MeteringMode | Multi-segment |
Model | iPhone 13 |
ModifyDate (1) | 2023:04:04 23:54:08+02:00 |
ModifyDate | 2023:04:04 23:54:08 |
OverrideLookVignette | False |
ParametricDarks | 0 |
ParametricHighlights | 0 |
ParametricHighlightSplit | 75 |
ParametricLights | 0 |
ParametricMidtoneSplit | 50 |
ParametricShadows | 0 |
ParametricShadowSplit | 25 |
PerspectiveAspect | 0 |
PerspectiveHorizontal | 0 |
PerspectiveRotate | 0.0 |
PerspectiveScale | 100 |
PerspectiveUpright | 0 |
PerspectiveVertical | 0 |
PerspectiveX | 0.00 |
PerspectiveY | 0.00 |
PostCropVignetteAmount | -16 |
PostCropVignetteFeather | 50 |
PostCropVignetteHighlightContrast | 0 |
PostCropVignetteMidpoint | 50 |
PostCropVignetteRoundness | 0 |
PostCropVignetteStyle | 1 |
ProcessVersion | 11.0 |
ProfileDescription | sRGB IEC61966-2.1 |
RawFileName | IMG_4234.jpg |
RedHue | 0 |
RedSaturation | 0 |
Saturation | +12 |
SaturationAdjustmentAqua | 0 |
SaturationAdjustmentBlue | 0 |
SaturationAdjustmentGreen | 0 |
SaturationAdjustmentMagenta | 0 |
SaturationAdjustmentOrange | 0 |
SaturationAdjustmentPurple | 0 |
SaturationAdjustmentRed | 0 |
SaturationAdjustmentYellow | -30 |
ScaleFactor35efl | 9.1 |
SceneCaptureType | Standard |
SceneType | Directly photographed |
SensingMethod | One-chip color area |
Shadows | 5 |
Shadows2012 | +41 |
ShadowTint | 0 |
SharpenDetail | 25 |
SharpenEdgeMasking | 0 |
SharpenRadius | +1.0 |
Sharpness | 26 |
ShutterSpeed | 1/2300 |
ShutterSpeedValue | 1/2300 |
Software | Adobe Lightroom 6.2 (Windows) |
SplitToningBalance | +46 |
SplitToningHighlightHue | 0 |
SplitToningHighlightSaturation | 0 |
SplitToningShadowHue | 0 |
SplitToningShadowSaturation | 0 |
SubjectArea | 2012 1511 2293 1375 |
Texture | +39 |
ToneCurveName2012 | Linear |
ToneCurvePV2012 | 0, 0, 255, 255 |
ToneCurvePV2012Blue | 0, 0, 255, 255 |
ToneCurvePV2012Green | 0, 0, 255, 255 |
ToneCurvePV2012Red | 0, 0, 255, 255 |
Version | 15.2 |
Vibrance | +34 |
VignetteAmount | 0 |
WhiteBalance (1) | Custom |
WhiteBalance | Auto |
Whites2012 | +32 |