Felt | Verdi |
AlreadyApplied | True |
Aperture | 6.3 |
ApertureValue | 6.3 |
AutoLateralCA | 0 |
AutoWhiteVersion | 134348800 |
BitsPerSample | 8 |
Blacks2012 | -41 |
BlueHue | 0 |
BlueSaturation | 0 |
CameraProfile (1) | Camera Standard |
CameraProfile | Adobe Standard |
CFAPattern | [Red,Green][Green,Blue] |
CircleOfConfusion | 0.020 mm |
Clarity2012 | +16 |
ColorComponents | 3 |
ColorNoiseReduction (1) | 7 |
ColorNoiseReduction | 25 |
ColorNoiseReductionDetail | 50 |
ColorNoiseReductionSmoothness | 50 |
ColorSpace | sRGB |
ColorTemperature | 5786 |
Contrast | Normal |
Contrast2012 (1) | 0 |
Contrast2012 | +5 |
ConvertToGrayscale | False |
CreateDate (1) | 2023:01:03 15:27:48.40+02:00 |
CreateDate | 2023:01:03 15:27:48 |
CreatorTool | Windows Photo Editor 10.0.10011.16384 |
CropAngle | -0.075622 |
CropBottom | 0.968772 |
CropConstrainToWarp | 0 |
CropLeft | 0.026062 |
CropRight | 0.983815 |
CropTop | 0.168837 |
CustomRendered | Custom |
DateCreated (1) | 2023:01:03 |
DateCreated | 2023:01:03 15:27:48.40+02:00 |
DateTimeOriginal | 2023:01:03 15:27:48 |
DefringeGreenAmount | 0 |
DefringeGreenHueHi | 60 |
DefringeGreenHueLo | 40 |
DefringePurpleAmount | 0 |
DefringePurpleHueHi | 70 |
DefringePurpleHueLo | 30 |
Exposure2012 (1) | 0.00 |
Exposure2012 | -0.17 |
ExposureCompensation | 0 |
ExposureMode | Auto |
ExposureProgram | Aperture-priority AE |
ExposureTime | 1/250 |
Flash | Off, Did not fire |
FNumber | 6.3 |
FocalLength | 23.0 mm |
FocalLength35efl | 23.0 mm (35 mm equivalent: 34.0 mm) |
FocalLengthIn35mmFormat | 34 mm |
Format | image/jpeg |
FOV | 55.8 deg |
GainControl | None |
GrainAmount | 0 |
GreenHue | 0 |
GreenSaturation | 0 |
HasCrop | True |
HasSettings | True |
Highlights2012 (1) | 0 |
Highlights2012 | -78 |
HueAdjustmentAqua | 0 |
HueAdjustmentBlue | 0 |
HueAdjustmentGreen | 0 |
HueAdjustmentMagenta | 0 |
HueAdjustmentOrange | 0 |
HueAdjustmentPurple | 0 |
HueAdjustmentRed | 0 |
HueAdjustmentYellow | 0 |
HyperfocalDistance | 4.13 m |
ImageHeight | 2117 |
ImageNumber | 579 |
ImageSize | 3627x2117 |
ImageWidth | 3627 |
ISO | 500 |
Lens | NIKKOR Z DX 16-50mm f/3.5-6.3 VR |
LensInfo | 16-50mm f/3.5-6.3 |
LensMake | NIKON |
LensManualDistortionAmount | 0 |
LensModel | NIKKOR Z DX 16-50mm f/3.5-6.3 VR |
LensProfileEnable | 0 |
LensProfileSetup | LensDefaults |
LensSerialNumber | 20200825 |
LightSource | Unknown |
LightValue | 11.0 |
LuminanceAdjustmentAqua | 0 |
LuminanceAdjustmentBlue | 0 |
LuminanceAdjustmentGreen | 0 |
LuminanceAdjustmentMagenta | 0 |
LuminanceAdjustmentOrange | 0 |
LuminanceAdjustmentPurple | 0 |
LuminanceAdjustmentRed | 0 |
LuminanceAdjustmentYellow | 0 |
LuminanceNoiseReductionContrast | 0 |
LuminanceNoiseReductionDetail | 75 |
LuminanceSmoothing (1) | 8 |
LuminanceSmoothing | 0 |
Make | NIKON CORPORATION |
Megapixels | 7.7 |
MeteringMode | Multi-segment |
Model | NIKON Z 50 |
ModifyDate (1) | 2023:01:03 16:16:28+01:00 |
ModifyDate | 2023:01:03 16:37:34 |
Orientation | Horizontal (normal) |
ParametricDarks | 0 |
ParametricHighlights | 0 |
ParametricHighlightSplit | 75 |
ParametricLights | 0 |
ParametricMidtoneSplit | 50 |
ParametricShadows | 0 |
ParametricShadowSplit | 25 |
PerspectiveAspect | 0 |
PerspectiveHorizontal | 0 |
PerspectiveRotate | 0.0 |
PerspectiveScale | 100 |
PerspectiveUpright | 0 |
PerspectiveVertical | -11 |
PostCropVignetteAmount | 0 |
ProcessingSoftware | Windows Photo Editor 10.0.10011.16384 |
ProcessVersion | 6.7 |
RecommendedExposureIndex | 500 |
RedHue | 0 |
RedSaturation | 0 |
Saturation (1) | 0 |
Saturation (2) | +19 |
Saturation | Normal |
SaturationAdjustmentAqua | 0 |
SaturationAdjustmentBlue | 0 |
SaturationAdjustmentGreen | 0 |
SaturationAdjustmentMagenta | 0 |
SaturationAdjustmentOrange | 0 |
SaturationAdjustmentPurple | 0 |
SaturationAdjustmentRed | 0 |
SaturationAdjustmentYellow | 0 |
ScaleFactor35efl | 1.5 |
SceneCaptureType | Standard |
SceneType | Directly photographed |
SensingMethod | One-chip color area |
SensitivityType | Recommended Exposure Index |
SerialNumber | 6069485 |
Shadows2012 (1) | 0 |
Shadows2012 | +100 |
ShadowTint | 0 |
SharpenDetail | 25 |
SharpenEdgeMasking | 0 |
SharpenRadius (1) | 2.00 |
SharpenRadius | +1.0 |
Sharpness (1) | 40 |
Sharpness (2) | 25 |
Sharpness | Normal |
ShutterSpeed | 1/250 |
ShutterSpeedValue | 1/250 |
Software | Windows Photo Editor 10.0.10011.16384 |
SplitToningBalance | 0 |
SplitToningHighlightHue | 0 |
SplitToningHighlightSaturation | 0 |
SplitToningShadowHue | 0 |
SplitToningShadowSaturation | 0 |
SubjectDistanceRange | Unknown |
Tint | +14 |
ToneCurve | 0, 0, 255, 255 |
ToneCurveBlue | 0, 0, 255, 255 |
ToneCurveGreen | 0, 0, 255, 255 |
ToneCurveName | Linear |
ToneCurveName2012 | Linear |
ToneCurvePV2012 | 0, 0, 255, 255 |
ToneCurvePV2012Blue | 0, 0, 255, 255 |
ToneCurvePV2012Green | 0, 0, 255, 255 |
ToneCurvePV2012Red | 0, 0, 255, 255 |
ToneCurveRed | 0, 0, 255, 255 |
Version | 8.7 |
Vibrance | +16 |
VignetteAmount | 0 |
WhiteBalance (1) | Custom |
WhiteBalance | Auto |
Whites2012 | +36 |