Felt | Verdi |
AlreadyApplied | True |
Aperture | 5.6 |
ApertureValue | 5.6 |
ApproximateFocusDistance | 4294967295 |
AutoLateralCA | 0 |
BitsPerSample (1) | 16 16 16 |
BitsPerSample | 8 |
Blacks2012 | +7 |
BlueHue | 0 |
BlueSaturation | 0 |
CameraProfile | Embedded |
Clarity2012 | +21 |
ColorComponents | 3 |
ColorMode | RGB |
ColorNoiseReduction | 30 |
ColorNoiseReductionDetail | 50 |
ColorNoiseReductionSmoothness | 50 |
ColorSpace | Uncalibrated |
ColorTransform | YCbCr |
Contrast2012 | +14 |
ConvertToGrayscale | False |
CreateDate | 2022:03:20 18:07:07 |
CreatorTool | Adobe Photoshop Lightroom Classic 9.4 (Windows) |
CropAngle | 0 |
CropBottom | 1 |
CropConstrainToWarp | 0 |
CropLeft | 0 |
CropRight | 1 |
CropTop | 0.076321 |
CustomRendered | Normal |
DateCreated (1) | 2022:03:20 |
DateCreated | 2022:03:20 18:07:07 |
DateTimeOriginal | 2022:03:20 18:07:07 |
DefringeGreenAmount | 0 |
DefringeGreenHueHi | 60 |
DefringeGreenHueLo | 40 |
DefringePurpleAmount | 0 |
DefringePurpleHueHi | 70 |
DefringePurpleHueLo | 30 |
Dehaze | 0 |
DistortionCorrectionAlreadyApplied | True |
ExifImageHeight | 3116 |
ExifImageWidth | 6236 |
Exposure2012 | 0.00 |
ExposureCompensation | 0 |
ExposureMode | Manual |
ExposureProgram | Manual |
ExposureTime | 1/100 |
Firmware | 1.0.4 |
Flash | Off, Did not fire |
FlashCompensation | 0 |
FNumber | 5.6 |
FocalLength | 98.0 mm |
FocalLength35efl | 98.0 mm |
Format | image/jpeg |
GrainAmount | 0 |
GreenHue | 0 |
GreenSaturation | 0 |
HasCrop | True |
HasSettings | True |
Highlights2012 | -60 |
HueAdjustmentAqua | 0 |
HueAdjustmentBlue | 0 |
HueAdjustmentGreen | 0 |
HueAdjustmentMagenta | 0 |
HueAdjustmentOrange | 0 |
HueAdjustmentPurple | 0 |
HueAdjustmentRed | 0 |
HueAdjustmentYellow | 0 |
ICCProfileName | Adobe RGB (1998) |
ImageHeight | 3116 |
ImageNumber | 0 |
ImageSize | 6236x3116 |
ImageWidth | 6236 |
IncrementalTemperature | 0 |
IncrementalTint | 0 |
ISO | 200 |
LateralChromaticAberrationCorrectionAlreadyApplied | True |
Lens | TAMRON 35-150mm F/2.8-4.0 Di VC OSD A043 |
LensID (1) | 117 |
LensID | Tamron 35-150mm f/2.8-4.0 Di VC OSD (A043) |
LensInfo | 35-150mm f/? |
LensManualDistortionAmount | 0 |
LensModel | TAMRON 35-150mm F/2.8-4.0 Di VC OSD A043 |
LensProfileEnable | 0 |
LensProfileSetup | LensDefaults |
LensSerialNumber | 0000000000 |
LightValue | 10.6 |
LuminanceAdjustmentAqua | 0 |
LuminanceAdjustmentBlue | 0 |
LuminanceAdjustmentGreen | 0 |
LuminanceAdjustmentMagenta | 0 |
LuminanceAdjustmentOrange | 0 |
LuminanceAdjustmentPurple | 0 |
LuminanceAdjustmentRed | 0 |
LuminanceAdjustmentYellow | 0 |
LuminanceNoiseReductionContrast | 20 |
LuminanceNoiseReductionDetail | 50 |
LuminanceSmoothing | 21 |
Make | Canon |
MaxApertureValue | 3.7 |
Megapixels | 19.4 |
MeteringMode | Multi-segment |
Model | Canon EOS 6D Mark II |
ModifyDate (1) | 2022:03:21 17:01:52+01:00 |
ModifyDate | 2022:03:21 17:01:52 |
Orientation | Horizontal (normal) |
OverrideLookVignette | True |
ParametricDarks | 0 |
ParametricHighlights | 0 |
ParametricHighlightSplit | 75 |
ParametricLights | 0 |
ParametricMidtoneSplit | 50 |
ParametricShadows | 0 |
ParametricShadowSplit | 25 |
PerspectiveAspect | 0 |
PerspectiveHorizontal | 0 |
PerspectiveRotate | 0.0 |
PerspectiveScale | 100 |
PerspectiveUpright | 1 |
PerspectiveVertical | 0 |
PerspectiveX | 0.00 |
PerspectiveY | 0.00 |
PhotometricInterpretation | RGB |
PlanarConfiguration | Chunky |
PostCropVignetteAmount | +2 |
PostCropVignetteFeather | 50 |
PostCropVignetteMidpoint | 50 |
PostCropVignetteRoundness | 0 |
PostCropVignetteStyle | 1 |
PreservedFileName | isfjord-01.TIF |
ProcessVersion | 11.0 |
ProfileDescription | Adobe RGB (1998) |
RawFileName | |
RecommendedExposureIndex | 200 |
RedHue | 0 |
RedSaturation | 0 |
SamplesPerPixel | 3 |
Saturation | -7 |
SaturationAdjustmentAqua | 0 |
SaturationAdjustmentBlue | 0 |
SaturationAdjustmentGreen | 0 |
SaturationAdjustmentMagenta | 0 |
SaturationAdjustmentOrange | 0 |
SaturationAdjustmentPurple | 0 |
SaturationAdjustmentRed | 0 |
SaturationAdjustmentYellow | 0 |
SceneCaptureType | Standard |
SensitivityType | Recommended Exposure Index |
SerialNumber | 302052002458 |
Shadows2012 | +56 |
ShadowTint | 0 |
SharpenDetail | 39 |
SharpenEdgeMasking | 50 |
SharpenRadius | +1.5 |
Sharpness | 29 |
ShutterSpeed | 1/100 |
ShutterSpeedValue | 1/100 |
Software | Adobe Photoshop CC 2019 (Windows) |
SplitToningBalance | 0 |
SplitToningHighlightHue | 0 |
SplitToningHighlightSaturation | 0 |
SplitToningShadowHue | 0 |
SplitToningShadowSaturation | 0 |
Texture | 0 |
ToneCurve | 0, 0, 255, 255 |
ToneCurveBlue | 0, 0, 255, 255 |
ToneCurveGreen | 0, 0, 255, 255 |
ToneCurveName | Linear |
ToneCurveName2012 | Linear |
ToneCurvePV2012 | 0, 0, 255, 255 |
ToneCurvePV2012Blue | 0, 0, 255, 255 |
ToneCurvePV2012Green | 0, 0, 255, 255 |
ToneCurvePV2012Red | 0, 0, 255, 255 |
ToneCurveRed | 0, 0, 255, 255 |
ToneMapStrength | 0 |
URL_List | |
Version | 12.4 |
Vibrance | +5 |
VignetteAmount | 0 |
VignetteCorrectionAlreadyApplied | True |
WhiteBalance (1) | As Shot |
WhiteBalance | Manual |
Whites2012 | +39 |