Felt | Verdi |
AlreadyApplied | True |
Aperture | 2.4 |
ApertureValue | 2.4 |
Artist | Hans Jørgen Lindeløff |
AutoLateralCA | 1 |
BitsPerSample | 8 |
Blacks2012 | -84 |
BlueHue | 0 |
BlueSaturation | 0 |
BrightnessValue | 8.983025746 |
By-line | Hans Jørgen Lindeløff |
CameraProfile | Adobe Standard |
CircleOfConfusion | 0.004 mm |
Clarity2012 | +55 |
ColorComponents | 3 |
ColorGradeBlending | 50 |
ColorGradeGlobalHue | 0 |
ColorGradeGlobalLum | 0 |
ColorGradeGlobalSat | 0 |
ColorGradeHighlightLum | 0 |
ColorGradeMidtoneHue | 0 |
ColorGradeMidtoneLum | 0 |
ColorGradeMidtoneSat | 0 |
ColorGradeShadowLum | 0 |
ColorNoiseReduction | 25 |
ColorNoiseReductionDetail | 50 |
ColorNoiseReductionSmoothness | 50 |
ColorSpace | sRGB |
ColorTemperature | 4997 |
ColorTransform | YCbCr |
Contrast2012 | +100 |
ConvertToGrayscale | False |
Copyright | © Hans Jørgen Lindeløff 2021 |
CopyrightFlag | True |
CopyrightNotice | © Hans Jørgen Lindeløff 2021 |
Country | Norway |
Country-PrimaryLocationCode | NO |
Country-PrimaryLocationName | Norway |
CountryCode | NO |
CreateDate (1) | 2021:09:23 15:10:59.609+02:00 |
CreateDate | 2021:09:23 15:10:59 |
Creator | Hans Jørgen Lindeløff |
CreatorAddress | Bjørnevågveien 8 |
CreatorCity | Kråkerøy |
CreatorCountry | Norway |
CreatorPostalCode | 1676 |
CreatorTool | Adobe Photoshop Lightroom Classic 10.4 (Macintosh) |
CreatorWorkEmail | lundeli@mac.com |
CreatorWorkTelephone | +47 92049534 |
CreatorWorkURL | lundeliphoto.no |
CropAngle | 0 |
CropBottom | 0.80658 |
CropConstrainToWarp | 1 |
CropLeft | 0.163359 |
CropRight | 0.715175 |
CropTop | 0.278884 |
DateCreated (1) | 2018:01:02 |
DateCreated | 2018:01:02 14:49:07.571 |
DateTimeOriginal | 2021:09:23 15:10:59 |
DefringeGreenAmount | 0 |
DefringeGreenHueHi | 60 |
DefringeGreenHueLo | 40 |
DefringePurpleAmount | 0 |
DefringePurpleHueHi | 70 |
DefringePurpleHueLo | 30 |
Dehaze | 0 |
DistortionCorrectionAlreadyApplied | True |
Exposure2012 | -1.10 |
ExposureCompensation | 0 |
ExposureMode | Auto |
ExposureProgram | Program AE |
ExposureTime | 1/560 |
Flash | Off, Did not fire |
FNumber | 2.4 |
FocalLength | 1.5 mm |
FocalLength35efl | 1.5 mm (35 mm equivalent: 13.0 mm) |
FocalLengthIn35mmFormat | 13 mm |
Format | image/jpeg |
FOV | 108.3 deg |
GPSAltitude | 20.4 m |
GPSDestBearing | 28.48731232 |
GPSDestBearingRef | Magnetic North |
GPSHPositioningError | 4.739508756 m |
GPSImgDirection | 28.48731232 |
GPSImgDirectionRef | Magnetic North |
GPSLatitude (1) | 59 deg 54' 31.33" |
GPSLatitude | 59 deg 54' 31.33" N |
GPSLatitudeRef | North |
GPSLongitude (1) | 10 deg 45' 32.23" |
GPSLongitude | 10 deg 45' 32.23" E |
GPSLongitudeRef | East |
GPSPosition | 59 deg 54' 31.33" N, 10 deg 45' 32.23" E |
GPSSpeed | 0 |
GPSSpeedRef | km/h |
GPSVersionID | 2.2.0.0 |
GrainAmount | 0 |
GreenHue | 0 |
GreenSaturation | 0 |
HasCrop | True |
HasSettings | True |
Highlights2012 | +45 |
HueAdjustmentAqua | 0 |
HueAdjustmentBlue | 0 |
HueAdjustmentGreen | 0 |
HueAdjustmentMagenta | 0 |
HueAdjustmentOrange | 0 |
HueAdjustmentPurple | 0 |
HueAdjustmentRed | 0 |
HueAdjustmentYellow | 0 |
HyperfocalDistance | 0.28 m |
ImageHeight | 2048 |
ImageSize | 1469x2048 |
ImageWidth | 1469 |
ISO | 25 |
Keywords | barcode, oslo |
LateralChromaticAberrationCorrectionAlreadyApplied | True |
Lens | iPhone 12 Pro Max back triple camera 1.54mm f/2.4 |
LensInfo (1) | 1.53999996185121-7.5mm f/1.6-2.4 |
LensInfo | 1.539999962-7.5mm f/1.6-2.4 |
LensMake | Apple |
LensManualDistortionAmount | 0 |
LensModel | iPhone 12 Pro Max back triple camera 1.54mm f/2.4 |
LensProfileDistortionScale | 100 |
LensProfileEnable | 1 |
LensProfileFilename | Apple iPhone (Apple iPhone 12 Pro Max front camera 2.71mm f2.2) - RAW.lcp |
LensProfileIsEmbedded | False |
LensProfileName | Adobe (Apple iPhone 12 Pro Max front camera 2.71mm f/2.2) |
LensProfileSetup | Custom |
LensProfileVignettingScale | 100 |
LightValue | 13.7 |
LuminanceAdjustmentAqua | 0 |
LuminanceAdjustmentBlue | 0 |
LuminanceAdjustmentGreen | 0 |
LuminanceAdjustmentMagenta | 0 |
LuminanceAdjustmentOrange | 0 |
LuminanceAdjustmentPurple | 0 |
LuminanceAdjustmentRed | 0 |
LuminanceAdjustmentYellow | 0 |
LuminanceNoiseReductionContrast | 0 |
LuminanceNoiseReductionDetail | 50 |
LuminanceSmoothing | 26 |
Make | Apple |
Marked | True |
Megapixels | 3.0 |
MeteringMode | Multi-segment |
Model | iPhone 12 Pro Max |
ModifyDate (1) | 2021:09:24 00:23:46+02:00 |
ModifyDate | 2021:09:24 00:23:46 |
OverrideLookVignette | True |
PaintCorrectionActive | true |
PaintCorrectionAmount | 1.000000 |
PaintCorrectionBrightness | 0.000000 |
PaintCorrectionClarity2012 | 0.000000 |
PaintCorrectionContrast2012 | 0.000000 |
PaintCorrectionCorrectionRangeMaskColorAmount | 0.500000 |
PaintCorrectionCorrectionRangeMaskDepthFeather | 0.500000 |
PaintCorrectionCorrectionRangeMaskDepthMax | 1.000000 |
PaintCorrectionCorrectionRangeMaskDepthMin | 0.000000 |
PaintCorrectionCorrectionRangeMaskLumFeather | 0.500000 |
PaintCorrectionCorrectionRangeMaskLumMax | 1.000000 |
PaintCorrectionCorrectionRangeMaskLumMin | 0.000000 |
PaintCorrectionCorrectionRangeMaskType | 0 |
PaintCorrectionCorrectionRangeMaskVersion | +2 |
PaintCorrectionDefringe | 0.000000 |
PaintCorrectionExposure2012 | 0.264508 |
PaintCorrectionHighlights2012 | 0.000000 |
PaintCorrectionHue | 240.000000 |
PaintCorrectionLocalBlacks2012 | 0.000000 |
PaintCorrectionLocalDehaze | 0.000000 |
PaintCorrectionLocalHue | 0.000000 |
PaintCorrectionLocalTexture | 0.000000 |
PaintCorrectionLocalWhites2012 | 0.932588 |
PaintCorrectionLuminanceNoise | 0.000000 |
PaintCorrectionMaskCenterWeight | 0.000000 |
PaintCorrectionMaskFlow | 0.572670 |
PaintCorrectionMaskRadius (1) | 0.013636 |
PaintCorrectionMaskRadius (2) | 0.007571 |
PaintCorrectionMaskRadius | 0.007555 |
PaintCorrectionMaskValue | 0.604296 |
PaintCorrectionMaskWhat | Mask/Paint |
PaintCorrectionMoire | 0.000000 |
PaintCorrectionSaturation | 0.000000 |
PaintCorrectionShadows2012 | 0.000000 |
PaintCorrectionSharpness | 0.000000 |
PaintCorrectionTemperature | 0.000000 |
PaintCorrectionTint | 0.000000 |
PaintCorrectionWhat | Correction |
ParametricDarks | 0 |
ParametricHighlights | 0 |
ParametricHighlightSplit | 75 |
ParametricLights | 0 |
ParametricMidtoneSplit | 50 |
ParametricShadows | 0 |
ParametricShadowSplit | 25 |
PerspectiveAspect | 0 |
PerspectiveHorizontal | 0 |
PerspectiveRotate | 0.0 |
PerspectiveScale | 100 |
PerspectiveUpright | 1 |
PerspectiveVertical | 0 |
PerspectiveX | 0.00 |
PerspectiveY | 0.00 |
PostCropVignetteAmount | -27 |
PostCropVignetteFeather | 50 |
PostCropVignetteHighlightContrast | 0 |
PostCropVignetteMidpoint | 50 |
PostCropVignetteRoundness | 0 |
PostCropVignetteStyle | 1 |
PreservedFileName | IMG_3956.DNG |
ProcessVersion | 11.0 |
ProfileDescription | sRGB IEC61966-2.1 |
Province-State | Oslo |
Rating | 5 |
RawFileName | |
RedHue | 0 |
RedSaturation | 0 |
Rights | © Hans Jørgen Lindeløff 2021 |
Saturation | 0 |
SaturationAdjustmentAqua | -60 |
SaturationAdjustmentBlue | -65 |
SaturationAdjustmentGreen | -60 |
SaturationAdjustmentMagenta | -49 |
SaturationAdjustmentOrange | +47 |
SaturationAdjustmentPurple | -56 |
SaturationAdjustmentRed | +55 |
SaturationAdjustmentYellow | -62 |
ScaleFactor35efl | 8.4 |
SceneType | Directly photographed |
SensingMethod | One-chip color area |
Shadows2012 | +71 |
ShadowTint | 0 |
SharpenDetail | 25 |
SharpenEdgeMasking | 47 |
SharpenRadius | +1.0 |
Sharpness | 56 |
ShutterSpeed | 1/560 |
ShutterSpeedValue | 1/560 |
Software | Adobe Photoshop Lightroom Classic 10.4 (Macintosh) |
SplitToningBalance | 0 |
SplitToningHighlightHue | 0 |
SplitToningHighlightSaturation | 0 |
SplitToningShadowHue | 0 |
SplitToningShadowSaturation | 0 |
State | Oslo |
Subject | barcode, oslo |
SubjectArea | 2013 1511 2322 1329 |
Texture | 0 |
Tint | -5 |
ToneCurveName2012 | Custom |
ToneCurvePV2012 | 0, 0, 60, 60, 187, 190, 255, 255 |
ToneCurvePV2012Blue | 0, 0, 255, 255 |
ToneCurvePV2012Green | 0, 0, 255, 255 |
ToneCurvePV2012Red | 0, 0, 255, 255 |
UsageTerms | All rights reserved |
Version | 13.3 |
Vibrance | 0 |
VignetteAmount | 0 |
WhiteBalance (1) | Custom |
WhiteBalance | Auto |
Whites2012 | +42 |