Felt | Verdi |
AlreadyApplied | True |
Aperture | 5.6 |
ApertureValue | 5.6 |
ApproximateFocusDistance | 6.25 |
AutoLateralCA | 1 |
BitsPerSample | 8 |
Blacks2012 | -73 |
BlueHue | 0 |
BlueSaturation | 0 |
CameraProfile | Adobe Standard |
CircleOfConfusion | 0.023 mm |
Clarity2012 | +26 |
ColorComponents | 3 |
ColorGradeBlending | 50 |
ColorGradeGlobalHue | 0 |
ColorGradeGlobalLum | 0 |
ColorGradeGlobalSat | 0 |
ColorGradeHighlightLum | 0 |
ColorGradeMidtoneHue | 0 |
ColorGradeMidtoneLum | 0 |
ColorGradeMidtoneSat | 0 |
ColorGradeShadowLum | 0 |
ColorNoiseReduction | 0 |
ColorSpace | sRGB |
ColorTemperature | 4100 |
ColorTransform | YCbCr |
Contrast2012 | 0 |
CreateDate (1) | 2021:09:10 17:07:02.67+01:00 |
CreateDate | 2021:09:10 17:07:02 |
CreatorTool | Adobe Photoshop Lightroom Classic 10.2 (Macintosh) |
CropAngle | 0 |
CropBottom | 0.87986 |
CropConstrainToWarp | 0 |
CropLeft | 0.135362 |
CropRight | 0.910603 |
CropTop | 0.191738 |
CustomRendered | Normal |
DateCreated (1) | 2021:09:10 |
DateCreated | 2021:09:10 17:07:02.67+01:00 |
DateTimeOriginal | 2021:09:10 17:07:02 |
DefringeGreenAmount | 0 |
DefringeGreenHueHi | 60 |
DefringeGreenHueLo | 40 |
DefringePurpleAmount | 0 |
DefringePurpleHueHi | 70 |
DefringePurpleHueLo | 30 |
Dehaze | 0 |
DistortionCorrectionAlreadyApplied | True |
DOF | 2.31 m (5.30 - 7.61 m) |
Exposure2012 | 0.00 |
ExposureCompensation | +1/3 |
ExposureMode | Auto |
ExposureProgram | Aperture-priority AE |
ExposureTime | 1/160 |
Firmware | 1.3.1 |
Flash | No Flash |
FlashCompensation | 0 |
FNumber | 5.6 |
FocalLength | 66.0 mm |
FocalLength35efl | 66.0 mm (35 mm equivalent: 88.1 mm) |
Format | image/jpeg |
FOV | 23.1 deg |
GradientBasedCorrActive | true |
GradientBasedCorrAmount | 1.000000 |
GradientBasedCorrBrightness | 0.000000 |
GradientBasedCorrClarity2012 | 0.000000 |
GradientBasedCorrContrast2012 | 0.000000 |
GradientBasedCorrCorrectionRangeMaskColorAmount | 0.500000 |
GradientBasedCorrCorrectionRangeMaskDepthFeather | 0.500000 |
GradientBasedCorrCorrectionRangeMaskDepthMax | 1.000000 |
GradientBasedCorrCorrectionRangeMaskDepthMin | 0.000000 |
GradientBasedCorrCorrectionRangeMaskLumFeather | 0.500000 |
GradientBasedCorrCorrectionRangeMaskLumMax | 1.000000 |
GradientBasedCorrCorrectionRangeMaskLumMin | 0.000000 |
GradientBasedCorrCorrectionRangeMaskType | 0 |
GradientBasedCorrCorrectionRangeMaskVersion | +2 |
GradientBasedCorrDefringe | 0.000000 |
GradientBasedCorrExposure2012 | -0.564503 |
GradientBasedCorrHighlights2012 | -0.621461 |
GradientBasedCorrHue | 0.000000 |
GradientBasedCorrLocalBlacks2012 | -0.715545 |
GradientBasedCorrLocalDehaze | 0.000000 |
GradientBasedCorrLocalHue | 0.000000 |
GradientBasedCorrLocalTexture | 0.000000 |
GradientBasedCorrLocalWhites2012 | 0.291600 |
GradientBasedCorrLuminanceNoise | 0.000000 |
GradientBasedCorrMaskFullX (1) | 0.186809 |
GradientBasedCorrMaskFullX (2) | 0.796737 |
GradientBasedCorrMaskFullX | 0.042526 |
GradientBasedCorrMaskFullY (1) | 0.007085 |
GradientBasedCorrMaskFullY (2) | -0.004817 |
GradientBasedCorrMaskFullY | 0.115179 |
GradientBasedCorrMaskValue | 1.000000 |
GradientBasedCorrMaskWhat | Mask/Gradient |
GradientBasedCorrMaskZeroX (1) | 0.207339 |
GradientBasedCorrMaskZeroX (2) | 0.795921 |
GradientBasedCorrMaskZeroX | 0.178615 |
GradientBasedCorrMaskZeroY (1) | 0.184745 |
GradientBasedCorrMaskZeroY (2) | 0.187257 |
GradientBasedCorrMaskZeroY | 0.301316 |
GradientBasedCorrMoire | 0.000000 |
GradientBasedCorrSaturation | 0.000000 |
GradientBasedCorrShadows2012 | 0.421790 |
GradientBasedCorrSharpness | 0.000000 |
GradientBasedCorrTemperature | -0.002972 |
GradientBasedCorrTint | 0.084409 |
GradientBasedCorrWhat | Correction |
GrainAmount | 0 |
GreenHue | 0 |
GreenSaturation | 0 |
HasCrop | True |
HasExtendedXMP | 974FAAFC013DB999ABAD50882651EE37 |
HasSettings | True |
Highlights2012 | -21 |
HueAdjustmentAqua | 0 |
HueAdjustmentBlue | 0 |
HueAdjustmentGreen | 0 |
HueAdjustmentMagenta | 0 |
HueAdjustmentOrange | 0 |
HueAdjustmentPurple | 0 |
HueAdjustmentRed | 0 |
HueAdjustmentYellow | 0 |
HyperfocalDistance | 34.54 m |
ImageHeight | 2510 |
ImageNumber | 0 |
ImageSize | 4242x2510 |
ImageWidth | 4242 |
ISO | 640 |
LateralChromaticAberrationCorrectionAlreadyApplied | True |
Lens | RF24-70mm F2.8 L IS USM |
LensID (1) | 61182 |
LensID | Canon RF 24-70mm F2.8 L IS USM |
LensInfo | 24-70mm f/? |
LensManualDistortionAmount | 0 |
LensModel | RF24-70mm F2.8 L IS USM |
LensProfileDistortionScale | 100 |
LensProfileEnable | 1 |
LensProfileFilename | Canon (Canon RF 24-70mm F2.8 L IS USM) - RAW.lcp |
LensProfileIsEmbedded | False |
LensProfileName | Adobe (Canon RF 24-70mm F2.8 L IS USM) |
LensProfileSetup | Custom |
LensProfileVignettingScale | 100 |
LensSerialNumber | 0124000568 |
LightValue | 9.6 |
LookAmount | 1.000000 |
LookGroup | Profiles |
LookName | Adobe Color |
LookParametersCameraProfile | Adobe Standard |
LookParametersConvertToGrayscale | False |
LookParametersLookTable | E1095149FDB39D7A057BAB208837E2E1 |
LookParametersProcessVersion | 11.0 |
LookParametersToneCurvePV2012 | 0, 0, 22, 16, 40, 35, 127, 127, 224, 230, 240, 246, 255, 255 |
LookParametersToneCurvePV2012Blue | 0, 0, 255, 255 |
LookParametersToneCurvePV2012Green | 0, 0, 255, 255 |
LookParametersToneCurvePV2012Red | 0, 0, 255, 255 |
LookParametersVersion | 13.2 |
LookSupportsAmount | false |
LookSupportsMonochrome | false |
LookSupportsOutputReferred | false |
LuminanceAdjustmentAqua | 0 |
LuminanceAdjustmentBlue | 0 |
LuminanceAdjustmentGreen | 0 |
LuminanceAdjustmentMagenta | 0 |
LuminanceAdjustmentOrange | 0 |
LuminanceAdjustmentPurple | 0 |
LuminanceAdjustmentRed | 0 |
LuminanceAdjustmentYellow | 0 |
LuminanceSmoothing | 0 |
Make | Canon |
MaxApertureValue | 2.8 |
Megapixels | 10.6 |
MeteringMode | Multi-segment |
Model | Canon EOS R6 |
ModifyDate (1) | 2021:09:10 19:01:52+02:00 |
ModifyDate | 2021:09:10 19:01:52 |
OverrideLookVignette | False |
PaintCorrectionActive | true |
PaintCorrectionAmount | 1.000000 |
PaintCorrectionBrightness | 0.000000 |
PaintCorrectionClarity2012 | 0.000000 |
PaintCorrectionContrast2012 | 0.000000 |
PaintCorrectionCorrectionRangeMaskColorAmount | 0.500000 |
PaintCorrectionCorrectionRangeMaskDepthFeather | 0.500000 |
PaintCorrectionCorrectionRangeMaskDepthMax | 1.000000 |
PaintCorrectionCorrectionRangeMaskDepthMin | 0.000000 |
PaintCorrectionCorrectionRangeMaskLumFeather | 0.500000 |
PaintCorrectionCorrectionRangeMaskLumMax | 1.000000 |
PaintCorrectionCorrectionRangeMaskLumMin | 0.000000 |
PaintCorrectionCorrectionRangeMaskType | 0 |
PaintCorrectionCorrectionRangeMaskVersion | +2 |
PaintCorrectionDefringe | 0.000000 |
PaintCorrectionExposure2012 | -0.564503 |
PaintCorrectionHighlights2012 | -0.621461 |
PaintCorrectionHue | 0.000000 |
PaintCorrectionLocalBlacks2012 | -0.715545 |
PaintCorrectionLocalDehaze | 0.000000 |
PaintCorrectionLocalHue | 0.000000 |
PaintCorrectionLocalTexture | 0.000000 |
PaintCorrectionLocalWhites2012 | 0.291600 |
PaintCorrectionLuminanceNoise | 0.000000 |
PaintCorrectionMaskCenterWeight | 0.119336 |
PaintCorrectionMaskFlow | 0.430546 |
PaintCorrectionMaskRadius (1) | 0.019945 |
PaintCorrectionMaskRadius (2) | 0.019892 |
PaintCorrectionMaskRadius (3) | 0.019783 |
PaintCorrectionMaskRadius | 0.019637 |
PaintCorrectionMaskValue | 0.528503 |
PaintCorrectionMaskWhat | Mask/Paint |
PaintCorrectionMoire | 0.000000 |
PaintCorrectionSaturation | 0.000000 |
PaintCorrectionShadows2012 | 0.421790 |
PaintCorrectionSharpness | 0.000000 |
PaintCorrectionTemperature | -0.002972 |
PaintCorrectionTint | 0.084409 |
PaintCorrectionWhat | Correction |
ParametricDarks | 0 |
ParametricHighlights | 0 |
ParametricHighlightSplit | 75 |
ParametricLights | 0 |
ParametricMidtoneSplit | 50 |
ParametricShadows | 0 |
ParametricShadowSplit | 25 |
PerspectiveAspect | 0 |
PerspectiveHorizontal | 0 |
PerspectiveRotate | 0.0 |
PerspectiveScale | 100 |
PerspectiveUpright | 0 |
PerspectiveVertical | 0 |
PerspectiveX | 0.00 |
PerspectiveY | 0.00 |
PostCropVignetteAmount | 0 |
PreservedFileName | R6__1769.CR3 |
ProcessVersion | 11.0 |
ProfileDescription | sRGB IEC61966-2.1 |
RawFileName | R6__1769.CR3 |
RecommendedExposureIndex | 640 |
RedHue | 0 |
RedSaturation | 0 |
Saturation | +19 |
SaturationAdjustmentAqua | 0 |
SaturationAdjustmentBlue | 0 |
SaturationAdjustmentGreen | 0 |
SaturationAdjustmentMagenta | 0 |
SaturationAdjustmentOrange | 0 |
SaturationAdjustmentPurple | 0 |
SaturationAdjustmentRed | 0 |
SaturationAdjustmentYellow | 0 |
ScaleFactor35efl | 1.3 |
SceneCaptureType | Standard |
SensitivityType | Recommended Exposure Index |
SerialNumber | 103022000755 |
Shadows2012 | +34 |
ShadowTint | 0 |
SharpenDetail | 30 |
SharpenEdgeMasking | 45 |
SharpenRadius | +0.6 |
Sharpness | 40 |
ShutterSpeed | 1/160 |
ShutterSpeedValue | 1/160 |
Software | Adobe Photoshop Lightroom Classic 10.2 (Macintosh) |
SplitToningBalance | 0 |
SplitToningHighlightHue | 0 |
SplitToningHighlightSaturation | 0 |
SplitToningShadowHue | 0 |
SplitToningShadowSaturation | 0 |
Texture | 0 |
Tint | +16 |
ToneCurveName2012 | Linear |
ToneCurvePV2012 | 0, 0, 255, 255 |
ToneCurvePV2012Blue | 0, 0, 255, 255 |
ToneCurvePV2012Green | 0, 0, 255, 255 |
ToneCurvePV2012Red | 0, 0, 255, 255 |
Version | 13.2 |
Vibrance | +13 |
VignetteAmount | 0 |
VignetteCorrectionAlreadyApplied | True |
WhiteBalance (1) | As Shot |
WhiteBalance | Auto |
Whites2012 | 0 |