Felt | Verdi |
AlreadyApplied | True |
Aperture | 10.0 |
ApertureValue | 10.0 |
ApproximateFocusDistance | 4294967295 |
Artist | Hans Jørgen Lindeløff |
AutoLateralCA | 1 |
BitsPerSample | 8 |
Blacks2012 | -7 |
BlueHue | 0 |
BlueSaturation | 0 |
By-line | Hans Jørgen Lindeløff |
CameraProfile | Adobe Standard |
CFAPattern | [Red,Green][Green,Blue] |
CircGradBasedCorrActive | true |
CircGradBasedCorrAmount | 1.000000 |
CircGradBasedCorrBrightness | 0.000000 |
CircGradBasedCorrClarity2012 | 0.000000 |
CircGradBasedCorrContrast2012 | 0.000000 |
CircGradBasedCorrCorrectionRangeMaskType | 0 |
CircGradBasedCorrCorrectionRangeMaskVersion | +2 |
CircGradBasedCorrDefringe | 0.000000 |
CircGradBasedCorrExposure2012 (1) | 0.079377 |
CircGradBasedCorrExposure2012 (2) | 0.251149 |
CircGradBasedCorrExposure2012 (3) | 0.162831 |
CircGradBasedCorrExposure2012 | 0.000000 |
CircGradBasedCorrHighlights2012 (2) | 0.000000 |
CircGradBasedCorrHighlights2012 (3) | -0.345078 |
CircGradBasedCorrHighlights2012 | -0.153099 |
CircGradBasedCorrHue (3) | 240.000000 |
CircGradBasedCorrHue | 0.000000 |
CircGradBasedCorrLocalBlacks2012 (2) | -0.096382 |
CircGradBasedCorrLocalBlacks2012 (3) | 0.000000 |
CircGradBasedCorrLocalBlacks2012 | -0.192847 |
CircGradBasedCorrLocalDehaze | 0.000000 |
CircGradBasedCorrLocalHue | 0.000000 |
CircGradBasedCorrLocalTexture | 0.000000 |
CircGradBasedCorrLocalWhites2012 (2) | 0.252530 |
CircGradBasedCorrLocalWhites2012 (3) | 0.000000 |
CircGradBasedCorrLocalWhites2012 | 0.197701 |
CircGradBasedCorrLuminanceNoise | 0.000000 |
CircGradBasedCorrMaskAngle (2) | -7.009390 |
CircGradBasedCorrMaskAngle | -0.376609 |
CircGradBasedCorrMaskBottom (1) | 0.721466 |
CircGradBasedCorrMaskBottom (2) | 0.786201 |
CircGradBasedCorrMaskBottom (3) | 0.634781 |
CircGradBasedCorrMaskBottom | 0.579216 |
CircGradBasedCorrMaskCenterWeight | 0.063749 |
CircGradBasedCorrMaskFeather (3) | +100 |
CircGradBasedCorrMaskFeather | +50 |
CircGradBasedCorrMaskFlipped | true |
CircGradBasedCorrMaskFlow | 0.588303 |
CircGradBasedCorrMaskLeft (1) | -0.160581 |
CircGradBasedCorrMaskLeft (2) | 0.089607 |
CircGradBasedCorrMaskLeft (3) | 0.331995 |
CircGradBasedCorrMaskLeft | 0.439858 |
CircGradBasedCorrMaskMidpoint | +50 |
CircGradBasedCorrMaskRadius (1) | 0.010472 |
CircGradBasedCorrMaskRadius (2) | 0.010398 |
CircGradBasedCorrMaskRadius (3) | 0.010492 |
CircGradBasedCorrMaskRadius | 0.010437 |
CircGradBasedCorrMaskRight (1) | 0.305081 |
CircGradBasedCorrMaskRight (2) | 0.895631 |
CircGradBasedCorrMaskRight (3) | 0.408572 |
CircGradBasedCorrMaskRight | 1.223460 |
CircGradBasedCorrMaskRoundness | 0 |
CircGradBasedCorrMaskTop (1) | 0.470714 |
CircGradBasedCorrMaskTop (2) | 0.702340 |
CircGradBasedCorrMaskTop (3) | 0.497738 |
CircGradBasedCorrMaskTop | 0.118736 |
CircGradBasedCorrMaskValue (7) | 0.000000 |
CircGradBasedCorrMaskValue | 1.000000 |
CircGradBasedCorrMaskVersion | +2 |
CircGradBasedCorrMaskWhat (4) | Mask/Paint |
CircGradBasedCorrMaskWhat | Mask/CircularGradient |
CircGradBasedCorrMoire | 0.000000 |
CircGradBasedCorrSaturation | 0.000000 |
CircGradBasedCorrShadows2012 | 0.000000 |
CircGradBasedCorrSharpness | 0.000000 |
CircGradBasedCorrTemperature (2) | 0.165941 |
CircGradBasedCorrTemperature (3) | -0.208876 |
CircGradBasedCorrTemperature | 0.000000 |
CircGradBasedCorrTint (2) | 0.094029 |
CircGradBasedCorrTint (3) | 0.062918 |
CircGradBasedCorrTint | 0.000000 |
CircGradBasedCorrWhat | Correction |
CircleOfConfusion | 0.030 mm |
Clarity2012 | +6 |
ColorComponents | 3 |
ColorGradeBlending | 50 |
ColorGradeGlobalHue | 0 |
ColorGradeGlobalLum | 0 |
ColorGradeGlobalSat | 0 |
ColorGradeHighlightLum | 0 |
ColorGradeMidtoneHue | 0 |
ColorGradeMidtoneLum | 0 |
ColorGradeMidtoneSat | 0 |
ColorGradeShadowLum | 0 |
ColorNoiseReduction | 25 |
ColorNoiseReductionDetail | 50 |
ColorNoiseReductionSmoothness | 50 |
ColorSpace | sRGB |
ColorTemperature | 6500 |
ColorTransform | YCbCr |
Contrast | Normal |
Contrast2012 | 0 |
Copyright | © Hans Jørgen Lindeløff 2021 |
CopyrightFlag | True |
CopyrightNotice | © Hans Jørgen Lindeløff 2021 |
CreateDate (1) | 2021:07:22 21:49:45.481 |
CreateDate | 2021:07:22 21:49:45 |
Creator | Hans Jørgen Lindeløff |
CreatorAddress | Bjørnevågveien 8 |
CreatorCity | Kråkerøy |
CreatorCountry | Norway |
CreatorPostalCode | 1676 |
CreatorWorkEmail | lundeli@mac.com |
CreatorWorkTelephone | +47 92049534 |
CreatorWorkURL | lundeliphoto.no |
CropAngle | -0.376609 |
CropBottom | 0.867802 |
CropConstrainToWarp | 1 |
CropLeft | 0.005345 |
CropRight | 0.996347 |
CropTop | 0.021428 |
CustomRendered | Normal |
DateCreated (1) | 2018:01:02 |
DateCreated | 2018:01:02 14:49:07.571 |
DateTimeOriginal | 2021:07:22 21:49:45 |
DefringeGreenAmount | 0 |
DefringeGreenHueHi | 60 |
DefringeGreenHueLo | 40 |
DefringePurpleAmount | 0 |
DefringePurpleHueHi | 70 |
DefringePurpleHueLo | 30 |
Dehaze | 0 |
DigitalZoomRatio | 1 |
DistortionCorrectionAlreadyApplied | True |
DOF | inf (1.92 m - inf) |
Exposure2012 | 0.00 |
ExposureCompensation | -2 |
ExposureMode | Manual |
ExposureProgram | Manual |
ExposureTime | 1/125 |
Flash | Off, Did not fire |
FNumber | 10.0 |
FocalLength | 24.0 mm |
FocalLengthIn35mmFormat | 24 mm |
Format | image/jpeg |
FOV | 73.7 deg |
GainControl | None |
GradientBasedCorrActive | true |
GradientBasedCorrAmount | 1.000000 |
GradientBasedCorrBrightness | 0.000000 |
GradientBasedCorrClarity2012 | 0.000000 |
GradientBasedCorrContrast2012 | 0.000000 |
GradientBasedCorrCorrectionRangeMaskType (1) | 0 |
GradientBasedCorrCorrectionRangeMaskType | +2 |
GradientBasedCorrCorrectionRangeMaskVersion | +2 |
GradientBasedCorrDefringe | 0.000000 |
GradientBasedCorrExposure2012 (1) | 0.000000 |
GradientBasedCorrExposure2012 | -0.102559 |
GradientBasedCorrHighlights2012 | 0.000000 |
GradientBasedCorrHue | 240.000000 |
GradientBasedCorrLocalBlacks2012 | 0.000000 |
GradientBasedCorrLocalDehaze | 0.000000 |
GradientBasedCorrLocalHue | 0.000000 |
GradientBasedCorrLocalTexture | 0.000000 |
GradientBasedCorrLocalWhites2012 | 0.000000 |
GradientBasedCorrLuminanceNoise | 0.000000 |
GradientBasedCorrMaskFullX (1) | 0.477661 |
GradientBasedCorrMaskFullX | 0.273606 |
GradientBasedCorrMaskFullY (1) | 0.115484 |
GradientBasedCorrMaskFullY | 0.046566 |
GradientBasedCorrMaskValue | 1.000000 |
GradientBasedCorrMaskWhat | Mask/Gradient |
GradientBasedCorrMaskZeroX (1) | 0.495352 |
GradientBasedCorrMaskZeroX | 0.299831 |
GradientBasedCorrMaskZeroY (1) | 0.669216 |
GradientBasedCorrMaskZeroY | 0.430826 |
GradientBasedCorrMoire | 0.000000 |
GradientBasedCorrSaturation | 0.000000 |
GradientBasedCorrShadows2012 (1) | 0.598509 |
GradientBasedCorrShadows2012 | 0.000000 |
GradientBasedCorrSharpness | 0.000000 |
GradientBasedCorrTemperature (1) | -0.233722 |
GradientBasedCorrTemperature | -0.153284 |
GradientBasedCorrTint | 0.094029 |
GradientBasedCorrWhat | Correction |
GrainAmount | 0 |
GreenHue | 0 |
GreenSaturation | 0 |
HasCrop | True |
HasExtendedXMP | 9D28475C3C60F0359641558D90DF1D9B |
HasSettings | True |
Highlights2012 | -48 |
HueAdjustmentAqua | 0 |
HueAdjustmentBlue | 0 |
HueAdjustmentGreen | 0 |
HueAdjustmentMagenta | 0 |
HueAdjustmentOrange | 0 |
HueAdjustmentPurple | 0 |
HueAdjustmentRed | 0 |
HueAdjustmentYellow | 0 |
HyperfocalDistance | 1.92 m |
ImageHeight | 1186 |
ImageNumber | 15431 |
ImageSize | 2048x1186 |
ImageWidth | 2048 |
IsMergedHDR | True |
ISO | 64 |
Keywords | Fredrikstad, Isegran, Solnedgang |
Lens | 24.0-70.0 mm f/2.8 |
LensID (1) | 170 |
LensID | AF-S Nikkor 24-70mm f/2.8E ED VR |
LensInfo | 24-70mm f/2.8 |
LensManualDistortionAmount | 0 |
LensModel | 24.0-70.0 mm f/2.8 |
LensProfileDistortionScale | 100 |
LensProfileEnable | 1 |
LensProfileIsEmbedded | False |
LensProfileSetup | LensDefaults |
LensProfileVignettingScale | 100 |
LightSource | Unknown |
LightValue | 14.3 |
LookAmount | 1.000000 |
LookGroup | Profiles |
LookName | Adobe Landscape |
LookParametersCameraProfile | Adobe Standard |
LookParametersClarity2012 | +10 |
LookParametersConvertToGrayscale | False |
LookParametersHighlights2012 | -12 |
LookParametersLookTable | 0B3BFB5CFB7DBF7FF175E98F24D316B0 |
LookParametersProcessVersion | 11.0 |
LookParametersShadows2012 | +12 |
LookParametersToneCurvePV2012 | 0, 0, 64, 60, 128, 128, 192, 196, 255, 255 |
LookParametersVersion | 13.3 |
LookSupportsAmount | false |
LookSupportsMonochrome | false |
LookSupportsOutputReferred | false |
LuminanceAdjustmentAqua | 0 |
LuminanceAdjustmentBlue | 0 |
LuminanceAdjustmentGreen | 0 |
LuminanceAdjustmentMagenta | 0 |
LuminanceAdjustmentOrange | 0 |
LuminanceAdjustmentPurple | 0 |
LuminanceAdjustmentRed | 0 |
LuminanceAdjustmentYellow | 0 |
LuminanceNoiseReductionContrast | 0 |
LuminanceNoiseReductionDetail | 50 |
LuminanceSmoothing | 21 |
Make | NIKON CORPORATION |
Marked | True |
MaxApertureValue | 2.8 |
Megapixels | 2.4 |
MeteringMode | Multi-segment |
Model | NIKON D750 |
ModifyDate (1) | 2021:08:16 19:21:16+02:00 |
ModifyDate | 2021:08:16 19:21:16 |
OverrideLookVignette | False |
PaintCorrectionActive | true |
PaintCorrectionAmount | 1.000000 |
PaintCorrectionBrightness | 0.000000 |
PaintCorrectionClarity2012 | 0.000000 |
PaintCorrectionContrast2012 | 0.000000 |
PaintCorrectionCorrectionRangeMaskDepthMin | 0.000000 |
PaintCorrectionCorrectionRangeMaskLumMax | 1.000000 |
PaintCorrectionCorrectionRangeMaskLumMin | 0.000000 |
PaintCorrectionCorrectionRangeMaskType | 0 |
PaintCorrectionCorrectionRangeMaskVersion | +2 |
PaintCorrectionDefringe | 0.000000 |
PaintCorrectionExposure2012 (1) | 0.347444 |
PaintCorrectionExposure2012 (2) | -0.200535 |
PaintCorrectionExposure2012 (3) | -0.343995 |
PaintCorrectionExposure2012 (4) | 0.197234 |
PaintCorrectionExposure2012 | -0.158930 |
PaintCorrectionHighlights2012 (3) | 0.000000 |
PaintCorrectionHighlights2012 | -0.303541 |
PaintCorrectionHue | 240.000000 |
PaintCorrectionLocalBlacks2012 (3) | 0.000000 |
PaintCorrectionLocalBlacks2012 (4) | -0.271820 |
PaintCorrectionLocalBlacks2012 | -0.192847 |
PaintCorrectionLocalDehaze | 0.000000 |
PaintCorrectionLocalHue | 0.000000 |
PaintCorrectionLocalTexture | 0.000000 |
PaintCorrectionLocalWhites2012 (3) | 0.000000 |
PaintCorrectionLocalWhites2012 | 0.197701 |
PaintCorrectionLuminanceNoise | 0.000000 |
PaintCorrectionMaskCenterWeight (13) | 0.001931 |
PaintCorrectionMaskCenterWeight (5) | 0.000000 |
PaintCorrectionMaskCenterWeight | 0.063749 |
PaintCorrectionMaskFlow (12) | 0.680224 |
PaintCorrectionMaskFlow (2) | 0.391602 |
PaintCorrectionMaskFlow | 0.469334 |
PaintCorrectionMaskRadius (1) | 0.061186 |
PaintCorrectionMaskRadius (10) | 0.023755 |
PaintCorrectionMaskRadius (11) | 0.061720 |
PaintCorrectionMaskRadius (12) | 0.047188 |
PaintCorrectionMaskRadius (13) | 0.021163 |
PaintCorrectionMaskRadius (14) | 0.016056 |
PaintCorrectionMaskRadius (15) | 0.016580 |
PaintCorrectionMaskRadius (2) | 0.060232 |
PaintCorrectionMaskRadius (3) | 0.029961 |
PaintCorrectionMaskRadius (4) | 0.018002 |
PaintCorrectionMaskRadius (5) | 0.018161 |
PaintCorrectionMaskRadius (6) | 0.018279 |
PaintCorrectionMaskRadius (7) | 0.061004 |
PaintCorrectionMaskRadius (8) | 0.024210 |
PaintCorrectionMaskRadius (9) | 0.024119 |
PaintCorrectionMaskRadius | 0.013766 |
PaintCorrectionMaskValue (14) | 0.680909 |
PaintCorrectionMaskValue (5) | 0.526325 |
PaintCorrectionMaskValue | 0.000000 |
PaintCorrectionMaskWhat | Mask/Paint |
PaintCorrectionMoire | 0.000000 |
PaintCorrectionSaturation | 0.000000 |
PaintCorrectionShadows2012 | 0.000000 |
PaintCorrectionSharpness (1) | 0.000000 |
PaintCorrectionSharpness | 0.294338 |
PaintCorrectionTemperature (1) | 0.243441 |
PaintCorrectionTemperature (2) | 0.165941 |
PaintCorrectionTemperature (4) | 0.091132 |
PaintCorrectionTemperature | -0.243857 |
PaintCorrectionTint (2) | 0.094029 |
PaintCorrectionTint (4) | 0.000000 |
PaintCorrectionTint | 0.221794 |
PaintCorrectionWhat | Correction |
ParametricDarks | 0 |
ParametricHighlights | 0 |
ParametricHighlightSplit | 75 |
ParametricLights | 0 |
ParametricMidtoneSplit | 50 |
ParametricShadows | 0 |
ParametricShadowSplit | 25 |
PerspectiveAspect | 0 |
PerspectiveHorizontal | 0 |
PerspectiveRotate | 0.0 |
PerspectiveScale | 100 |
PerspectiveUpright | 0 |
PerspectiveVertical | -13 |
PerspectiveX | 0.00 |
PerspectiveY | 0.00 |
PostCropVignetteAmount | -6 |
PostCropVignetteFeather | 50 |
PostCropVignetteHighlightContrast | 0 |
PostCropVignetteMidpoint | 50 |
PostCropVignetteRoundness | 0 |
PostCropVignetteStyle | 1 |
PreservedFileName | _D755023.NEF |
ProcessVersion | 11.0 |
ProfileDescription | sRGB IEC61966-2.1 |
Rating | 5 |
RawFileName | |
RedHue | 0 |
RedSaturation | 0 |
Rights | © Hans Jørgen Lindeløff 2021 |
Saturation (1) | +7 |
Saturation | Normal |
SaturationAdjustmentAqua | 0 |
SaturationAdjustmentBlue | 0 |
SaturationAdjustmentGreen | 0 |
SaturationAdjustmentMagenta | 0 |
SaturationAdjustmentOrange | 0 |
SaturationAdjustmentPurple | 0 |
SaturationAdjustmentRed | 0 |
SaturationAdjustmentYellow | 0 |
ScaleFactor35efl | 1.0 |
SceneCaptureType | Landscape |
SceneType | Directly photographed |
SensingMethod | One-chip color area |
SensitivityType | Recommended Exposure Index |
SerialNumber | 6128653 |
Shadows2012 | +100 |
ShadowTint | 0 |
SharpenDetail | 25 |
SharpenEdgeMasking | 68 |
SharpenRadius | +1.0 |
Sharpness (1) | 53 |
Sharpness | Normal |
ShutterSpeed | 1/125 |
ShutterSpeedValue | 1/125 |
SplitToningBalance | 0 |
SplitToningHighlightHue | 0 |
SplitToningHighlightSaturation | 0 |
SplitToningShadowHue | 0 |
SplitToningShadowSaturation | 0 |
Subject | Fredrikstad, Isegran, Solnedgang |
SubjectDistanceRange | Unknown |
Texture | 0 |
Tint | +10 |
ToneCurveName2012 | Custom |
ToneCurvePV2012 | 0, 0, 55, 50, 160, 172, 255, 255 |
ToneCurvePV2012Blue | 0, 0, 255, 255 |
ToneCurvePV2012Green | 0, 0, 255, 255 |
ToneCurvePV2012Red | 0, 0, 255, 255 |
UsageTerms | All rights reserved |
Version | 13.3 |
Vibrance | +19 |
VignetteAmount | 0 |
VignetteCorrectionAlreadyApplied | True |
WhiteBalance (1) | Cloudy |
WhiteBalance | Auto |
Whites2012 | +40 |