Felt | Verdi |
AELock | Off |
AFAreas | (111,106)-(144,149) |
AFFineTune | Off |
AFFineTuneAdj | 0 0 0 |
AFPoint | Center (vertical); Single Target |
AFPointSelected | (50%,50%) (50%,50%) |
AFSearch | Ready |
AlreadyApplied | True |
Aperture | 8.0 |
ApertureValue | 8.0 |
ArtFilter | Off; 0; 0; 0 |
AspectFrame | 0 0 4031 3023 |
AspectRatio | 4:3 |
AutoLateralCA | 0 |
AutoWhiteVersion | 134348800 |
BitsPerSample | 8 |
BlackLevel2 | 65 65 65 65 |
Blacks2012 | 0 |
BlueBalance | 1.21875 |
BlueHue | 0 |
BlueSaturation | 0 |
BodyFirmwareVersion | 1.101 |
CameraID | OLYMPUS DIGITAL CAMERA |
CameraProfile | Adobe Standard |
CameraSettingsVersion | 0100 |
CameraType2 | E-30 |
CFAPattern | [Blue,Green][Green,Red] |
CircleOfConfusion | 0.015 mm |
Clarity2012 | 0 |
ColorComponents | 3 |
ColorMatrix | 322 -48 -18 -28 336 -52 0 -56 312 |
ColorNoiseReduction | 25 |
ColorNoiseReductionDetail | 50 |
ColorNoiseReductionSmoothness | 50 |
ColorSpace | sRGB |
ColorTemperature | 5250 |
Contrast | Low |
Contrast2012 | +13 |
ContrastSetting | -2 (min -5, max 5) |
ConvertToGrayscale | False |
CreateDate (1) | 2009:06:05 14:13:15+02:00 |
CreateDate | 2009:06:05 14:13:15 |
Creator | Torstein Hall |
CreatorAddress | Undelstadveien 33D |
CreatorCountry | Asker |
CreatorPostalCode | 1387 |
CreatorRegion | Norway |
CreatorTool | DxO PhotoLab 4.3.1 |
CropAngle | 0 |
CropBottom | 0.868732 |
CropConstrainToWarp | 0 |
CropHeight | 3024 |
CropLeft (1) | 26 0 |
CropLeft | 0 |
CropRight | 1 |
CropTop (1) | 12 0 |
CropTop | 0 |
CropWidth | 4032 |
CustomRendered | Normal |
CustomSaturation | 0 (min -5, max 5) |
DateTimeOriginal (1) | 2009:06:05 14:13:15+02:00 |
DateTimeOriginal | 2009:06:05 14:13:15 |
DefringeGreenAmount | 0 |
DefringeGreenHueHi | 60 |
DefringeGreenHueLo | 40 |
DefringePurpleAmount | 0 |
DefringePurpleHueHi | 70 |
DefringePurpleHueLo | 30 |
Dehaze | 0 |
DigitalZoomRatio | 1 |
DistortionCorrection | Off |
DistortionCorrection2 | Off |
DOF | 3.15 m (0.68 - 3.83 m) |
DriveMode | Continuous Shooting, Shot 1 |
EquipmentVersion | 0100 |
ExifImageHeight (1) | 3024 |
ExifImageHeight | 1880 |
ExifImageWidth (1) | 4032 |
ExifImageWidth | 1410 |
Exposure2012 | -0.18 |
ExposureCompensation | 0 |
ExposureMode (1) | Aperture-priority AE |
ExposureMode | Auto |
ExposureProgram | Aperture-priority AE |
ExposureShift | 0.16 |
ExposureTime (1) | 1 |
ExposureTime | 1/640 |
ExtendedWBDetect | On |
Extender | None |
ExtenderFirmwareVersion | 0 |
ExtenderModel | |
ExtenderSerialNumber | |
ExtenderStatus | Not attached |
ExternalFlash | Off |
ExternalFlashBounce | Bounce or Off |
ExternalFlashZoom | 0 |
FaceDetectFrameSize | 0 0 0 0 0 0 |
FacesDetected | 0 0 0 |
Flash | On, Did not fire |
FlashCompensation | 0 |
FlashControlMode | TTL; 0; 0 |
FlashExposureComp | 0 |
FlashFired | False |
FlashFirmwareVersion | 0 |
FlashFunction | False |
FlashIntensity | 0 0 0 |
FlashMode (1) | On |
FlashMode | Fill-in |
FlashModel | None |
FlashRedEyeMode | False |
FlashRemoteControl | Channel 1, Low |
FlashReturn | No return detection |
FlashSerialNumber | |
FlashType | None |
FNumber (1) | 8 / 1 |
FNumber | 8.0 |
FocalLength | 14.0 mm |
FocusDistance | 1.155 m |
FocusInfoVersion | 0100 |
FocusMode | Continuous AF; C-AF, AF sensor |
FocusProcess | AF Used; 256 |
FocusStepCount | 181 |
Format | image/x-olympus-raw |
FOV | 64.8 deg (1.46 m) |
GainBase | 256 |
GainControl | Low gain up |
Gradation | Normal; User-Selected |
GrainAmount | 0 |
GreenHue | 0 |
GreenSaturation | 0 |
HasCrop | True |
HasSettings | True |
HierarchicalSubject | Oslo, Tivoli |
Highlights2012 | +17 |
HueAdjustmentAqua | 0 |
HueAdjustmentBlue | 0 |
HueAdjustmentGreen | 0 |
HueAdjustmentMagenta | 0 |
HueAdjustmentOrange | 0 |
HueAdjustmentPurple | 0 |
HueAdjustmentRed | 0 |
HueAdjustmentYellow | 0 |
HyperfocalDistance | 1.63 m |
ImageDescription | OLYMPUS DIGITAL CAMERA |
ImageHeight (1) | 3024 |
ImageHeight | 1880 |
ImageProcessingVersion | 0112 |
ImageSize | 1410x1880 |
ImageStabilization | On, Mode 1 |
ImageWidth (1) | 4032 |
ImageWidth | 1410 |
InternalFlash | Off |
InternalSerialNumber | 4073812007319001 |
ISO | 200 |
Lens | 14.0-54.0 mm f/2.8-3.5 |
LensFirmwareVersion | 1.100 |
LensID | Olympus Zuiko Digital 14-54mm F2.8-3.5 |
LensInfo | 14-54mm f/2.8-3.5 |
LensManualDistortionAmount | 0 |
LensModel | OLYMPUS 14-54mm Lens |
LensProfileEnable | 0 |
LensProfileSetup | LensDefaults |
LensProperties | 0xc043 |
LensSerialNumber | 050304913 |
LensType | Olympus Zuiko Digital 14-54mm F2.8-3.5 |
LightSource | Unknown |
LightValue | 14.3 |
LuminanceAdjustmentAqua | 0 |
LuminanceAdjustmentBlue | 0 |
LuminanceAdjustmentGreen | 0 |
LuminanceAdjustmentMagenta | 0 |
LuminanceAdjustmentOrange | 0 |
LuminanceAdjustmentPurple | 0 |
LuminanceAdjustmentRed | 0 |
LuminanceAdjustmentYellow | 0 |
LuminanceSmoothing | 0 |
MacroLED | Off |
MacroMode | Off |
Make | OLYMPUS IMAGING CORP. |
ManometerPressure | 0 kPa |
ManometerReading | 0 m, 0 ft |
ManualFlash | Off |
ManualFlashStrength | 0.25 1 1 |
Marked | True |
MaxAperture | 2.5 |
MaxApertureAtMaxFocal | 3.5 |
MaxApertureAtMinFocal | 2.8 |
MaxApertureValue | 2.8 |
MaxFaces | 0 0 0 |
MaxFocalLength | 54 |
Megapixels | 2.7 |
MeteringMode (2) | Multi-segment |
MeteringMode | ESP |
MinFocalLength | 14 |
Model | E-30 |
ModifiedSaturation | Off |
ModifyDate (1) | 2009:06:05 14:13:15+02:00 |
ModifyDate | 2009:06:05 14:13:15 |
MultipleExposureMode | Off; 1 |
NoiseFilter | Standard |
NoiseReduction | (none) |
NoiseReduction2 | (none) |
Orientation | Horizontal (normal) |
PanoramaMode | Off |
ParametricDarks | 0 |
ParametricHighlights | 0 |
ParametricHighlightSplit | 75 |
ParametricLights | 0 |
ParametricMidtoneSplit | 50 |
ParametricShadows | 0 |
ParametricShadowSplit | 25 |
PerspectiveAspect | 0 |
PerspectiveHorizontal | 0 |
PerspectiveRotate | 0.0 |
PerspectiveScale | 100 |
PerspectiveUpright | 0 |
PerspectiveVertical | 0 |
PerspectiveX | 0.00 |
PerspectiveY | 0.00 |
PictureMode | Natural; 2 |
PictureModeBWFilter | n/a |
PictureModeContrast | -2 (min -2, max 2) |
PictureModeSaturation | 0 (min -2, max 2) |
PictureModeSharpness | 1 (min -2, max 2) |
PictureModeTone | n/a |
PostCropVignetteAmount | 0 |
PrintIMVersion | 0300 |
ProcessVersion | 6.7 |
Rating | 2 |
RatingPercent | 25 |
RawDevColorSpace | sRGB |
RawDevContrastValue | 0 0 0 |
RawDevEditStatus | Original |
RawDevEngine | High Speed |
RawDevExposureBiasValue | 0 |
RawDevGrayPoint | 0 0 0 |
RawDevMemoryColorEmphasis | 0 |
RawDevNoiseReduction | (none) |
RawDevSaturationEmphasis | 0 0 0 |
RawDevSettings | (none) |
RawDevSharpnessValue | 0 0 0 |
RawDevVersion | 0100 |
RawDevWBFineAdjustment | 0 |
RawDevWhiteBalanceValue | 0 |
RawFileName | TH058780.ORF |
RedBalance | 1.851563 |
RedHue | 0 |
RedSaturation | 0 |
RegionAppliedToDimensionsH | 2627 |
RegionAppliedToDimensionsUnit | pixel |
RegionAppliedToDimensionsW | 4032 |
RegionAreaH | 0.11654 |
RegionAreaW | 0.08741 |
RegionAreaX | 0.34907 |
RegionAreaY | 0.18129 |
RegionRotation | -2.91159 |
RegionType | Face |
Rights-x-repair | Foto: Torstein Hall |
Saturation (2) | 0 |
Saturation | Normal |
SaturationAdjustmentAqua | 0 |
SaturationAdjustmentBlue | 0 |
SaturationAdjustmentGreen | 0 |
SaturationAdjustmentMagenta | 0 |
SaturationAdjustmentOrange | 0 |
SaturationAdjustmentPurple | 0 |
SaturationAdjustmentRed | 0 |
SaturationAdjustmentYellow | 0 |
SavedSettingsName | Import |
SavedSettingsParametersAutoBrightness | False |
SavedSettingsParametersAutoContrast | False |
SavedSettingsParametersAutoExposure | False |
SavedSettingsParametersAutoGrayscaleMix | True |
SavedSettingsParametersAutoLateralCA | 0 |
SavedSettingsParametersAutoShadows | False |
SavedSettingsParametersAutoTone | True |
SavedSettingsParametersBlueHue | 0 |
SavedSettingsParametersBlueSaturation | 0 |
SavedSettingsParametersChromaticAberrationB | 0 |
SavedSettingsParametersChromaticAberrationR | 0 |
SavedSettingsParametersClarity | 0 |
SavedSettingsParametersClarity2012 | 0 |
SavedSettingsParametersColorNoiseReduction | 25 |
SavedSettingsParametersConvertToGrayscale | False |
SavedSettingsParametersDefringe | 0 |
SavedSettingsParametersDefringeGreenAmount | 0 |
SavedSettingsParametersDefringeGreenHueHi | 60 |
SavedSettingsParametersDefringeGreenHueLo | 40 |
SavedSettingsParametersDefringePurpleAmount | 0 |
SavedSettingsParametersDefringePurpleHueHi | 70 |
SavedSettingsParametersDefringePurpleHueLo | 30 |
SavedSettingsParametersDehaze | 0 |
SavedSettingsParametersEnableCalibration | True |
SavedSettingsParametersEnableDetail | True |
SavedSettingsParametersEnableEffects | True |
SavedSettingsParametersEnableGrayscaleMix | True |
SavedSettingsParametersEnableRedEye | True |
SavedSettingsParametersEnableRetouch | True |
SavedSettingsParametersEnableSplitToning | True |
SavedSettingsParametersEnableToneCurve | True |
SavedSettingsParametersEnableTransform | True |
SavedSettingsParametersGrainAmount | 0 |
SavedSettingsParametersGrainFrequency | 50 |
SavedSettingsParametersGrainSize | 50 |
SavedSettingsParametersGreenHue | 0 |
SavedSettingsParametersGreenSaturation | 0 |
SavedSettingsParametersHueAdjustmentAqua | 0 |
SavedSettingsParametersHueAdjustmentBlue | 0 |
SavedSettingsParametersHueAdjustmentGreen | 0 |
SavedSettingsParametersHueAdjustmentMagenta | 0 |
SavedSettingsParametersHueAdjustmentOrange | 0 |
SavedSettingsParametersHueAdjustmentPurple | 0 |
SavedSettingsParametersHueAdjustmentRed | 0 |
SavedSettingsParametersHueAdjustmentYellow | 0 |
SavedSettingsParametersLensProfileEnable | 0 |
SavedSettingsParametersLuminanceAdjustmentAqua | 0 |
SavedSettingsParametersLuminanceAdjustmentBlue | 0 |
SavedSettingsParametersLuminanceAdjustmentRed | 0 |
SavedSettingsParametersLuminanceSmoothing | 0 |
SavedSettingsParametersParametricDarks | 0 |
SavedSettingsParametersParametricHighlights | 0 |
SavedSettingsParametersParametricLights | 0 |
SavedSettingsParametersParametricMidtoneSplit | 50 |
SavedSettingsParametersParametricShadows | 0 |
SavedSettingsParametersParametricShadowSplit | 25 |
SavedSettingsParametersPerspectiveAspect | 0 |
SavedSettingsParametersPerspectiveHorizontal | 0 |
SavedSettingsParametersPerspectiveRotate | 0.0 |
SavedSettingsParametersPerspectiveScale | 100 |
SavedSettingsParametersPerspectiveUpright | 0 |
SavedSettingsParametersPerspectiveVertical | 0 |
SavedSettingsParametersPerspectiveX | 0.00 |
SavedSettingsParametersPerspectiveY | 0.00 |
SavedSettingsParametersPostCropVignetteAmount | 0 |
SavedSettingsParametersPostCropVignetteStyle | 1 |
SavedSettingsParametersProcessVersion | 5.0 |
SavedSettingsParametersRedHue | 0 |
SavedSettingsParametersRedSaturation | 0 |
SavedSettingsParametersSaturation | 0 |
SavedSettingsParametersSaturationAdjustmentBlue | 0 |
SavedSettingsParametersSaturationAdjustmentRed | 0 |
SavedSettingsParametersShadowTint | 0 |
SavedSettingsParametersSharpenDetail | 25 |
SavedSettingsParametersSharpenEdgeMasking | 0 |
SavedSettingsParametersSharpenRadius | +1.0 |
SavedSettingsParametersSharpness | 25 |
SavedSettingsParametersSplitToningBalance | 0 |
SavedSettingsParametersSplitToningHighlightHue | 0 |
SavedSettingsParametersSplitToningShadowHue | 0 |
SavedSettingsParametersToneCurveName2012 | Linear |
SavedSettingsParametersToneMapStrength | 0 |
SavedSettingsParametersUprightCenterMode | 0 |
SavedSettingsParametersUprightCenterNormX | 0.5 |
SavedSettingsParametersUprightCenterNormY | 0.5 |
SavedSettingsParametersUprightFocalLength35mm | 35 |
SavedSettingsParametersUprightFocalMode | 0 |
SavedSettingsParametersUprightFourSegmentsCount | 0 |
SavedSettingsParametersUprightPreview | False |
SavedSettingsParametersUprightTransformCount | 6 |
SavedSettingsParametersUprightVersion | 151388160 |
SavedSettingsParametersVersion | 9.12 |
SavedSettingsParametersVibrance | 0 |
SavedSettingsParametersVignetteAmount | 0 |
SavedSettingsParametersVignetteMidpoint | 50 |
SavedSettingsParametersWhiteBalance | As Shot |
SavedSettingsType | Snapshot |
ScaleFactor35efl | 2.0 |
SceneCaptureType | Standard |
SceneDetect | 0 |
SceneMode | Standard |
SensorCalibration | 3974 328 |
SensorTemperature | 23.8 C |
SerialNumber | G68503300 |
ShadingCompensation | On |
ShadingCompensation2 | On |
Shadows2012 | +57 |
ShadowTint | 0 |
SharpenDetail | 25 |
SharpenEdgeMasking | 0 |
SharpenRadius | +1.0 |
Sharpness (2) | 25 |
Sharpness | Hard |
SharpnessSetting | 1 (min -5, max 5) |
ShutterSpeed | 1/640 |
ShutterSpeedValue | 1/640 |
SidecarForExtension | ORF |
Software | DxO PhotoLab 4.3.1 |
SpecialMode | Fast, Sequence: 1, Panorama: (none) |
SplitToningBalance | 0 |
SplitToningHighlightHue | 0 |
SplitToningHighlightSaturation | 0 |
SplitToningShadowHue | 0 |
SplitToningShadowSaturation | 0 |
Subject | Oslo, Tivoli |
SubjectDistance | 1.155 m |
Tint | -19 |
ToneCurve | 0, 0, 32, 22, 64, 56, 128, 128, 192, 196, 255, 255 |
ToneCurveBlue | 0, 0, 255, 255 |
ToneCurveGreen | 0, 0, 255, 255 |
ToneCurveName | Medium Contrast |
ToneCurveName2012 | Linear |
ToneCurvePV2012 | 0, 0, 255, 255 |
ToneCurvePV2012Blue | 0, 0, 255, 255 |
ToneCurvePV2012Green | 0, 0, 255, 255 |
ToneCurvePV2012Red | 0, 0, 255, 255 |
ToneCurveRed | 0, 0, 255, 255 |
ToneMapStrength | 0 |
UserComment | |
ValidBits | 12 0 |
Version | 9.12 |
Vibrance | +40 |
VignetteAmount | 0 |
WB_RBLevels | 474 312 256 256 |
WB_RBLevels3000K | 252 640 256 256 |
WB_RBLevels3300K | 310 497 256 256 |
WB_RBLevels3600K | 335 455 256 256 |
WB_RBLevels3900K | 358 422 256 256 |
WB_RBLevels4000K | 407 492 256 256 |
WB_RBLevels4300K | 373 408 256 256 |
WB_RBLevels4500K | 405 430 256 256 |
WB_RBLevels4800K | 404 372 256 256 |
WB_RBLevels5300K | 432 344 256 256 |
WB_RBLevels6000K | 477 311 256 256 |
WB_RBLevels6600K | 497 335 256 256 |
WB_RBLevels7500K | 522 268 256 256 |
WB_RBLevelsCWB1 | 246 712 256 256 |
WB_RBLevelsCWB2 | 384 384 256 256 |
WB_RBLevelsCWB3 | 384 384 256 256 |
WB_RBLevelsCWB4 | 384 384 256 256 |
WhiteBalance (2) | As Shot |
WhiteBalance | Auto |
WhiteBalance2 | Auto |
WhiteBalanceBracket | 0 0 |
WhiteBalanceTemperature | Auto |
Whites2012 | -52 |
ZoomStepCount | 0 |