Felt | Verdi |
AlreadyApplied | True |
Aperture | 1.8 |
ApertureValue | 1.8 |
Artist | Hans Jørgen Lindeløff |
AutoLateralCA | 1 |
BitsPerSample | 8 |
Blacks2012 | -8 |
BlueHue | 0 |
BlueSaturation | 0 |
BrightnessValue | 5.138033764 |
By-line | Hans Jørgen Lindeløff |
CameraProfile | Embedded |
CircGradBasedCorrActive | true |
CircGradBasedCorrAmount | 1.000000 |
CircGradBasedCorrBrightness | 0.000000 |
CircGradBasedCorrClarity2012 | 0.000000 |
CircGradBasedCorrContrast2012 | 0.000000 |
CircGradBasedCorrDefringe | 0.000000 |
CircGradBasedCorrExposure2012 | 0.088703 |
CircGradBasedCorrHue | 240.000000 |
CircGradBasedCorrLocalDehaze | 0.000000 |
CircGradBasedCorrLocalHue | 0.000000 |
CircGradBasedCorrLocalTexture | 0.000000 |
CircGradBasedCorrMaskAngle | -0.076101 |
CircGradBasedCorrMaskBottom | 0.672476 |
CircGradBasedCorrMaskFeather | +100 |
CircGradBasedCorrMaskFlipped | true |
CircGradBasedCorrMaskFlow | 0.469334 |
CircGradBasedCorrMaskLeft (3) | 0.143448 |
CircGradBasedCorrMaskLeft (35) | 0.410549 |
CircGradBasedCorrMaskLeft (39) | 0.274514 |
CircGradBasedCorrMaskLeft (4) | 0.523743 |
CircGradBasedCorrMaskLeft (40) | 0.268707 |
CircGradBasedCorrMaskLeft (41) | 0.148406 |
CircGradBasedCorrMaskLeft (5) | 0.781864 |
CircGradBasedCorrMaskLeft (6) | 0.403347 |
CircGradBasedCorrMaskLeft (7) | 0.407262 |
CircGradBasedCorrMaskLeft (9) | 0.407775 |
CircGradBasedCorrMaskLeft | 0.014151 |
CircGradBasedCorrMaskMidpoint | +50 |
CircGradBasedCorrMaskRadius | 0.042873 |
CircGradBasedCorrMaskRight (1) | 0.247981 |
CircGradBasedCorrMaskRight (2) | 0.976250 |
CircGradBasedCorrMaskRight (3) | 0.451986 |
CircGradBasedCorrMaskRight (4) | 0.692659 |
CircGradBasedCorrMaskRight (5) | 0.914772 |
CircGradBasedCorrMaskRight (6) | 0.405296 |
CircGradBasedCorrMaskRight | 0.016101 |
CircGradBasedCorrMaskRoundness | 0 |
CircGradBasedCorrMaskTop (1) | 0.335162 |
CircGradBasedCorrMaskTop (10) | 0.664210 |
CircGradBasedCorrMaskTop (12) | 0.667025 |
CircGradBasedCorrMaskTop (15) | 0.664520 |
CircGradBasedCorrMaskTop (16) | 0.665207 |
CircGradBasedCorrMaskTop (17) | 0.681332 |
CircGradBasedCorrMaskTop (18) | 0.675137 |
CircGradBasedCorrMaskTop (19) | 0.667331 |
CircGradBasedCorrMaskTop (2) | 0.160190 |
CircGradBasedCorrMaskTop (22) | 0.665785 |
CircGradBasedCorrMaskTop (23) | 0.673158 |
CircGradBasedCorrMaskTop (24) | 0.669878 |
CircGradBasedCorrMaskTop (26) | 0.665298 |
CircGradBasedCorrMaskTop (27) | 0.366431 |
CircGradBasedCorrMaskTop (28) | 0.680622 |
CircGradBasedCorrMaskTop (29) | 0.698699 |
CircGradBasedCorrMaskTop (3) | 0.494435 |
CircGradBasedCorrMaskTop (32) | 0.666664 |
CircGradBasedCorrMaskTop (33) | 0.666363 |
CircGradBasedCorrMaskTop (34) | 0.666146 |
CircGradBasedCorrMaskTop (35) | 0.672089 |
CircGradBasedCorrMaskTop (4) | 0.499845 |
CircGradBasedCorrMaskTop (40) | 0.667239 |
CircGradBasedCorrMaskTop (41) | 0.665655 |
CircGradBasedCorrMaskTop (5) | 0.527365 |
CircGradBasedCorrMaskTop (6) | 0.672068 |
CircGradBasedCorrMaskTop (9) | 0.673291 |
CircGradBasedCorrMaskTop | 0.667539 |
CircGradBasedCorrMaskValue (3) | 0.000000 |
CircGradBasedCorrMaskValue | 1.000000 |
CircGradBasedCorrMaskVersion | +2 |
CircGradBasedCorrMoire | 0.000000 |
CircGradBasedCorrSaturation | 0.000000 |
CircGradBasedCorrShadows2012 | 0.000000 |
CircGradBasedCorrSharpness | 0.000000 |
CircGradBasedCorrTemperature | 1.000000 |
CircGradBasedCorrTint (11) | 0.090931 |
CircGradBasedCorrTint (2) | 0.184178 |
CircGradBasedCorrTint (27) | 0.000000 |
CircGradBasedCorrTint (28) | 0.174722 |
CircGradBasedCorrTint (3) | 0.067162 |
CircGradBasedCorrTint | 0.021692 |
CircGradBasedCorrWhat | Correction |
CircleOfConfusion | 0.004 mm |
Clarity2012 | 0 |
ColorComponents | 3 |
ColorGradeBlending | 50 |
ColorGradeGlobalHue | 0 |
ColorGradeGlobalLum | 0 |
ColorGradeGlobalSat | 0 |
ColorGradeHighlightLum | 0 |
ColorGradeMidtoneHue | 0 |
ColorGradeMidtoneLum | 0 |
ColorGradeMidtoneSat | 0 |
ColorGradeShadowLum | 0 |
ColorNoiseReduction | 23 |
ColorNoiseReductionDetail | 50 |
ColorNoiseReductionSmoothness | 50 |
ColorSpace | sRGB |
ColorTransform | YCbCr |
Contrast2012 | 0 |
ConvertToGrayscale | False |
Copyright | © Hans Jørgen Lindeløff 2017 |
CopyrightFlag | True |
Country | Norway |
Country-PrimaryLocationCode | NO |
Country-PrimaryLocationName | Norway |
CountryCode | NO |
CreateDate | 2017:08:31 20:21:24 |
Creator | Hans Jørgen Lindeløff |
CreatorAddress | Bjørnevågveien 8 |
CreatorCity | Kråkerøy |
CreatorCountry | Norway |
CreatorPostalCode | 1676 |
CreatorWorkEmail | lundeli@me.com |
CreatorWorkTelephone | +47 92049534 |
CreatorWorkURL | lundeliphoto.no |
CropAngle | -0.076101 |
CropBottom | 0.994059 |
CropConstrainToWarp | 1 |
CropLeft | 0.006182 |
CropRight | 0.923369 |
CropTop | 0.079721 |
DateCreated (1) | 2017:08:31 |
DateCreated | 2017:08:31 20:21:24.993 |
DateTimeOriginal | 2017:08:31 20:21:24 |
DefringeGreenAmount | 0 |
DefringeGreenHueHi | 60 |
DefringeGreenHueLo | 40 |
DefringePurpleAmount | 0 |
DefringePurpleHueHi | 70 |
DefringePurpleHueLo | 30 |
Dehaze | 0 |
DistortionCorrectionAlreadyApplied | True |
Exposure2012 | -0.25 |
ExposureCompensation | -8/3 |
ExposureMode | Auto |
ExposureProgram | Program AE |
ExposureTime | 1/850 |
Flash | Off, Did not fire |
FNumber | 1.8 |
FocalLength | 4.0 mm |
FocalLengthIn35mmFormat | 28 mm |
Format | image/jpeg |
FOV | 65.5 deg |
GPSAltitude (1) | 60.42095238 m |
GPSAltitude | 60.4 m Above Sea Level |
GPSAltitudeRef | Above Sea Level |
GPSDateStamp | 2017:08:31 |
GPSDateTime | 2017:08:31 18:21:25.17Z |
GPSDOP | 568.1372549 |
GPSImgDirection | 302.8213166 |
GPSImgDirectionRef | True North |
GPSLatitude (1) | 59 deg 55' 0.35" |
GPSLatitude | 59 deg 55' 0.35" N |
GPSLatitudeRef | North |
GPSLongitude (1) | 10 deg 43' 52.80" |
GPSLongitude | 10 deg 43' 52.80" E |
GPSLongitudeRef | East |
GPSTimeStamp | 18:21:25.17 |
GPSVersionID | 2.2.0.0 |
GradientBasedCorrActive | true |
GradientBasedCorrAmount | 1.000000 |
GradientBasedCorrBrightness | 0.000000 |
GradientBasedCorrClarity2012 | 0.000000 |
GradientBasedCorrContrast2012 | 0.000000 |
GradientBasedCorrDefringe | 0.000000 |
GradientBasedCorrExposure2012 | -0.146561 |
GradientBasedCorrHue | 240.000000 |
GradientBasedCorrLocalDehaze | 0.000000 |
GradientBasedCorrLocalHue | 0.000000 |
GradientBasedCorrLocalTexture | 0.000000 |
GradientBasedCorrMaskFlow | 0.469334 |
GradientBasedCorrMaskFullX (1) | 0.166439 |
GradientBasedCorrMaskFullX (2) | 0.445072 |
GradientBasedCorrMaskFullX (3) | 0.503803 |
GradientBasedCorrMaskFullX (4) | 0.839999 |
GradientBasedCorrMaskFullX (5) | 0.301952 |
GradientBasedCorrMaskFullX (6) | 0.454404 |
GradientBasedCorrMaskFullX | 0.394345 |
GradientBasedCorrMaskFullY (1) | 0.538062 |
GradientBasedCorrMaskFullY (2) | 0.935787 |
GradientBasedCorrMaskFullY (3) | 0.317876 |
GradientBasedCorrMaskFullY (4) | 0.204541 |
GradientBasedCorrMaskFullY (5) | 0.932364 |
GradientBasedCorrMaskFullY (6) | 0.154742 |
GradientBasedCorrMaskFullY | 0.793406 |
GradientBasedCorrMaskRadius | 0.024319 |
GradientBasedCorrMaskValue (2) | 0.000000 |
GradientBasedCorrMaskValue | 1.000000 |
GradientBasedCorrMaskWhat | Mask/Gradient |
GradientBasedCorrMaskZeroX (1) | 0.612554 |
GradientBasedCorrMaskZeroX (2) | 0.444748 |
GradientBasedCorrMaskZeroX (3) | 0.504784 |
GradientBasedCorrMaskZeroX (4) | 0.806140 |
GradientBasedCorrMaskZeroX (5) | 0.314960 |
GradientBasedCorrMaskZeroX (6) | 0.459267 |
GradientBasedCorrMaskZeroX | 0.392781 |
GradientBasedCorrMaskZeroY (1) | 0.568850 |
GradientBasedCorrMaskZeroY (2) | 0.688719 |
GradientBasedCorrMaskZeroY (3) | 0.584977 |
GradientBasedCorrMaskZeroY (4) | 0.523579 |
GradientBasedCorrMaskZeroY (5) | 0.750470 |
GradientBasedCorrMaskZeroY (6) | 0.390422 |
GradientBasedCorrMaskZeroY | 0.481303 |
GradientBasedCorrMoire | 0.000000 |
GradientBasedCorrSaturation | 0.000000 |
GradientBasedCorrShadows2012 | 0.221389 |
GradientBasedCorrSharpness | 0.000000 |
GradientBasedCorrTemperature | 0.000000 |
GradientBasedCorrTint (2) | 0.111042 |
GradientBasedCorrTint (3) | 0.092207 |
GradientBasedCorrTint | 0.000000 |
GradientBasedCorrWhat | Correction |
GrainAmount | 0 |
GreenHue | 0 |
GreenSaturation | 0 |
HasCrop | True |
HasSettings | True |
Highlights2012 | -15 |
HueAdjustmentAqua | 0 |
HueAdjustmentBlue | 0 |
HueAdjustmentGreen | 0 |
HueAdjustmentMagenta | 0 |
HueAdjustmentOrange | 0 |
HueAdjustmentPurple | 0 |
HueAdjustmentRed | 0 |
HueAdjustmentYellow | 0 |
HyperfocalDistance | 2.07 m |
ImageHeight | 1152 |
ImageSize | 2048x1152 |
ImageWidth | 2048 |
IncrementalTemperature | +8 |
IncrementalTint | -23 |
IsMergedHDR | True |
ISO | 20 |
LensInfo | 3.99mm f/1.8 |
LensMake | Apple |
LensManualDistortionAmount | 0 |
LensProfileDistortionScale | 100 |
LensProfileEnable | 0 |
LensProfileIsEmbedded | False |
LensProfileSetup | LensDefaults |
LensProfileVignettingScale | 100 |
LightValue | 13.7 |
LuminanceAdjustmentAqua | 0 |
LuminanceAdjustmentBlue | 0 |
LuminanceAdjustmentGreen | 0 |
LuminanceAdjustmentMagenta | 0 |
LuminanceAdjustmentOrange | 0 |
LuminanceAdjustmentPurple | 0 |
LuminanceAdjustmentRed | 0 |
LuminanceAdjustmentYellow | 0 |
LuminanceNoiseReductionContrast | 0 |
LuminanceNoiseReductionDetail | 50 |
LuminanceSmoothing | 25 |
Make | Apple |
Marked | True |
Megapixels | 2.4 |
MeteringMode | Multi-segment |
Model | iPhone 7 Plus |
ModifyDate | 2021:08:06 03:12:24 |
OverrideLookVignette | False |
PaintCorrectionActive | true |
PaintCorrectionAmount | 1.000000 |
PaintCorrectionBrightness | 0.000000 |
PaintCorrectionClarity2012 | 0.000000 |
PaintCorrectionContrast2012 | 0.000000 |
PaintCorrectionDefringe | 0.000000 |
PaintCorrectionExposure2012 | 0.000000 |
PaintCorrectionHighlights2012 | 0.000000 |
PaintCorrectionHue | 240.000000 |
PaintCorrectionLocalDehaze | 0.000000 |
PaintCorrectionLocalHue | 0.000000 |
PaintCorrectionLocalTexture | 0.000000 |
PaintCorrectionLocalWhites2012 | 0.146767 |
PaintCorrectionLuminanceNoise | 0.000000 |
PaintCorrectionMaskFlow (22) | 0.613920 |
PaintCorrectionMaskFlow (6) | 0.872044 |
PaintCorrectionMaskFlow | 0.680224 |
PaintCorrectionMaskRadius (1) | 0.011896 |
PaintCorrectionMaskRadius (10) | 0.144505 |
PaintCorrectionMaskRadius (11) | 0.144056 |
PaintCorrectionMaskRadius (12) | 0.145180 |
PaintCorrectionMaskRadius (13) | 0.031758 |
PaintCorrectionMaskRadius (14) | 0.031831 |
PaintCorrectionMaskRadius (15) | 0.031827 |
PaintCorrectionMaskRadius (16) | 0.031839 |
PaintCorrectionMaskRadius (17) | 0.031879 |
PaintCorrectionMaskRadius (18) | 0.031858 |
PaintCorrectionMaskRadius (19) | 0.031525 |
PaintCorrectionMaskRadius (2) | 0.046247 |
PaintCorrectionMaskRadius (20) | 0.026071 |
PaintCorrectionMaskRadius (21) | 0.031475 |
PaintCorrectionMaskRadius (22) | 0.031541 |
PaintCorrectionMaskRadius (23) | 0.047470 |
PaintCorrectionMaskRadius (24) | 0.047461 |
PaintCorrectionMaskRadius (25) | 0.026069 |
PaintCorrectionMaskRadius (26) | 0.026302 |
PaintCorrectionMaskRadius (27) | 0.010772 |
PaintCorrectionMaskRadius (28) | 0.020986 |
PaintCorrectionMaskRadius (29) | 0.010875 |
PaintCorrectionMaskRadius (30) | 0.036505 |
PaintCorrectionMaskRadius (31) | 0.025953 |
PaintCorrectionMaskRadius (32) | 0.100902 |
PaintCorrectionMaskRadius (33) | 0.094904 |
PaintCorrectionMaskRadius (7) | 0.044598 |
PaintCorrectionMaskRadius (8) | 0.143381 |
PaintCorrectionMaskRadius (9) | 0.143206 |
PaintCorrectionMaskRadius | 0.094580 |
PaintCorrectionMaskValue | 0.680909 |
PaintCorrectionMaskWhat | Mask/Paint |
PaintCorrectionMoire | 0.000000 |
PaintCorrectionSaturation | 0.000000 |
PaintCorrectionShadows2012 | 0.000000 |
PaintCorrectionSharpness | 0.000000 |
PaintCorrectionTemperature (1) | 0.144742 |
PaintCorrectionTemperature (2) | 0.000000 |
PaintCorrectionTemperature (3) | 0.414583 |
PaintCorrectionTemperature (5) | 0.214879 |
PaintCorrectionTemperature (6) | 0.050313 |
PaintCorrectionTemperature (7) | 0.658352 |
PaintCorrectionTemperature | 0.329915 |
PaintCorrectionTint (1) | 0.000000 |
PaintCorrectionTint (3) | 0.294763 |
PaintCorrectionTint | 0.210453 |
PaintCorrectionWhat | Correction |
ParametricDarks | 0 |
ParametricHighlights | 0 |
ParametricHighlightSplit | 75 |
ParametricLights | 0 |
ParametricMidtoneSplit | 50 |
ParametricShadows | 0 |
ParametricShadowSplit | 25 |
PerspectiveAspect | 0 |
PerspectiveHorizontal | 0 |
PerspectiveRotate | 0.0 |
PerspectiveScale | 100 |
PerspectiveUpright | 0 |
PerspectiveVertical | +5 |
PerspectiveX | 0.00 |
PerspectiveY | 0.00 |
PostCropVignetteAmount | -10 |
PostCropVignetteFeather | 50 |
PostCropVignetteHighlightContrast | 0 |
PostCropVignetteMidpoint | 50 |
PostCropVignetteRoundness | 0 |
PostCropVignetteStyle | 1 |
PreservedFileName | APC_5039-hdr.dng |
ProcessVersion | 11.0 |
ProfileDescription | sRGB IEC61966-2.1 |
Province-State | Oslo |
Rating | 5 |
RawFileName | |
RedHue | 0 |
RedSaturation | 0 |
Rights | © Hans Jørgen Lindeløff 2017 |
Saturation | 0 |
SaturationAdjustmentAqua | 0 |
SaturationAdjustmentBlue | 0 |
SaturationAdjustmentGreen | 0 |
SaturationAdjustmentMagenta | 0 |
SaturationAdjustmentOrange | 0 |
SaturationAdjustmentPurple | 0 |
SaturationAdjustmentRed | 0 |
SaturationAdjustmentYellow | 0 |
ScaleFactor35efl | 7.0 |
SceneType | Directly photographed |
SensingMethod | One-chip color area |
Shadows2012 | +13 |
ShadowTint | 0 |
SharpenDetail | 25 |
SharpenEdgeMasking | 57 |
SharpenRadius | +1.0 |
Sharpness | 43 |
ShutterSpeed | 1/850 |
ShutterSpeedValue | 1/850 |
SplitToningBalance | 0 |
SplitToningHighlightHue | 0 |
SplitToningHighlightSaturation | 0 |
SplitToningShadowHue | 0 |
SplitToningShadowSaturation | 0 |
State | Oslo |
SubjectArea | 2015 1511 2217 1330 |
Texture | 0 |
ToneCurveName2012 | Custom |
ToneCurvePV2012 | 0, 0, 54, 54, 141, 150, 255, 255 |
ToneCurvePV2012Blue | 0, 0, 255, 255 |
ToneCurvePV2012Green | 0, 0, 255, 255 |
ToneCurvePV2012Red | 0, 0, 255, 255 |
Transformation | Cylindrical |
Version | 13.3 |
Vibrance | +7 |
VignetteAmount | 0 |
VirtualFocalLength | 0.598949 |
VirtualImageXCenter | 0.441801 |
VirtualImageYCenter | 0.614494 |
WhiteBalance (1) | Custom |
WhiteBalance | Auto |
Whites2012 | +7 |