Felt | Verdi |
# Brightness and Contrast
# ClearSelection
# ColorVibrancy
# LayerDuplicate
# LayerSetVisibility
# Magic Wand
# MultiObjectProperties
# Resize
# SelectInvert
# SelectNone
'AdvancedMode': True,
'Antialias': True,
'AntialiasType': App.Constants.AntialiasType.Outside
'AspectRatio': 1.42635,
'BlendMode': App.Constants.BlendMode.Normal,
'Brightness': -21,
'BrightnessContrast':
'BrightnessNew': 0,
'Command': App.Constants.ShowCommands.Hide,
'Command': App.Constants.ShowCommands.Show,
'Contiguous': True,
'Contrast': 15,
'ContrastNew': 0,
'CurrentDimensionUnits': App.Constants.UnitsOfMeasure.Pixels,
'CurrentResolutionUnits': App.Constants.ResolutionUnits.PixelsPerIn,
'Effects': None,
'Enable_GPU': True
'Feather': 2,
'General':
'GroupLink': None,
'Height': 1390,
'IsTransparencyLocked': None,
'IsVisible': None,
'LinkSet': None,
'MaintainAspectRatio': True,
'MatchMode': App.Constants.MatchMode.RGBValue,
'Mode': App.Constants.SelectionOperation.Add,
'MODEL': 0,
'Name': None,
'Noise_Level': 0,
'Noise_Slider': 0,
'OneSide_Active': 0,
'OneSide_LongWidth': 2937,
'OneSide_ShortHeight': 2059,
'OneSide_Type': 0,
'OneSide_Unit': App.Constants.UnitsOfMeasure.Pixels,
'Opacity': None,
'PaletteHighlightColor': None,
'Path': (0,-1,[],False),
'Path': None
'Point': (1385.75,1983.25),
'Point': (1391.25,2110.25),
'Point': (1397.25,1957.25),
'Point': (1402.25,1971.75),
'Point': (1410.75,2030.75),
'Point': (1419.25,2194.25),
'Resample': True,
'ResampleType': 1,
'ResizeAllLayers': True,
'ResizeType': 0,
'Resolution': 72,
'SampleMerged': True,
'SharpnessValue': 54,
'Tolerance': 34,
'UseHighlight': None,
'UseLinearBC': True
'Vibrancy':
'Vibrancy': -100
'Width': 1982,
'WorkingMode': 0
'WorkingMode': 1,
18.06.2021 23:54:06 # File 'TH314923_DxO.pspimage' saved.
18.06.2021 23:55:57 # File 'vinterveien.jpg' saved.
AlreadyApplied | True |
Aperture | 4.5 |
ApertureValue | 4.5 |
AutoLateralCA | 0 |
AutoWhiteVersion | 134348800 |
BitsPerSample | 8 |
Blacks2012 | -1 |
BlueHue | 0 |
BlueSaturation | 0 |
By-line | Torstein Hall |
CameraProfile | Adobe Standard |
Caption-Abstract | OLYMPUS DIGITAL CAMERA |
CFAPattern | [Blue,Green][Green,Red] |
CFAPatternColumns | 2 |
CFAPatternRows | 2 |
CFAPatternValues | 2, 1, 1, 0 |
Clarity2012 | 0 |
ColorComponents | 3 |
ColorNoiseReduction | 25 |
ColorNoiseReductionDetail | 50 |
ColorNoiseReductionSmoothness | 50 |
ColorSpace | sRGB |
ColorTemperature | 6800 |
Contrast | Normal |
Contrast2012 | +21 |
ConvertToGrayscale | False |
CopyrightNotice | Foto: Torstein Hall |
CreateDate (1) | 2009:01:31 15:15:42+01:00 |
CreateDate | 2009:01:31 15:15:42 |
Creator | Torstein Hall |
CreatorAddress | Undelstadveien 33D |
CreatorCountry | Asker |
CreatorPostalCode | 1387 |
CreatorRegion | Norway |
CreatorTool | PaintShop Pro 23,00 |
CustomRendered | Normal |
DateCreated | 2009:01:31 |
DateTimeOriginal (1) | 2009:01:31 15:15:42+01:00 |
DateTimeOriginal | 2009:01:31 15:15:42 |
DefringeGreenAmount | 0 |
DefringeGreenHueHi | 60 |
DefringeGreenHueLo | 40 |
DefringePurpleAmount | 0 |
DefringePurpleHueHi | 70 |
DefringePurpleHueLo | 30 |
Dehaze | 0 |
Description | OLYMPUS DIGITAL CAMERA |
DigitalZoomRatio | 1 |
ExifImageHeight (1) | 3024 |
ExifImageHeight | 2831 |
ExifImageWidth (1) | 4032 |
ExifImageWidth | 4038 |
Exposure2012 | -0.01 |
ExposureCompensation (1) | +3 |
ExposureCompensation | +0.3 |
ExposureMode | Manual |
ExposureProgram | Aperture-priority AE |
ExposureTime (1) | 1 |
ExposureTime | 1/125 |
Flash | Auto, Did not fire |
FlashCompensation | 0 |
FlashFired | False |
FlashFunction | False |
FlashMode | Auto |
FlashRedEyeMode | False |
FlashReturn | No return detection |
FNumber (1) | 45 / 10 |
FNumber | 4.5 |
FocalLength | 31.0 mm |
FocalLength35efl | 31.0 mm |
Format | image/x-olympus-raw |
GainControl | Low gain up |
GrainAmount | 0 |
GreenHue | 0 |
GreenSaturation | 0 |
HasSettings | True |
HierarchicalSubject | Semsvann, vinter |
Highlights2012 | 0 |
HueAdjustmentAqua | 0 |
HueAdjustmentBlue | 0 |
HueAdjustmentGreen | 0 |
HueAdjustmentMagenta | 0 |
HueAdjustmentOrange | 0 |
HueAdjustmentPurple | 0 |
HueAdjustmentRed | 0 |
HueAdjustmentYellow | 0 |
ImageDescription | OLYMPUS DIGITAL CAMERA |
ImageHeight (1) | 3024 |
ImageHeight | 1390 |
ImageSize | 1982x1390 |
ImageWidth (1) | 4032 |
ImageWidth | 1982 |
ISO | 200 |
Lens | 14.0-54.0 mm f/2.8-3.5 |
LensInfo | 14-54mm f/2.8-3.5 |
LensManualDistortionAmount | 0 |
LensProfileEnable | 0 |
LensProfileSetup | LensDefaults |
LensSerialNumber | 050304913 |
LightSource | Unknown |
LightValue | 10.3 |
LuminanceAdjustmentAqua | 0 |
LuminanceAdjustmentBlue | 0 |
LuminanceAdjustmentGreen | 0 |
LuminanceAdjustmentMagenta | 0 |
LuminanceAdjustmentOrange | 0 |
LuminanceAdjustmentPurple | 0 |
LuminanceAdjustmentRed | 0 |
LuminanceAdjustmentYellow | 0 |
LuminanceSmoothing | 0 |
Make | OLYMPUS IMAGING CORP. |
Marked | True |
MaxApertureValue | 2.8 |
Megapixels | 2.8 |
MeteringMode | Multi-segment |
Model | E-30 |
ModifyDate (1) | 2009:01:31 15:15:42+01:00 |
ModifyDate | 2009:01:31 15:15:42 |
Orientation | Horizontal (normal) |
ParametricDarks | 0 |
ParametricHighlights | 0 |
ParametricHighlightSplit | 75 |
ParametricLights | 0 |
ParametricMidtoneSplit | 50 |
ParametricShadows | 0 |
ParametricShadowSplit | 25 |
PerspectiveAspect | 0 |
PerspectiveHorizontal | 0 |
PerspectiveRotate | 0.0 |
PerspectiveScale | 100 |
PerspectiveUpright | 0 |
PerspectiveVertical | 0 |
PerspectiveX | 0.00 |
PerspectiveY | 0.00 |
PostCropVignetteAmount | 0 |
ProcessVersion | 6.7 |
ProfileDescription | sRGB IEC61966-2.1 |
RawFileName | TH314923.ORF |
RedHue | 0 |
RedSaturation | 0 |
Rights-x-repair | Foto: Torstein Hall |
Saturation (2) | 0 |
Saturation | Normal |
SaturationAdjustmentAqua | 0 |
SaturationAdjustmentBlue | 0 |
SaturationAdjustmentGreen | 0 |
SaturationAdjustmentMagenta | 0 |
SaturationAdjustmentOrange | 0 |
SaturationAdjustmentPurple | 0 |
SaturationAdjustmentRed | 0 |
SaturationAdjustmentYellow | 0 |
SavedSettingsName | Import |
SavedSettingsParametersAutoBrightness | False |
SavedSettingsParametersAutoContrast | False |
SavedSettingsParametersAutoExposure | False |
SavedSettingsParametersAutoGrayscaleMix | True |
SavedSettingsParametersAutoLateralCA | 0 |
SavedSettingsParametersAutoShadows | False |
SavedSettingsParametersAutoTone | True |
SavedSettingsParametersAutoWhiteVersion | 134348800 |
SavedSettingsParametersBlueHue | 0 |
SavedSettingsParametersBlueSaturation | 0 |
SavedSettingsParametersCameraProfile | Adobe Standard |
SavedSettingsParametersChromaticAberrationB | 0 |
SavedSettingsParametersChromaticAberrationR | 0 |
SavedSettingsParametersClarity | 0 |
SavedSettingsParametersClarity2012 | 0 |
SavedSettingsParametersColorNoiseReduction | 25 |
SavedSettingsParametersColorNoiseReductionDetail | 50 |
SavedSettingsParametersColorNoiseReductionSmoothness | 50 |
SavedSettingsParametersConvertToGrayscale | False |
SavedSettingsParametersDefringe | 0 |
SavedSettingsParametersDefringeGreenAmount | 0 |
SavedSettingsParametersDefringeGreenHueHi | 60 |
SavedSettingsParametersDefringeGreenHueLo | 40 |
SavedSettingsParametersDefringePurpleAmount | 0 |
SavedSettingsParametersDefringePurpleHueHi | 70 |
SavedSettingsParametersDefringePurpleHueLo | 30 |
SavedSettingsParametersDehaze | 0 |
SavedSettingsParametersEnableCalibration | True |
SavedSettingsParametersEnableCircularGradientBasedCorrections | True |
SavedSettingsParametersEnableColorAdjustments | True |
SavedSettingsParametersEnableDetail | True |
SavedSettingsParametersEnableEffects | True |
SavedSettingsParametersEnableGradientBasedCorrections | True |
SavedSettingsParametersEnableGrayscaleMix | True |
SavedSettingsParametersEnableLensCorrections | True |
SavedSettingsParametersEnablePaintBasedCorrections | True |
SavedSettingsParametersEnableRedEye | True |
SavedSettingsParametersEnableRetouch | True |
SavedSettingsParametersEnableSplitToning | True |
SavedSettingsParametersEnableToneCurve | True |
SavedSettingsParametersEnableTransform | True |
SavedSettingsParametersGrainAmount | 0 |
SavedSettingsParametersGrainFrequency | 50 |
SavedSettingsParametersGrainSize | 50 |
SavedSettingsParametersGreenHue | 0 |
SavedSettingsParametersGreenSaturation | 0 |
SavedSettingsParametersHueAdjustmentAqua | 0 |
SavedSettingsParametersHueAdjustmentBlue | 0 |
SavedSettingsParametersHueAdjustmentGreen | 0 |
SavedSettingsParametersHueAdjustmentMagenta | 0 |
SavedSettingsParametersHueAdjustmentOrange | 0 |
SavedSettingsParametersHueAdjustmentPurple | 0 |
SavedSettingsParametersHueAdjustmentRed | 0 |
SavedSettingsParametersHueAdjustmentYellow | 0 |
SavedSettingsParametersLensManualDistortionAmount | 0 |
SavedSettingsParametersLensProfileEnable | 0 |
SavedSettingsParametersLensProfileSetup | LensDefaults |
SavedSettingsParametersLuminanceAdjustmentAqua | 0 |
SavedSettingsParametersLuminanceAdjustmentBlue | 0 |
SavedSettingsParametersLuminanceAdjustmentGreen | 0 |
SavedSettingsParametersLuminanceAdjustmentMagenta | 0 |
SavedSettingsParametersLuminanceAdjustmentOrange | 0 |
SavedSettingsParametersLuminanceAdjustmentPurple | 0 |
SavedSettingsParametersLuminanceAdjustmentRed | 0 |
SavedSettingsParametersLuminanceAdjustmentYellow | 0 |
SavedSettingsParametersLuminanceNoiseReductionContrast | 50 |
SavedSettingsParametersLuminanceNoiseReductionDetail | 50 |
SavedSettingsParametersLuminanceSmoothing | 0 |
SavedSettingsParametersParametricDarks | 0 |
SavedSettingsParametersParametricHighlights | 0 |
SavedSettingsParametersParametricHighlightSplit | 75 |
SavedSettingsParametersParametricLights | 0 |
SavedSettingsParametersParametricMidtoneSplit | 50 |
SavedSettingsParametersParametricShadows | 0 |
SavedSettingsParametersParametricShadowSplit | 25 |
SavedSettingsParametersPerspectiveAspect | 0 |
SavedSettingsParametersPerspectiveHorizontal | 0 |
SavedSettingsParametersPerspectiveRotate | 0.0 |
SavedSettingsParametersPerspectiveScale | 100 |
SavedSettingsParametersPerspectiveUpright | 0 |
SavedSettingsParametersPerspectiveVertical | 0 |
SavedSettingsParametersPerspectiveX | 0.00 |
SavedSettingsParametersPerspectiveY | 0.00 |
SavedSettingsParametersPostCropVignetteAmount | 0 |
SavedSettingsParametersPostCropVignetteFeather | 50 |
SavedSettingsParametersPostCropVignetteHighlightContrast | 0 |
SavedSettingsParametersPostCropVignetteMidpoint | 50 |
SavedSettingsParametersPostCropVignetteRoundness | 0 |
SavedSettingsParametersPostCropVignetteStyle | 1 |
SavedSettingsParametersProcessVersion | 5.0 |
SavedSettingsParametersRedHue | 0 |
SavedSettingsParametersRedSaturation | 0 |
SavedSettingsParametersSaturation | 0 |
SavedSettingsParametersSaturationAdjustmentAqua | 0 |
SavedSettingsParametersSaturationAdjustmentBlue | 0 |
SavedSettingsParametersSaturationAdjustmentGreen | 0 |
SavedSettingsParametersSaturationAdjustmentMagenta | 0 |
SavedSettingsParametersSaturationAdjustmentOrange | 0 |
SavedSettingsParametersSaturationAdjustmentPurple | 0 |
SavedSettingsParametersSaturationAdjustmentRed | 0 |
SavedSettingsParametersSaturationAdjustmentYellow | 0 |
SavedSettingsParametersShadowTint | 0 |
SavedSettingsParametersSharpenDetail | 25 |
SavedSettingsParametersSharpenEdgeMasking | 0 |
SavedSettingsParametersSharpenRadius | +1.0 |
SavedSettingsParametersSharpness | 25 |
SavedSettingsParametersSplitToningBalance | 0 |
SavedSettingsParametersSplitToningHighlightHue | 0 |
SavedSettingsParametersSplitToningHighlightSaturation | 0 |
SavedSettingsParametersSplitToningShadowHue | 0 |
SavedSettingsParametersSplitToningShadowSaturation | 0 |
SavedSettingsParametersToneCurve | 0, 0, 32, 22, 64, 56, 128, 128, 192, 196, 255, 255 |
SavedSettingsParametersToneCurveBlue | 0, 0, 255, 255 |
SavedSettingsParametersToneCurveGreen | 0, 0, 255, 255 |
SavedSettingsParametersToneCurveName | Medium Contrast |
SavedSettingsParametersToneCurveName2012 | Linear |
SavedSettingsParametersToneCurvePV2012 | 0, 0, 255, 255 |
SavedSettingsParametersToneCurvePV2012Blue | 0, 0, 255, 255 |
SavedSettingsParametersToneCurvePV2012Green | 0, 0, 255, 255 |
SavedSettingsParametersToneCurvePV2012Red | 0, 0, 255, 255 |
SavedSettingsParametersToneCurveRed | 0, 0, 255, 255 |
SavedSettingsParametersToneMapStrength | 0 |
SavedSettingsParametersUprightCenterMode | 0 |
SavedSettingsParametersUprightCenterNormX | 0.5 |
SavedSettingsParametersUprightCenterNormY | 0.5 |
SavedSettingsParametersUprightFocalLength35mm | 35 |
SavedSettingsParametersUprightFocalMode | 0 |
SavedSettingsParametersUprightFourSegmentsCount | 0 |
SavedSettingsParametersUprightPreview | False |
SavedSettingsParametersUprightTransformCount | 6 |
SavedSettingsParametersUprightVersion | 151388160 |
SavedSettingsParametersVersion | 9.12 |
SavedSettingsParametersVibrance | 0 |
SavedSettingsParametersVignetteAmount | 0 |
SavedSettingsParametersVignetteMidpoint | 50 |
SavedSettingsParametersWhiteBalance | As Shot |
SavedSettingsType | Snapshot |
SceneCaptureType | Standard |
SerialNumber | G68503300 |
Shadows2012 | 0 |
ShadowTint | 0 |
SharpenDetail | 25 |
SharpenEdgeMasking | 0 |
SharpenRadius | +1.0 |
Sharpness (2) | 25 |
Sharpness | Normal |
ShutterSpeed | 1/125 |
ShutterSpeedValue | 1/125 |
SidecarForExtension | ORF |
Software | PaintShop Pro 23,00 |
SplitToningBalance | 0 |
SplitToningHighlightHue | 0 |
SplitToningHighlightSaturation | 0 |
SplitToningShadowHue | 0 |
SplitToningShadowSaturation | 0 |
Subject | Semsvann, vinter |
SubjectDistance | 3.315 m |
Tint | -21 |
ToneCurve | 0, 0, 32, 22, 64, 56, 128, 128, 192, 196, 255, 255 |
ToneCurveBlue | 0, 0, 255, 255 |
ToneCurveGreen | 0, 0, 255, 255 |
ToneCurveName | Medium Contrast |
ToneCurveName2012 | Linear |
ToneCurvePV2012 | 0, 0, 255, 255 |
ToneCurvePV2012Blue | 0, 0, 255, 255 |
ToneCurvePV2012Green | 0, 0, 255, 255 |
ToneCurvePV2012Red | 0, 0, 255, 255 |
ToneCurveRed | 0, 0, 255, 255 |
ToneMapStrength | 0 |
UserComment | |
Version | 9.12 |
Vibrance | 0 |
VignetteAmount | 0 |
WhiteBalance (2) | As Shot |
WhiteBalance | Auto |
Whites2012 | 0 |