Felt | Verdi |
AlreadyApplied | True |
Aperture | 1.0 |
ApertureValue | 1.0 |
Artist | Arild Thingvoll |
AutoLateralCA | 0 |
BitsPerSample | 8 |
Blacks2012 | 0 |
BlueHue | 0 |
BlueSaturation | 0 |
BrightnessValue | 0.56 |
By-line | Arild Thingvoll |
CameraProfile | Embedded |
CircleOfConfusion | 0.020 mm |
Clarity2012 | 0 |
ColorComponents | 3 |
ColorGradeBlending | 50 |
ColorGradeGlobalHue | 0 |
ColorGradeGlobalLum | 0 |
ColorGradeGlobalSat | 0 |
ColorGradeHighlightLum | 0 |
ColorGradeMidtoneHue | 0 |
ColorGradeMidtoneLum | 0 |
ColorGradeMidtoneSat | 0 |
ColorGradeShadowLum | 0 |
ColorNoiseReduction | 0 |
ColorSpace | sRGB |
ColorTransform | YCbCr |
Contrast2012 | +12 |
ConvertToGrayscale | False |
Copyright | © Arild Thingvoll |
CopyrightNotice | © Arild Thingvoll |
CreateDate | 2016:07:24 07:50:07 |
Creator | Arild Thingvoll |
CreatorAddress | Ligtvor |
CreatorCity | Vik i Sogn |
CreatorCountry | Norway |
CreatorPostalCode | 6893 |
CreatorRegion | Sogn og Fjordane |
CreatorTool | Adobe Photoshop Lightroom Classic 10.1.1 (Windows) |
CreatorWorkEmail | athingvoll@gmail.com |
CreatorWorkTelephone | 91584513 |
CropAngle | 0 |
CropBottom | 1 |
CropConstrainToWarp | 0 |
CropLeft | 0 |
CropRight | 0.985345 |
CropTop | 0.02262 |
CustomRendered | Normal |
DateCreated (1) | 2016:07:24 |
DateCreated | 2016:07:24 07:50:07 |
DateTimeOriginal | 2016:07:24 07:50:07 |
DefringeGreenAmount | 0 |
DefringeGreenHueHi | 60 |
DefringeGreenHueLo | 40 |
DefringePurpleAmount | 0 |
DefringePurpleHueHi | 70 |
DefringePurpleHueLo | 30 |
Dehaze | 0 |
Exposure2012 | 0.00 |
ExposureCompensation | 0 |
ExposureMode | Manual |
ExposureProgram | Manual |
ExposureTime | 1/60 |
Flash | Off, Did not fire |
FNumber | 1.0 |
FocalLength | 12.0 mm |
FocalLength35efl | 12.0 mm (35 mm equivalent: 18.0 mm) |
FocalLengthIn35mmFormat | 18 mm |
Format | image/jpeg |
FOV | 90.0 deg |
GrainAmount | 0 |
GrayMixerAqua | -12 |
GrayMixerBlue | +19 |
GrayMixerGreen | -28 |
GrayMixerMagenta | +3 |
GrayMixerOrange | -23 |
GrayMixerPurple | +21 |
GrayMixerRed | -13 |
GrayMixerYellow | -27 |
GreenHue | 0 |
GreenSaturation | 0 |
HasCrop | True |
HasSettings | True |
HierarchicalSubject | 0717, Nidelva, Trondheim, frå Bybroa, landskap, sein kveld |
Highlights2012 | 0 |
HueAdjustmentAqua | 0 |
HueAdjustmentBlue | 0 |
HueAdjustmentGreen | 0 |
HueAdjustmentMagenta | 0 |
HueAdjustmentOrange | 0 |
HueAdjustmentPurple | 0 |
HueAdjustmentRed | 0 |
HueAdjustmentYellow | 0 |
HyperfocalDistance | 7.19 m |
ImageHeight | 1186 |
ImageSize | 2000x1186 |
ImageWidth | 2000 |
IncrementalTemperature | 0 |
IncrementalTint | 0 |
ISO | 400 |
Keywords | 0717, Nidelva, Trondheim, frå Bybroa, landskap, sein kveld |
Lens | 12.0 mm |
LensInfo | 12mm f/? |
LensManualDistortionAmount | 0 |
LensModel | 12.0 mm |
LensProfileEnable | 0 |
LightSource | Unknown |
LightValue | 3.9 |
LuminanceAdjustmentAqua | 0 |
LuminanceAdjustmentBlue | 0 |
LuminanceAdjustmentGreen | 0 |
LuminanceAdjustmentMagenta | 0 |
LuminanceAdjustmentOrange | 0 |
LuminanceAdjustmentPurple | 0 |
LuminanceAdjustmentRed | 0 |
LuminanceAdjustmentYellow | 0 |
LuminanceSmoothing | 0 |
Make | FUJIFILM |
Megapixels | 2.4 |
MeteringMode | Multi-segment |
Model | X-T1 |
ModifyDate (1) | 2021:02:23 21:19:50+01:00 |
ModifyDate | 2021:02:23 21:19:50 |
OverrideLookVignette | False |
PaintCorrectionActive | true |
PaintCorrectionAmount | 1.000000 |
PaintCorrectionBrightness | 0.000000 |
PaintCorrectionClarity2012 (2) | 0.000000 |
PaintCorrectionClarity2012 | 0.067870 |
PaintCorrectionContrast2012 (1) | 0.294120 |
PaintCorrectionContrast2012 | 0.000000 |
PaintCorrectionCorrectionRangeMaskColorAmount | 0.500000 |
PaintCorrectionCorrectionRangeMaskDepthFeather | 0.500000 |
PaintCorrectionCorrectionRangeMaskDepthMax | 1.000000 |
PaintCorrectionCorrectionRangeMaskDepthMin | 0.000000 |
PaintCorrectionCorrectionRangeMaskLumFeather | 0.500000 |
PaintCorrectionCorrectionRangeMaskLumMax | 1.000000 |
PaintCorrectionCorrectionRangeMaskLumMin | 0.000000 |
PaintCorrectionCorrectionRangeMaskType | 0 |
PaintCorrectionCorrectionRangeMaskVersion | +2 |
PaintCorrectionDefringe | 0.000000 |
PaintCorrectionExposure2012 (1) | 0.000000 |
PaintCorrectionExposure2012 | 0.086000 |
PaintCorrectionHighlights2012 (4) | -0.149320 |
PaintCorrectionHighlights2012 | 0.000000 |
PaintCorrectionHue | 240.000000 |
PaintCorrectionLocalBlacks2012 | 0.000000 |
PaintCorrectionLocalDehaze (2) | 0.113120 |
PaintCorrectionLocalDehaze | 0.000000 |
PaintCorrectionLocalWhites2012 | 0.000000 |
PaintCorrectionLuminanceNoise | 0.000000 |
PaintCorrectionMaskCenterWeight | 0.082873 |
PaintCorrectionMaskFlow | 1.000000 |
PaintCorrectionMaskRadius (1) | 0.149287 |
PaintCorrectionMaskRadius (10) | 0.053921 |
PaintCorrectionMaskRadius (16) | 0.064632 |
PaintCorrectionMaskRadius (2) | 0.087091 |
PaintCorrectionMaskRadius (25) | 0.075689 |
PaintCorrectionMaskRadius (27) | 0.059233 |
PaintCorrectionMaskRadius (3) | 0.019152 |
PaintCorrectionMaskRadius (37) | 0.033534 |
PaintCorrectionMaskRadius (46) | 0.048694 |
PaintCorrectionMaskRadius (52) | 0.038501 |
PaintCorrectionMaskRadius (55) | 0.043555 |
PaintCorrectionMaskRadius (60) | 0.028654 |
PaintCorrectionMaskRadius (67) | 0.023860 |
PaintCorrectionMaskRadius (69) | 0.081347 |
PaintCorrectionMaskRadius | 0.070117 |
PaintCorrectionMaskValue | 0.628000 |
PaintCorrectionMaskWhat | Mask/Paint |
PaintCorrectionMoire | 0.000000 |
PaintCorrectionSaturation (9) | 0.122170 |
PaintCorrectionSaturation | 0.000000 |
PaintCorrectionShadows2012 (2) | 0.475110 |
PaintCorrectionShadows2012 (4) | 0.000000 |
PaintCorrectionShadows2012 | 0.149320 |
PaintCorrectionSharpness | 0.000000 |
PaintCorrectionTemperature | 0.000000 |
PaintCorrectionTint | 0.000000 |
PaintCorrectionWhat | Correction |
ParametricDarks | 0 |
ParametricHighlights | -47 |
ParametricHighlightSplit | 75 |
ParametricLights | +6 |
ParametricMidtoneSplit | 50 |
ParametricShadows | 0 |
ParametricShadowSplit | 25 |
PerspectiveAspect | 0 |
PerspectiveHorizontal | 0 |
PerspectiveRotate | 0.0 |
PerspectiveScale | 100 |
PerspectiveUpright | 0 |
PerspectiveVertical | 0 |
PerspectiveX | 0.00 |
PerspectiveY | 0.00 |
PostCropVignetteAmount | 0 |
ProcessVersion | 11.0 |
ProfileDescription | sRGB IEC61966-2.1 |
RawFileName | |
RedHue | 0 |
RedSaturation | 0 |
Rights | © Arild Thingvoll |
Saturation | 0 |
SaturationAdjustmentAqua | 0 |
SaturationAdjustmentBlue | -32 |
SaturationAdjustmentGreen | 0 |
SaturationAdjustmentMagenta | 0 |
SaturationAdjustmentOrange | 0 |
SaturationAdjustmentPurple | 0 |
SaturationAdjustmentRed | 0 |
SaturationAdjustmentYellow | 0 |
ScaleFactor35efl | 1.5 |
SceneCaptureType | Standard |
SensingMethod | One-chip color area |
Shadows2012 | 0 |
ShadowTint | 0 |
SharpenDetail | 31 |
SharpenEdgeMasking | 0 |
SharpenRadius | +0.9 |
Sharpness (1) | 41 |
Sharpness | Normal |
ShutterSpeed | 1/60 |
ShutterSpeedValue | 1/60 |
Software | Adobe Photoshop Lightroom Classic 10.1.1 (Windows) |
SplitToningBalance | 0 |
SplitToningHighlightHue | 0 |
SplitToningHighlightSaturation | 0 |
SplitToningShadowHue | 0 |
SplitToningShadowSaturation | 0 |
Subject | 0717, Nidelva, Trondheim, frå Bybroa, landskap, sein kveld |
SubjectDistanceRange | Unknown |
Texture | 0 |
ToneCurveName2012 | Linear |
ToneCurvePV2012 | 0, 0, 255, 255 |
ToneCurvePV2012Blue | 0, 0, 255, 255 |
ToneCurvePV2012Green | 0, 0, 255, 255 |
ToneCurvePV2012Red | 0, 0, 255, 255 |
Version | 13.1 |
Vibrance | 0 |
VignetteAmount | 0 |
WhiteBalance (1) | Custom |
WhiteBalance | Auto |
Whites2012 | 0 |