Felt | Verdi |
AlreadyApplied | True |
Aperture | 8.0 |
ApertureValue | 8.0 |
ApproximateFocusDistance | 0.18 |
BitsPerSample (1) | 8, 8, 8 |
BitsPerSample | 8 |
BlueHue | 0 |
BlueSaturation | 0 |
Brightness | +49 |
By-line | Tonny Froyen Photography |
CameraProfile (1) | Camera STANDARD |
CameraProfile | Adobe Standard |
CaptionWriter | I hope you would enjoy my pictures as much as I enjoy taking them. Some photographs have been taken a day ago and some have been taken a couple of months or even years ago, most of the photographs are taken in Norway. |
CFAPattern | [Red,Green][Green,Blue] |
ChromaticAberrationB | 0 |
ChromaticAberrationR | 0 |
CircleOfConfusion | 0.020 mm |
Clarity | +10 |
ColorComponents | 3 |
ColorMode | RGB |
ColorNoiseReduction | 25 |
ColorNoiseReductionDetail | 50 |
ColorSpace | sRGB |
ColorTemperature | 3750 |
ColorTransform | YCbCr |
Contrast (1) | +48 |
Contrast | Normal |
ConvertToGrayscale | False |
copyright Tonny froyen
copyright Tonny Roger Frøyen
copyright tonny.froyen
copyright tonny.froyen |
copyright tonnyfroyen
CopyrightFlag | True |
CopyrightNotice | copyright tonnyfroyen.com
CreateDate (1) | 2020:09:19 13:08:41.90 |
CreateDate | 2020:09:19 13:08:41 |
Creator | Tonny Froyen Photography |
CreatorCity | Molde |
CreatorCountry | Norway |
CreatorTool | Adobe Photoshop CS5 Windows |
CreatorWorkEmail | tonny.froyen@live.com |
CreatorWorkURL | http://www.tonnyfroyen.com
CustomRendered | Normal |
DateCreated (1) | 2020:09:19 13:08:41.009 |
DateCreated | 2020:09:19 |
DateTimeDigitized | 2020:09:19 13:08:41.90+02:00 |
DateTimeOriginal (1) | 2020:09:19 13:08:41.90+02:00 |
DateTimeOriginal | 2020:09:19 13:08:41 |
Defringe | 0 |
DigitalZoomRatio | 1 |
DOF | -0.00 m (0.01 - 0.01 m) |
ExifImageHeight | 3264 |
ExifImageWidth | 3822 |
Exposure | +0.05 |
ExposureCompensation | 0 |
ExposureMode | Auto |
ExposureProgram | Not Defined |
ExposureTime | 1/250 |
FillLight | 0 |
Flash | Off, Did not fire |
FlashFired | False |
FlashFunction | False |
FlashMode | Off |
FlashRedEyeMode | False |
FlashReturn | No return detection |
FNumber | 8.0 |
FocalLength | 40.0 mm |
FocalLength35efl | 40.0 mm (35 mm equivalent: 60.0 mm) |
FocalLengthIn35mmFormat | 60 mm |
Format | image/jpeg |
FOV | 33.4 deg |
GainControl | None |
GrainAmount | 0 |
GreenHue | 0 |
GreenSaturation | 0 |
HasCrop | False |
HasSettings | True |
HighlightRecovery | 0 |
https://500px.com/tonnyfroyen/
https://no.pinterest.com/tonnyfroyen/
https://twitter.com/tonnyfroyen
https://www.deviantart.com/tonnyfroyen |
https://www.facebook.com/Tonny.Froyen
https://www.flickr.com/photos/tonnyfroyen/
https://www.instagram.com/tonny.froyen/
HueAdjustmentAqua | 0 |
HueAdjustmentBlue | 0 |
HueAdjustmentGreen | 0 |
HueAdjustmentMagenta | 0 |
HueAdjustmentOrange | 0 |
HueAdjustmentPurple | 0 |
HueAdjustmentRed | 0 |
HueAdjustmentYellow | 0 |
HyperfocalDistance | 9.98 m |
ICCProfileName | sRGB IEC61966-2.1 |
ImageHeight | 3264 |
ImageNumber | 11175 |
ImageSize | 3822x3264 |
ImageWidth | 3822 |
ISO | 100 |
Keywords | macro, nature, macrophotography, photography, flowersandmacro, macro_flower, bokeh, blossom, Art, tonnyfroyen, Norway, closeup, blooming, Molde, picoftheday, photo, Flower, Flowers, petals, beautiful, macroflower, macrolove, macroandflora, macronatur, love, Nikon, Samsung, flowershot, portrait |
Lens | 40.0 mm f/2.8 |
LensID (1) | 134 |
LensID | Unknown (134) 40mm |
LensInfo | 40mm f/2.8 |
LightSource | Unknown |
LightValue | 14.0 |
LookName | |
LuminanceAdjustmentAqua | 0 |
LuminanceAdjustmentBlue | 0 |
LuminanceAdjustmentGreen | 0 |
LuminanceAdjustmentMagenta | 0 |
LuminanceAdjustmentOrange | 0 |
LuminanceAdjustmentPurple | 0 |
LuminanceAdjustmentRed | 0 |
LuminanceAdjustmentYellow | 0 |
LuminanceSmoothing | 0 |
Make | NIKON CORPORATION |
Marked | True |
MaxApertureValue | 3.5 |
Megapixels | 12.5 |
MeteringMode | Multi-segment |
Model | NIKON D5100 |
ModifyDate (1) | 2020:09:20 21:28:47+02:00 |
ModifyDate | 2020:09:20 21:28:47 |
Orientation | Horizontal (normal) |
ParametricDarks | 0 |
ParametricHighlights | 0 |
ParametricHighlightSplit | 75 |
ParametricLights | 0 |
ParametricMidtoneSplit | 50 |
ParametricShadows | 0 |
ParametricShadowSplit | 25 |
PhotometricInterpretation | RGB |
PostCropVignetteAmount | 0 |
ProcessVersion | 5.7 |
ProfileDescription | sRGB IEC61966-2.1 |
Rating | 0 |
RawFileName | bytur_156.dng |
RedHue | 0 |
RedSaturation | 0 |
Rights | copyright tonnyfroyen.com
SamplesPerPixel | 3 |
Saturation (1) | 0 |
Saturation | Normal |
SaturationAdjustmentAqua | 0 |
SaturationAdjustmentBlue | 0 |
SaturationAdjustmentGreen | 0 |
SaturationAdjustmentMagenta | 0 |
SaturationAdjustmentOrange | 0 |
SaturationAdjustmentPurple | 0 |
SaturationAdjustmentRed | 0 |
SaturationAdjustmentYellow | 0 |
ScaleFactor35efl | 1.5 |
SceneCaptureType | Standard |
SceneType | Directly photographed |
SensingMethod | One-chip color area |
SerialNumber | 6466520 |
Shadows | 0 |
ShadowTint | 0 |
SharpenDetail | 25 |
SharpenEdgeMasking | 0 |
SharpenRadius | +1.0 |
Sharpness (1) | 25 |
Sharpness | Normal |
ShutterSpeed | 1/250 |
ShutterSpeedValue | 1/250 |
Software | Adobe Photoshop CS5 Windows |
SplitToningBalance | 0 |
SplitToningHighlightHue | 0 |
SplitToningHighlightSaturation | 0 |
SplitToningShadowHue | 0 |
SplitToningShadowSaturation | 0 |
Subject | macro, nature, macrophotography, photography, flowersandmacro, macro_flower, bokeh, blossom, Art, tonnyfroyen, Norway, closeup, blooming, Molde, picoftheday, photo, Flower, Flowers, petals, beautiful, macroflower, macrolove, macroandflora, macronatur, love, Nikon, Samsung, flowershot, portrait |
SubjectDistance | 0.01 m |
SubjectDistanceRange | Unknown |
Tint | +30 |
ToneCurve | 0, 0, 32, 22, 64, 56, 128, 128, 192, 196, 255, 255 |
ToneCurveName | Medium Contrast |
URL_List | |
UserComment | Copyright Tonny Froyen |
Version | 6.0 |
Vibrance | +15 |
VignetteAmount | 0 |
WhiteBalance | Auto |
Writer-Editor | I hope you would enjoy my pictu |