Felt | Verdi |
AlreadyApplied | True |
Aperture | 22.0 |
ApertureValue | 22.0 |
Artist | ARILD THINGVOLL |
AutoLateralCA | 1 |
BitsPerSample | 8 |
Blacks2012 | -40 |
BlueHue | 0 |
BlueSaturation | 0 |
BrightnessValue | 7.03 |
By-line | ARILD THINGVOLL |
CameraProfile | Adobe Standard |
CircGradBasedCorrActive | true |
CircGradBasedCorrAmount | 1.000000 |
CircGradBasedCorrBrightness | 0.000000 |
CircGradBasedCorrClarity2012 (1) | -0.614862 |
CircGradBasedCorrClarity2012 | 0.000000 |
CircGradBasedCorrContrast2012 | 0.000000 |
CircGradBasedCorrCorrectionRangeMaskColorAmount | 0.500000 |
CircGradBasedCorrCorrectionRangeMaskDepthFeather | 0.500000 |
CircGradBasedCorrCorrectionRangeMaskDepthMax | 1.000000 |
CircGradBasedCorrCorrectionRangeMaskDepthMin | 0.000000 |
CircGradBasedCorrCorrectionRangeMaskLumFeather | 0.500000 |
CircGradBasedCorrCorrectionRangeMaskLumMax | 1.000000 |
CircGradBasedCorrCorrectionRangeMaskLumMin | 0.000000 |
CircGradBasedCorrCorrectionRangeMaskType | 0 |
CircGradBasedCorrCorrectionRangeMaskVersion | +2 |
CircGradBasedCorrDefringe | 0.000000 |
CircGradBasedCorrExposure2012 (1) | 0.434750 |
CircGradBasedCorrExposure2012 (2) | 0.413000 |
CircGradBasedCorrExposure2012 (3) | 0.478250 |
CircGradBasedCorrExposure2012 (4) | 0.108750 |
CircGradBasedCorrExposure2012 | 0.282500 |
CircGradBasedCorrHighlights2012 | 0.000000 |
CircGradBasedCorrHue (1) | 0.000000 |
CircGradBasedCorrHue | 101.000000 |
CircGradBasedCorrLocalBlacks2012 | 0.000000 |
CircGradBasedCorrLocalDehaze | 0.000000 |
CircGradBasedCorrLocalTexture | 0.000000 |
CircGradBasedCorrLocalWhites2012 | 0.000000 |
CircGradBasedCorrLuminanceNoise | 0.000000 |
CircGradBasedCorrMaskAngle (1) | -42.762600 |
CircGradBasedCorrMaskAngle | -1.101070 |
CircGradBasedCorrMaskBottom (1) | 0.433348 |
CircGradBasedCorrMaskBottom (2) | 0.968047 |
CircGradBasedCorrMaskBottom (3) | 1.008080 |
CircGradBasedCorrMaskBottom (4) | 0.577478 |
CircGradBasedCorrMaskBottom | 1.078370 |
CircGradBasedCorrMaskFeather | +100 |
CircGradBasedCorrMaskFlipped | true |
CircGradBasedCorrMaskLeft (1) | -0.288019 |
CircGradBasedCorrMaskLeft (2) | 0.595551 |
CircGradBasedCorrMaskLeft (3) | 0.364827 |
CircGradBasedCorrMaskLeft (4) | 0.629952 |
CircGradBasedCorrMaskLeft | 0.740272 |
CircGradBasedCorrMaskMidpoint | +50 |
CircGradBasedCorrMaskRight (1) | 0.853899 |
CircGradBasedCorrMaskRight (2) | 0.963168 |
CircGradBasedCorrMaskRight (3) | 0.732444 |
CircGradBasedCorrMaskRight (4) | 0.997569 |
CircGradBasedCorrMaskRight | 1.107890 |
CircGradBasedCorrMaskRoundness | 0 |
CircGradBasedCorrMaskTop (1) | 0.791129 |
CircGradBasedCorrMaskTop (2) | 0.612027 |
CircGradBasedCorrMaskTop (3) | 0.652063 |
CircGradBasedCorrMaskTop (4) | 0.221458 |
CircGradBasedCorrMaskTop | 0.722348 |
CircGradBasedCorrMaskValue | 1.000000 |
CircGradBasedCorrMaskVersion | +2 |
CircGradBasedCorrMaskWhat | Mask/CircularGradient |
CircGradBasedCorrMoire | 0.000000 |
CircGradBasedCorrSaturation | 0.000000 |
CircGradBasedCorrShadows2012 | 0.000000 |
CircGradBasedCorrSharpness | 0.000000 |
CircGradBasedCorrTemperature (1) | 0.566778 |
CircGradBasedCorrTemperature | 0.000000 |
CircGradBasedCorrTint (1) | 0.272580 |
CircGradBasedCorrTint | 0.000000 |
CircGradBasedCorrWhat | Correction |
CircleOfConfusion | 0.020 mm |
Clarity2012 | 0 |
ColorComponents | 3 |
ColorNoiseReduction | 25 |
ColorNoiseReductionDetail | 50 |
ColorNoiseReductionSmoothness | 50 |
ColorSpace | sRGB |
ColorTemperature | 7142 |
ColorTransform | YCbCr |
Contrast2012 | +7 |
ConvertToGrayscale | False |
CreateDate | 2020:03:21 16:08:41 |
Creator | ARILD THINGVOLL |
CreatorTool | Adobe Photoshop Lightroom Classic 9.2 (Windows) |
CustomRendered | Normal |
DateCreated (1) | 2020:03:21 |
DateCreated | 2020:03:21 16:08:41 |
DateTimeOriginal | 2020:03:21 16:08:41 |
DefringeGreenAmount | 0 |
DefringeGreenHueHi | 60 |
DefringeGreenHueLo | 40 |
DefringePurpleAmount | 0 |
DefringePurpleHueHi | 70 |
DefringePurpleHueLo | 30 |
Dehaze | 0 |
DistortionCorrectionAlreadyApplied | True |
Exposure2012 | -0.71 |
ExposureCompensation | -2 |
ExposureMode | Manual |
ExposureProgram | Manual |
ExposureTime | 1/60 |
Flash | No Flash |
FNumber | 22.0 |
FocalLength | 18.4 mm |
FocalLength35efl | 18.4 mm (35 mm equivalent: 28.0 mm) |
FocalLengthIn35mmFormat | 28 mm |
Format | image/jpeg |
FOV | 65.5 deg |
GradientBasedCorrActive | true |
GradientBasedCorrAmount | 1.000000 |
GradientBasedCorrBrightness | 0.000000 |
GradientBasedCorrClarity2012 | 0.000000 |
GradientBasedCorrContrast2012 | 0.000000 |
GradientBasedCorrCorrectionRangeMaskColorAmount | 0.500000 |
GradientBasedCorrCorrectionRangeMaskDepthFeather | 0.500000 |
GradientBasedCorrCorrectionRangeMaskDepthMax | 1.000000 |
GradientBasedCorrCorrectionRangeMaskDepthMin | 0.000000 |
GradientBasedCorrCorrectionRangeMaskLumFeather | 0.500000 |
GradientBasedCorrCorrectionRangeMaskLumMax | 1.000000 |
GradientBasedCorrCorrectionRangeMaskLumMin | 0.000000 |
GradientBasedCorrCorrectionRangeMaskType | 0 |
GradientBasedCorrCorrectionRangeMaskVersion | +2 |
GradientBasedCorrDefringe | 0.000000 |
GradientBasedCorrExposure2012 | -0.098895 |
GradientBasedCorrHighlights2012 | 0.000000 |
GradientBasedCorrHue | 0.000000 |
GradientBasedCorrLocalBlacks2012 | 0.000000 |
GradientBasedCorrLocalDehaze | 0.000000 |
GradientBasedCorrLocalWhites2012 | 0.000000 |
GradientBasedCorrLuminanceNoise | 0.000000 |
GradientBasedCorrMaskFullX (1) | 0.555760 |
GradientBasedCorrMaskFullX | 0.527400 |
GradientBasedCorrMaskFullY (1) | 0.121293 |
GradientBasedCorrMaskFullY | 0.898150 |
GradientBasedCorrMaskValue | 1.000000 |
GradientBasedCorrMaskWhat | Mask/Gradient |
GradientBasedCorrMaskZeroX (1) | 0.557606 |
GradientBasedCorrMaskZeroX | 0.527897 |
GradientBasedCorrMaskZeroY (1) | 0.343349 |
GradientBasedCorrMaskZeroY | 0.651552 |
GradientBasedCorrMoire | 0.000000 |
GradientBasedCorrSaturation | 0.000000 |
GradientBasedCorrShadows2012 | 0.000000 |
GradientBasedCorrSharpness | 0.000000 |
GradientBasedCorrTemperature | 0.000000 |
GradientBasedCorrTint | 0.000000 |
GradientBasedCorrWhat | Correction |
GrainAmount | 0 |
GreenHue | 0 |
GreenSaturation | 0 |
HasCrop | False |
HasSettings | True |
Highlights2012 | -86 |
HueAdjustmentAqua | 0 |
HueAdjustmentBlue | 0 |
HueAdjustmentGreen | 0 |
HueAdjustmentMagenta | 0 |
HueAdjustmentOrange | -7 |
HueAdjustmentPurple | 0 |
HueAdjustmentRed | -19 |
HueAdjustmentYellow | 0 |
HyperfocalDistance | 0.78 m |
ImageHeight | 1000 |
ImageSize | 1500x1000 |
ImageWidth | 1500 |
ISO | 320 |
Keywords | 0320, landskap, skog |
LateralChromaticAberrationCorrectionAlreadyApplied | True |
Lens | XF16-80mmF4 R OIS WR |
LensInfo | 16-80mm f/4 |
LensMake | FUJIFILM |
LensManualDistortionAmount | 0 |
LensModel | XF16-80mmF4 R OIS WR |
LensProfileEnable | 1 |
LensProfileSetup | LensDefaults |
LensSerialNumber | 9CA02130 |
LightSource | Unknown |
LightValue | 13.1 |
LookName | |
LuminanceAdjustmentAqua | 0 |
LuminanceAdjustmentBlue | 0 |
LuminanceAdjustmentGreen | 0 |
LuminanceAdjustmentMagenta | 0 |
LuminanceAdjustmentOrange | 0 |
LuminanceAdjustmentPurple | 0 |
LuminanceAdjustmentRed | 0 |
LuminanceAdjustmentYellow | 0 |
LuminanceNoiseReductionContrast | 0 |
LuminanceNoiseReductionDetail | 50 |
LuminanceSmoothing | 14 |
Make | FUJIFILM |
MaxApertureValue | 4.0 |
Megapixels | 1.5 |
MeteringMode | Multi-segment |
Model | X-H1 |
ModifyDate (1) | 2020:03:22 14:43:47+01:00 |
ModifyDate | 2020:03:22 14:43:47 |
OverrideLookVignette | False |
PaintCorrectionActive | true |
PaintCorrectionAmount | 1.000000 |
PaintCorrectionBrightness | 0.000000 |
PaintCorrectionClarity2012 | 0.000000 |
PaintCorrectionContrast2012 | 0.000000 |
PaintCorrectionCorrectionRangeMaskColorAmount | 0.500000 |
PaintCorrectionCorrectionRangeMaskDepthFeather | 0.500000 |
PaintCorrectionCorrectionRangeMaskDepthMax | 1.000000 |
PaintCorrectionCorrectionRangeMaskDepthMin | 0.000000 |
PaintCorrectionCorrectionRangeMaskLumFeather | 0.500000 |
PaintCorrectionCorrectionRangeMaskLumMax | 1.000000 |
PaintCorrectionCorrectionRangeMaskLumMin | 0.000000 |
PaintCorrectionCorrectionRangeMaskType | 0 |
PaintCorrectionCorrectionRangeMaskVersion | +2 |
PaintCorrectionDefringe | 0.000000 |
PaintCorrectionExposure2012 (1) | 0.000000 |
PaintCorrectionExposure2012 | 0.087000 |
PaintCorrectionHighlights2012 | 0.000000 |
PaintCorrectionHue | 101.000000 |
PaintCorrectionLocalBlacks2012 (1) | -0.021740 |
PaintCorrectionLocalBlacks2012 | 0.000000 |
PaintCorrectionLocalDehaze | 0.000000 |
PaintCorrectionLocalTexture (1) | 0.282610 |
PaintCorrectionLocalTexture | 0.000000 |
PaintCorrectionLocalWhites2012 | 0.000000 |
PaintCorrectionLuminanceNoise | 0.000000 |
PaintCorrectionMaskCenterWeight (7) | 0.031325 |
PaintCorrectionMaskCenterWeight | 0.000000 |
PaintCorrectionMaskFlow | 0.674000 |
PaintCorrectionMaskRadius (1) | 0.082679 |
PaintCorrectionMaskRadius (7) | 0.062277 |
PaintCorrectionMaskRadius | 0.082209 |
PaintCorrectionMaskValue | 0.691000 |
PaintCorrectionMaskWhat | Mask/Paint |
PaintCorrectionMoire | 0.000000 |
PaintCorrectionSaturation | 0.000000 |
PaintCorrectionShadows2012 (1) | 0.304350 |
PaintCorrectionShadows2012 | 0.456520 |
PaintCorrectionSharpness | 0.000000 |
PaintCorrectionTemperature | 0.000000 |
PaintCorrectionTint | 0.000000 |
PaintCorrectionWhat | Correction |
ParametricDarks | -15 |
ParametricHighlights | 0 |
ParametricHighlightSplit | 75 |
ParametricLights | +42 |
ParametricMidtoneSplit | 50 |
ParametricShadows | 0 |
ParametricShadowSplit | 25 |
PerspectiveAspect | 0 |
PerspectiveHorizontal | 0 |
PerspectiveRotate | 0.0 |
PerspectiveScale | 100 |
PerspectiveUpright | 0 |
PerspectiveVertical | 0 |
PerspectiveX | 0.00 |
PerspectiveY | 0.00 |
PostCropVignetteAmount | 0 |
PreservedFileName | XH101128.RAF |
ProcessVersion | 11.0 |
ProfileDescription | sRGB IEC61966-2.1 |
RawFileName | A. Thingvoll_2020_00029-20.RAF |
RedHue | 0 |
RedSaturation | 0 |
Saturation | +10 |
SaturationAdjustmentAqua | 0 |
SaturationAdjustmentBlue | 0 |
SaturationAdjustmentGreen | 0 |
SaturationAdjustmentMagenta | 0 |
SaturationAdjustmentOrange | +26 |
SaturationAdjustmentPurple | 0 |
SaturationAdjustmentRed | +32 |
SaturationAdjustmentYellow | +26 |
ScaleFactor35efl | 1.5 |
SceneCaptureType | Standard |
SceneType | Directly photographed |
SensingMethod | One-chip color area |
SensitivityType | Standard Output Sensitivity |
SerialNumber | 81A55422 |
Shadows2012 | +100 |
ShadowTint | 0 |
SharpenDetail | 25 |
SharpenEdgeMasking | 51 |
SharpenRadius | +1.0 |
Sharpness (1) | 90 |
Sharpness | Hard |
ShutterSpeed | 1/60 |
ShutterSpeedValue | 1/60 |
Software | Adobe Photoshop Lightroom Classic 9.2 (Windows) |
SplitToningBalance | 0 |
SplitToningHighlightHue | 0 |
SplitToningHighlightSaturation | 0 |
SplitToningShadowHue | 0 |
SplitToningShadowSaturation | 0 |
Subject | 0320, landskap, skog |
SubjectDistanceRange | Unknown |
Texture | +26 |
Tint | +28 |
ToneCurve | 0, 0, 255, 255 |
ToneCurveBlue | 0, 0, 255, 255 |
ToneCurveGreen | 0, 0, 255, 255 |
ToneCurveName | Linear |
ToneCurveName2012 | Linear |
ToneCurvePV2012 | 0, 0, 255, 255 |
ToneCurvePV2012Blue | 0, 0, 255, 255 |
ToneCurvePV2012Green | 0, 0, 255, 255 |
ToneCurvePV2012Red | 0, 0, 255, 255 |
ToneCurveRed | 0, 0, 255, 255 |
ToneMapStrength | 0 |
Version | 12.2 |
Vibrance | +17 |
VignetteAmount | 0 |
VignetteCorrectionAlreadyApplied | True |
WhiteBalance (1) | Custom |
WhiteBalance | Auto |
Whites2012 | +35 |