Felt | Verdi |
AlreadyApplied | True |
Aperture | 4.0 |
ApertureValue | 4.0 |
ApproximateFocusDistance | 6.6 |
Artist | OYVIND HALLGREN |
AutoLateralCA | 1 |
BitsPerSample | 8 |
Blacks2012 | -25 |
BlueHue | 0 |
BlueSaturation | 0 |
By-line | OYVIND HALLGREN |
CameraProfile | Adobe Standard |
CircleOfConfusion | 0.036 mm |
Clarity2012 | 0 |
ColorComponents | 3 |
ColorNoiseReduction | 25 |
ColorNoiseReductionDetail | 50 |
ColorNoiseReductionSmoothness | 50 |
ColorSpace | sRGB |
ColorTemperature | 5800 |
ColorTransform | YCbCr |
Contrast2012 | +43 |
ConvertToGrayscale | False |
CreateDate (1) | 2019:11:01 15:38:05.941 |
CreateDate | 2019:11:01 15:38:05 |
Creator | OYVIND HALLGREN |
CreatorTool | Adobe Photoshop Lightroom Classic 8.3.1 (Macintosh) |
CropAngle | 0.24565 |
CropBottom | 0.893538 |
CropConstrainToWarp | 0 |
CropLeft | 0.065098 |
CropRight | 0.919784 |
CropTop | 0.030889 |
CustomRendered | Normal |
DateCreated (1) | 2019:11:01 |
DateCreated | 2019:11:01 15:38:03.00 |
DateTimeOriginal | 2019:11:01 15:38:05 |
DefringeGreenAmount | 0 |
DefringeGreenHueHi | 60 |
DefringeGreenHueLo | 40 |
DefringePurpleAmount | 0 |
DefringePurpleHueHi | 70 |
DefringePurpleHueLo | 30 |
Dehaze | 0 |
DistortionCorrectionAlreadyApplied | True |
DOF | 5.76 m (4.80 - 10.56 m) |
Exposure2012 | +0.30 |
ExposureCompensation | -1 |
ExposureMode | Auto |
ExposureProgram | Aperture-priority AE |
ExposureTime | 1/1600 |
Firmware | 1.0.3 |
Flash | Off, Did not fire |
FlashCompensation | 0 |
FNumber | 4.0 |
FocalLength | 50.0 mm |
FocalLength35efl | 50.0 mm (35 mm equivalent: 42.0 mm) |
Format | image/jpeg |
FOV | 46.4 deg |
GradientBasedCorrActive | true |
GradientBasedCorrAmount | 1.000000 |
GradientBasedCorrBrightness | 0.000000 |
GradientBasedCorrClarity2012 (1) | 0.798783 |
GradientBasedCorrClarity2012 | 0.000000 |
GradientBasedCorrContrast2012 (1) | 0.740552 |
GradientBasedCorrContrast2012 | 0.000000 |
GradientBasedCorrCorrectionRangeMaskColorAmount | 0.500000 |
GradientBasedCorrCorrectionRangeMaskDepthFeather | 0.500000 |
GradientBasedCorrCorrectionRangeMaskDepthMax | 1.000000 |
GradientBasedCorrCorrectionRangeMaskDepthMin | 0.000000 |
GradientBasedCorrCorrectionRangeMaskLumFeather | 0.500000 |
GradientBasedCorrCorrectionRangeMaskLumMax | 1.000000 |
GradientBasedCorrCorrectionRangeMaskLumMin | 0.000000 |
GradientBasedCorrCorrectionRangeMaskType | 0 |
GradientBasedCorrCorrectionRangeMaskVersion | +2 |
GradientBasedCorrDefringe | 0.000000 |
GradientBasedCorrExposure2012 (1) | -0.089662 |
GradientBasedCorrExposure2012 | 0.131813 |
GradientBasedCorrHighlights2012 (1) | -0.853652 |
GradientBasedCorrHighlights2012 | 0.000000 |
GradientBasedCorrHue | 240.000000 |
GradientBasedCorrLocalBlacks2012 (1) | 0.000000 |
GradientBasedCorrLocalBlacks2012 | -0.223292 |
GradientBasedCorrLocalDehaze | 0.000000 |
GradientBasedCorrLocalTexture | 0.000000 |
GradientBasedCorrLocalWhites2012 (1) | 0.000000 |
GradientBasedCorrLocalWhites2012 | -0.399437 |
GradientBasedCorrLuminanceNoise | 0.000000 |
GradientBasedCorrMaskFullX (1) | 0.505544 |
GradientBasedCorrMaskFullX | 0.446663 |
GradientBasedCorrMaskFullY (1) | 0.302743 |
GradientBasedCorrMaskFullY | 0.152206 |
GradientBasedCorrMaskValue | 1.000000 |
GradientBasedCorrMaskWhat | Mask/Gradient |
GradientBasedCorrMaskZeroX (1) | 0.505464 |
GradientBasedCorrMaskZeroX | 0.447390 |
GradientBasedCorrMaskZeroY (1) | 0.364729 |
GradientBasedCorrMaskZeroY | 0.203621 |
GradientBasedCorrMoire | 0.000000 |
GradientBasedCorrSaturation (1) | 0.160065 |
GradientBasedCorrSaturation | 0.000000 |
GradientBasedCorrShadows2012 (1) | -0.480105 |
GradientBasedCorrShadows2012 | 0.000000 |
GradientBasedCorrSharpness | 0.000000 |
GradientBasedCorrTemperature | 0.000000 |
GradientBasedCorrTint | 0.000000 |
GradientBasedCorrWhat | Correction |
GrainAmount | 0 |
GreenHue | 0 |
GreenSaturation | 0 |
HasCrop | True |
HasExtendedXMP | 7E64CAF0DCE9213A509261B97F00258F |
HasSettings | True |
Highlights2012 | -79 |
HueAdjustmentAqua | 0 |
HueAdjustmentBlue | 0 |
HueAdjustmentGreen | 0 |
HueAdjustmentMagenta | 0 |
HueAdjustmentOrange | 0 |
HueAdjustmentPurple | 0 |
HueAdjustmentRed | 0 |
HueAdjustmentYellow | 0 |
HyperfocalDistance | 17.47 m |
ImageHeight | 5333 |
ImageNumber | 0 |
ImageSize | 8000x5333 |
ImageWidth | 8000 |
IsMergedHDR | True |
ISO | 160 |
LateralChromaticAberrationCorrectionAlreadyApplied | True |
Lens | EF50mm f/1.2L USM |
LensID (1) | 241 |
LensID | Canon EF 50mm f/1.2L USM |
LensInfo | 50mm f/? |
LensManualDistortionAmount | 0 |
LensModel | EF50mm f/1.2L USM |
LensProfileChromaticAberrationScale | 100 |
LensProfileDistortionScale | 100 |
LensProfileEnable | 1 |
LensProfileFilename | Canon EOS 5D Mark II (Canon EF 50mm f1.2L USM) - RAW.lcp |
LensProfileName | Adobe (Canon EF 50mm f/1.2L USM) |
LensProfileSetup | LensDefaults |
LensProfileVignettingScale | 100 |
LensSerialNumber | 0000400c2f |
LightValue | 14.0 |
LookAmount | 1.000000 |
LookGroup | Profiles |
LookName | Adobe Color |
LookParametersCameraProfile | Adobe Standard |
LookParametersConvertToGrayscale | False |
LookParametersLookTable | E1095149FDB39D7A057BAB208837E2E1 |
LookParametersProcessVersion | 11.0 |
LookParametersToneCurvePV2012 | 0, 0, 22, 16, 40, 35, 127, 127, 224, 230, 240, 246, 255, 255 |
LookParametersToneCurvePV2012Blue | 0, 0, 255, 255 |
LookParametersToneCurvePV2012Green | 0, 0, 255, 255 |
LookParametersToneCurvePV2012Red | 0, 0, 255, 255 |
LookParametersVersion | 11.3 |
LookSupportsAmount | false |
LookSupportsMonochrome | false |
LookSupportsOutputReferred | false |
LuminanceAdjustmentAqua | 0 |
LuminanceAdjustmentBlue | -62 |
LuminanceAdjustmentGreen | 0 |
LuminanceAdjustmentMagenta | 0 |
LuminanceAdjustmentOrange | 0 |
LuminanceAdjustmentPurple | -10 |
LuminanceAdjustmentRed | 0 |
LuminanceAdjustmentYellow | 0 |
LuminanceSmoothing | 0 |
Make | Canon |
MaxApertureValue | 1.2 |
Megapixels | 42.7 |
MeteringMode | Spot |
Model | Canon EOS 5D Mark IV |
ModifyDate (1) | 2019:11:02 18:15:37+01:00 |
ModifyDate | 2019:11:02 18:15:37 |
OverrideLookVignette | False |
PaintCorrectionActive | true |
PaintCorrectionAmount | 1.000000 |
PaintCorrectionBrightness | 0.000000 |
PaintCorrectionClarity2012 | 0.000000 |
PaintCorrectionContrast2012 | 0.000000 |
PaintCorrectionCorrectionRangeMaskColorAmount | 0.500000 |
PaintCorrectionCorrectionRangeMaskDepthFeather | 0.500000 |
PaintCorrectionCorrectionRangeMaskDepthMax | 1.000000 |
PaintCorrectionCorrectionRangeMaskDepthMin | 0.000000 |
PaintCorrectionCorrectionRangeMaskLumFeather | 0.500000 |
PaintCorrectionCorrectionRangeMaskLumMax | 1.000000 |
PaintCorrectionCorrectionRangeMaskLumMin | 0.000000 |
PaintCorrectionCorrectionRangeMaskType | 0 |
PaintCorrectionCorrectionRangeMaskVersion | +2 |
PaintCorrectionDefringe | 0.000000 |
PaintCorrectionExposure2012 (1) | 0.426690 |
PaintCorrectionExposure2012 (2) | -0.075000 |
PaintCorrectionExposure2012 | -0.050000 |
PaintCorrectionHighlights2012 (2) | 0.000000 |
PaintCorrectionHighlights2012 | 0.188499 |
PaintCorrectionHue | 240.000000 |
PaintCorrectionLocalBlacks2012 | 0.000000 |
PaintCorrectionLocalDehaze | 0.000000 |
PaintCorrectionLocalTexture | 0.000000 |
PaintCorrectionLocalWhites2012 (2) | 0.198492 |
PaintCorrectionLocalWhites2012 | 0.000000 |
PaintCorrectionLuminanceNoise | 0.000000 |
PaintCorrectionMaskCenterWeight (6) | 0.000000 |
PaintCorrectionMaskCenterWeight | 0.072408 |
PaintCorrectionMaskFlow (1) | 0.548433 |
PaintCorrectionMaskFlow (10) | 0.495005 |
PaintCorrectionMaskFlow (11) | 0.492652 |
PaintCorrectionMaskFlow (12) | 0.593439 |
PaintCorrectionMaskFlow (13) | 0.363901 |
PaintCorrectionMaskFlow (14) | 0.582259 |
PaintCorrectionMaskFlow (15) | 0.437565 |
PaintCorrectionMaskFlow (16) | 0.443988 |
PaintCorrectionMaskFlow (17) | 0.595677 |
PaintCorrectionMaskFlow (18) | 0.607670 |
PaintCorrectionMaskFlow (19) | 0.684046 |
PaintCorrectionMaskFlow (2) | 0.570290 |
PaintCorrectionMaskFlow (20) | 0.634044 |
PaintCorrectionMaskFlow (21) | 0.575431 |
PaintCorrectionMaskFlow (22) | 0.656845 |
PaintCorrectionMaskFlow (23) | 0.606334 |
PaintCorrectionMaskFlow (24) | 0.662709 |
PaintCorrectionMaskFlow (26) | 0.649253 |
PaintCorrectionMaskFlow (27) | 0.656184 |
PaintCorrectionMaskFlow (28) | 0.646044 |
PaintCorrectionMaskFlow (29) | 0.238601 |
PaintCorrectionMaskFlow (3) | 0.625718 |
PaintCorrectionMaskFlow (31) | 0.704642 |
PaintCorrectionMaskFlow (4) | 0.796397 |
PaintCorrectionMaskFlow (5) | 0.751393 |
PaintCorrectionMaskFlow (6) | 0.750208 |
PaintCorrectionMaskFlow (7) | 0.775452 |
PaintCorrectionMaskFlow (8) | 0.833356 |
PaintCorrectionMaskFlow (9) | 0.607448 |
PaintCorrectionMaskFlow | 0.682078 |
PaintCorrectionMaskRadius (1) | 0.049149 |
PaintCorrectionMaskRadius (10) | 0.017495 |
PaintCorrectionMaskRadius (11) | 0.015615 |
PaintCorrectionMaskRadius (12) | 0.015611 |
PaintCorrectionMaskRadius (13) | 0.015624 |
PaintCorrectionMaskRadius (14) | 0.015548 |
PaintCorrectionMaskRadius (15) | 0.015586 |
PaintCorrectionMaskRadius (16) | 0.015559 |
PaintCorrectionMaskRadius (17) | 0.006976 |
PaintCorrectionMaskRadius (18) | 0.018090 |
PaintCorrectionMaskRadius (19) | 0.059582 |
PaintCorrectionMaskRadius (2) | 0.017474 |
PaintCorrectionMaskRadius (20) | 0.059811 |
PaintCorrectionMaskRadius (21) | 0.060824 |
PaintCorrectionMaskRadius (22) | 0.060821 |
PaintCorrectionMaskRadius (23) | 0.059589 |
PaintCorrectionMaskRadius (24) | 0.060942 |
PaintCorrectionMaskRadius (25) | 0.059586 |
PaintCorrectionMaskRadius (26) | 0.059614 |
PaintCorrectionMaskRadius (27) | 0.060805 |
PaintCorrectionMaskRadius (28) | 0.060523 |
PaintCorrectionMaskRadius (29) | 0.060294 |
PaintCorrectionMaskRadius (3) | 0.017417 |
PaintCorrectionMaskRadius (30) | 0.036129 |
PaintCorrectionMaskRadius (31) | 0.036250 |
PaintCorrectionMaskRadius (4) | 0.010511 |
PaintCorrectionMaskRadius (5) | 0.010513 |
PaintCorrectionMaskRadius (6) | 0.010506 |
PaintCorrectionMaskRadius (8) | 0.010515 |
PaintCorrectionMaskRadius | 0.035750 |
PaintCorrectionMaskValue (5) | 0.000000 |
PaintCorrectionMaskValue | 0.716353 |
PaintCorrectionMaskWhat | Mask/Paint |
PaintCorrectionMoire | 0.000000 |
PaintCorrectionSaturation | 0.000000 |
PaintCorrectionShadows2012 | 0.000000 |
PaintCorrectionSharpness | 0.000000 |
PaintCorrectionTemperature | 0.000000 |
PaintCorrectionTint | 0.000000 |
PaintCorrectionWhat | Correction |
ParametricDarks | 0 |
ParametricHighlights | 0 |
ParametricHighlightSplit | 75 |
ParametricLights | 0 |
ParametricMidtoneSplit | 50 |
ParametricShadows | 0 |
ParametricShadowSplit | 25 |
PerspectiveAspect | 0 |
PerspectiveHorizontal | 0 |
PerspectiveRotate | 0.0 |
PerspectiveScale | 100 |
PerspectiveUpright | 0 |
PerspectiveVertical | 0 |
PerspectiveX | 0.00 |
PerspectiveY | 0.00 |
PostCropVignetteAmount | 0 |
PreservedFileName | 2F0A2440.CR2 |
ProcessVersion | 11.0 |
ProfileDescription | sRGB IEC61966-2.1 |
RawFileName | |
RecommendedExposureIndex | 160 |
RedHue | 0 |
RedSaturation | 0 |
Saturation | +3 |
SaturationAdjustmentAqua | 0 |
SaturationAdjustmentBlue | +15 |
SaturationAdjustmentGreen | 0 |
SaturationAdjustmentMagenta | 0 |
SaturationAdjustmentOrange | 0 |
SaturationAdjustmentPurple | +1 |
SaturationAdjustmentRed | 0 |
SaturationAdjustmentYellow | 0 |
ScaleFactor35efl | 0.8 |
SceneCaptureType | Standard |
SensitivityType | Recommended Exposure Index |
SerialNumber | 053023000870 |
Shadows2012 | +68 |
ShadowTint | 0 |
SharpenDetail | 25 |
SharpenEdgeMasking | 0 |
SharpenRadius | +1.0 |
Sharpness | 40 |
ShutterSpeed | 1/1600 |
ShutterSpeedValue | 1/1600 |
Software | Adobe Photoshop Lightroom Classic 8.3.1 (Macintosh) |
SplitToningBalance | 0 |
SplitToningHighlightHue | 0 |
SplitToningHighlightSaturation | 0 |
SplitToningShadowHue | 0 |
SplitToningShadowSaturation | 0 |
Texture | 0 |
Tint | +10 |
ToneCurve | 0, 0, 255, 255 |
ToneCurveBlue | 0, 0, 255, 255 |
ToneCurveGreen | 0, 0, 255, 255 |
ToneCurveName | Linear |
ToneCurveName2012 | Linear |
ToneCurvePV2012 | 0, 0, 255, 255 |
ToneCurvePV2012Blue | 0, 0, 255, 255 |
ToneCurvePV2012Green | 0, 0, 255, 255 |
ToneCurvePV2012Red | 0, 0, 255, 255 |
ToneCurveRed | 0, 0, 255, 255 |
ToneMapStrength | 0 |
Version | 11.3 |
Vibrance | +15 |
VignetteAmount | 0 |
VignetteCorrectionAlreadyApplied | True |
WhiteBalance (1) | As Shot |
WhiteBalance | Auto |
Whites2012 | +9 |