Felt | Verdi |
AlreadyApplied | True |
Aperture | 16.0 |
ApertureValue | 16.0 |
ApproximateFocusDistance | 4294967295 |
AutoLateralCA | 0 |
BitsPerSample | 8 |
Blacks2012 | -21 |
BlueHue | 0 |
BlueSaturation | 0 |
CameraProfile | Adobe Standard |
CircleOfConfusion | 0.019 mm |
Clarity2012 | +29 |
ColorComponents | 3 |
ColorNoiseReduction | 25 |
ColorNoiseReductionDetail | 50 |
ColorNoiseReductionSmoothness | 50 |
ColorSpace | sRGB |
ColorTemperature | 5850 |
ColorTransform | YCbCr |
Contrast2012 | -28 |
ConvertToGrayscale | False |
CreateDate (1) | 2019:09:07 13:58:12.00 |
CreateDate | 2019:09:07 13:58:12 |
CreatorTool | Adobe Photoshop Lightroom Classic 8.0 (Windows) |
CropAngle | 0 |
CropBottom | 0.950125 |
CropConstrainToWarp | 0 |
CropLeft | 0 |
CropRight | 1 |
CropTop | 0.109726 |
CustomRendered | Normal |
DateCreated (1) | 2019:09:07 |
DateCreated | 2019:09:07 13:58:12.00 |
DateTimeOriginal | 2019:09:07 13:58:12 |
DefringeGreenAmount | 0 |
DefringeGreenHueHi | 60 |
DefringeGreenHueLo | 40 |
DefringePurpleAmount | 0 |
DefringePurpleHueHi | 70 |
DefringePurpleHueLo | 30 |
Dehaze | +17 |
DistortionCorrectionAlreadyApplied | True |
DOF | inf (1.88 m - inf) |
Exposure2012 | -0.04 |
ExposureCompensation | 0 |
ExposureMode | Manual |
ExposureProgram | Manual |
ExposureTime | 1/50 |
Firmware | 1.0.2 |
Flash | Off, Did not fire |
FlashCompensation | 0 |
FNumber | 16.0 |
FocalLength | 24.0 mm |
FocalLength35efl | 24.0 mm (35 mm equivalent: 37.7 mm) |
Format | image/jpeg |
FOV | 51.0 deg |
GrainAmount | 0 |
GreenHue | 0 |
GreenSaturation | 0 |
HasCrop | True |
HasSettings | True |
Highlights2012 | -79 |
HueAdjustmentAqua | 0 |
HueAdjustmentBlue | +2 |
HueAdjustmentGreen | 0 |
HueAdjustmentMagenta | 0 |
HueAdjustmentOrange | -2 |
HueAdjustmentPurple | 0 |
HueAdjustmentRed | 0 |
HueAdjustmentYellow | -4 |
HyperfocalDistance | 1.88 m |
ImageHeight | 2904 |
ImageNumber | 0 |
ImageSize | 5183x2904 |
ImageWidth | 5183 |
ISO | 100 |
Lens | EF-S18-135mm f/3.5-5.6 IS STM |
LensID (1) | 4142 |
LensID | Canon EF-S 18-135mm f/3.5-5.6 IS STM |
LensInfo | 18-135mm f/? |
LensManualDistortionAmount | 0 |
LensModel | EF-S18-135mm f/3.5-5.6 IS STM |
LensProfileChromaticAberrationScale | 100 |
LensProfileDistortionScale | 100 |
LensProfileEnable | 1 |
LensProfileFilename | Canon EOS 7D (Canon EF-S 18-135 mm f3.5-5.6 IS STM) - RAW.lcp |
LensProfileName | Adobe (Canon EF-S 18-135mm f/3.5-5.6 IS STM) |
LensProfileSetup | LensDefaults |
LensProfileVignettingScale | 100 |
LensSerialNumber | 0000006bd1 |
LightValue | 13.6 |
LookAmount | 1.000000 |
LookGroup | Profiles |
LookName | Adobe Color |
LookParametersCameraProfile | Adobe Standard |
LookParametersConvertToGrayscale | False |
LookParametersLookTable | E1095149FDB39D7A057BAB208837E2E1 |
LookParametersProcessVersion | 11.0 |
LookParametersToneCurvePV2012 | 0, 0, 22, 16, 40, 35, 127, 127, 224, 230, 240, 246, 255, 255 |
LookParametersToneCurvePV2012Blue | 0, 0, 255, 255 |
LookParametersToneCurvePV2012Green | 0, 0, 255, 255 |
LookParametersToneCurvePV2012Red | 0, 0, 255, 255 |
LookParametersVersion | 11.0 |
LookSupportsAmount | false |
LookSupportsMonochrome | false |
LookSupportsOutputReferred | false |
LuminanceAdjustmentAqua | 0 |
LuminanceAdjustmentBlue | -11 |
LuminanceAdjustmentGreen | +2 |
LuminanceAdjustmentMagenta | 0 |
LuminanceAdjustmentOrange | +2 |
LuminanceAdjustmentPurple | -7 |
LuminanceAdjustmentRed | 0 |
LuminanceAdjustmentYellow | -2 |
LuminanceSmoothing | 0 |
Make | Canon |
MaxApertureValue | 3.8 |
Megapixels | 15.1 |
MeteringMode | Multi-segment |
Model | Canon EOS 600D |
ModifyDate (1) | 2019:09:11 11:05:23+02:00 |
ModifyDate | 2019:09:11 11:05:23 |
OverrideLookVignette | False |
ParametricDarks | 0 |
ParametricHighlights | -5 |
ParametricHighlightSplit | 75 |
ParametricLights | -32 |
ParametricMidtoneSplit | 50 |
ParametricShadows | -5 |
ParametricShadowSplit | 25 |
PerspectiveAspect | 0 |
PerspectiveHorizontal | 0 |
PerspectiveRotate | 0.0 |
PerspectiveScale | 100 |
PerspectiveUpright | 0 |
PerspectiveVertical | 0 |
PerspectiveX | 0.00 |
PerspectiveY | 0.00 |
PostCropVignetteAmount | 0 |
ProcessVersion | 11.0 |
ProfileDescription | sRGB IEC61966-2.1 |
Rating | 5 |
RawFileName | IMG_8024.CR2 |
RecommendedExposureIndex | 100 |
RedHue | 0 |
RedSaturation | 0 |
Saturation | 0 |
SaturationAdjustmentAqua | 0 |
SaturationAdjustmentBlue | +4 |
SaturationAdjustmentGreen | 0 |
SaturationAdjustmentMagenta | 0 |
SaturationAdjustmentOrange | +4 |
SaturationAdjustmentPurple | +4 |
SaturationAdjustmentRed | 0 |
SaturationAdjustmentYellow | +2 |
ScaleFactor35efl | 1.6 |
SceneCaptureType | Standard |
SensitivityType | Recommended Exposure Index |
SerialNumber | 253076236754 |
Shadows2012 | +44 |
ShadowTint | 0 |
SharpenDetail | 25 |
SharpenEdgeMasking | 0 |
SharpenRadius | +1.0 |
Sharpness | 40 |
ShutterSpeed | 1/50 |
ShutterSpeedValue | 1/50 |
Software | Adobe Photoshop Lightroom Classic 8.0 (Windows) |
SplitToningBalance | 0 |
SplitToningHighlightHue | 0 |
SplitToningHighlightSaturation | 0 |
SplitToningShadowHue | 0 |
SplitToningShadowSaturation | 0 |
Tint | +14 |
ToneCurve | 0, 0, 255, 255 |
ToneCurveBlue | 0, 0, 255, 255 |
ToneCurveGreen | 0, 0, 255, 255 |
ToneCurveName | Linear |
ToneCurveName2012 | Linear |
ToneCurvePV2012 | 0, 0, 255, 255 |
ToneCurvePV2012Blue | 0, 0, 255, 255 |
ToneCurvePV2012Green | 0, 0, 255, 255 |
ToneCurvePV2012Red | 0, 0, 255, 255 |
ToneCurveRed | 0, 0, 255, 255 |
ToneMapStrength | 0 |
Version | 11.0 |
Vibrance | +13 |
VignetteAmount | 0 |
VignetteCorrectionAlreadyApplied | True |
WhiteBalance (1) | As Shot |
WhiteBalance | Auto |
Whites2012 | +10 |