Felt | Verdi |
AlreadyApplied | True |
Aperture | 11.0 |
ApertureValue | 11.0 |
ApproximateFocusDistance | 1.63 |
AutoLateralCA | 0 |
BitsPerSample | 8 |
Blacks2012 | +49 |
BlueHue | 0 |
BlueSaturation | 0 |
CameraProfile | Embedded |
CircGradBasedCorrActive | true |
CircGradBasedCorrAmount | 1.000000 |
CircGradBasedCorrBrightness | 0.000000 |
CircGradBasedCorrClarity2012 | 0.000000 |
CircGradBasedCorrContrast2012 | 0.000000 |
CircGradBasedCorrCorrectionRangeMaskColorAmount | 0.500000 |
CircGradBasedCorrCorrectionRangeMaskDepthFeather | 0.500000 |
CircGradBasedCorrCorrectionRangeMaskDepthMax | 1.000000 |
CircGradBasedCorrCorrectionRangeMaskDepthMin | 0.000000 |
CircGradBasedCorrCorrectionRangeMaskLumFeather | 0.500000 |
CircGradBasedCorrCorrectionRangeMaskLumMax | 1.000000 |
CircGradBasedCorrCorrectionRangeMaskLumMin | 0.000000 |
CircGradBasedCorrCorrectionRangeMaskType | 0 |
CircGradBasedCorrCorrectionRangeMaskVersion | +2 |
CircGradBasedCorrDefringe | 0.000000 |
CircGradBasedCorrExposure2012 (3) | 0.000000 |
CircGradBasedCorrExposure2012 | 0.007750 |
CircGradBasedCorrHighlights2012 | 0.000000 |
CircGradBasedCorrHue | 0.000000 |
CircGradBasedCorrLocalBlacks2012 (2) | 0.000000 |
CircGradBasedCorrLocalBlacks2012 (5) | -0.147290 |
CircGradBasedCorrLocalBlacks2012 (6) | -0.116280 |
CircGradBasedCorrLocalBlacks2012 | 0.023260 |
CircGradBasedCorrLocalDehaze (4) | 0.025970 |
CircGradBasedCorrLocalDehaze | 0.000000 |
CircGradBasedCorrLocalTexture | 0.000000 |
CircGradBasedCorrLocalWhites2012 | 0.000000 |
CircGradBasedCorrLuminanceNoise | 0.000000 |
CircGradBasedCorrMaskAngle (1) | 0.000000 |
CircGradBasedCorrMaskAngle (2) | 14.081800 |
CircGradBasedCorrMaskAngle (6) | 4.075500 |
CircGradBasedCorrMaskAngle | -16.399900 |
CircGradBasedCorrMaskBottom (1) | 0.957944 |
CircGradBasedCorrMaskBottom (2) | 0.445116 |
CircGradBasedCorrMaskBottom (3) | 1.016730 |
CircGradBasedCorrMaskBottom (4) | 0.505148 |
CircGradBasedCorrMaskBottom (5) | 0.967182 |
CircGradBasedCorrMaskBottom (6) | 0.807350 |
CircGradBasedCorrMaskBottom | 0.917206 |
CircGradBasedCorrMaskFeather | +50 |
CircGradBasedCorrMaskFlipped | true |
CircGradBasedCorrMaskLeft (1) | 0.376559 |
CircGradBasedCorrMaskLeft (2) | -0.130632 |
CircGradBasedCorrMaskLeft (3) | 0.904688 |
CircGradBasedCorrMaskLeft (4) | 0.788769 |
CircGradBasedCorrMaskLeft (5) | 0.365275 |
CircGradBasedCorrMaskLeft (6) | 0.266066 |
CircGradBasedCorrMaskLeft | 0.347228 |
CircGradBasedCorrMaskMidpoint | +50 |
CircGradBasedCorrMaskRight (1) | 0.468828 |
CircGradBasedCorrMaskRight (2) | 0.311981 |
CircGradBasedCorrMaskRight (3) | 1.066460 |
CircGradBasedCorrMaskRight (4) | 1.183410 |
CircGradBasedCorrMaskRight (5) | 0.460072 |
CircGradBasedCorrMaskRight (6) | 0.407813 |
CircGradBasedCorrMaskRight | 0.458542 |
CircGradBasedCorrMaskRoundness | 0 |
CircGradBasedCorrMaskTop (1) | 0.864486 |
CircGradBasedCorrMaskTop (2) | 0.094138 |
CircGradBasedCorrMaskTop (3) | 0.827542 |
CircGradBasedCorrMaskTop (4) | 0.174389 |
CircGradBasedCorrMaskTop (5) | 0.805020 |
CircGradBasedCorrMaskTop (6) | 0.376691 |
CircGradBasedCorrMaskTop | 0.795794 |
CircGradBasedCorrMaskValue | 1.000000 |
CircGradBasedCorrMaskVersion | +2 |
CircGradBasedCorrMaskWhat | Mask/CircularGradient |
CircGradBasedCorrMoire | 0.000000 |
CircGradBasedCorrSaturation (5) | 0.356320 |
CircGradBasedCorrSaturation | 0.000000 |
CircGradBasedCorrShadows2012 (4) | 0.000000 |
CircGradBasedCorrShadows2012 | -0.426360 |
CircGradBasedCorrSharpness | 0.000000 |
CircGradBasedCorrTemperature | 0.000000 |
CircGradBasedCorrTint | 0.000000 |
CircGradBasedCorrWhat | Correction |
CircleOfConfusion | 0.009 mm |
Clarity2012 | +9 |
ColorComponents | 3 |
ColorNoiseReduction | 0 |
ColorSpace | Uncalibrated |
ColorTransform | YCbCr |
Contrast2012 | +1 |
ConvertToGrayscale | True |
CreateDate (1) | 2017:12:26 12:52:21.22 |
CreateDate | 2017:12:26 12:52:21 |
CreatorTool | Adobe Photoshop Lightroom Classic 8.4 (Windows) |
DateCreated (1) | 2017:12:26 |
DateCreated | 2017:12:26 12:52:21.22 |
DateTimeOriginal | 2017:12:26 12:52:21 |
Dehaze | 0 |
DOF | 0.42 m (1.45 - 1.86 m) |
Exposure2012 | -0.19 |
ExposureCompensation | 0 |
ExposureMode | Manual |
ExposureProgram | Manual |
ExposureTime | 1/80 |
Firmware | 1.1.6 |
Flash | Off, Did not fire |
FlashCompensation | 0 |
FNumber | 11.0 |
FocalLength | 35.0 mm |
FocalLength35efl | 35.0 mm (35 mm equivalent: 119.9 mm) |
Format | image/jpeg |
FOV | 17.1 deg |
GrainAmount | 0 |
GrayMixerAqua | +80 |
GrayMixerBlue | 0 |
GrayMixerGreen | 0 |
GrayMixerMagenta | 0 |
GrayMixerOrange | 0 |
GrayMixerPurple | 0 |
GrayMixerRed | 0 |
GrayMixerYellow | 0 |
GreenHue | 0 |
GreenSaturation | 0 |
HasCrop | False |
HasSettings | True |
Highlights2012 | +63 |
HyperfocalDistance | 12.69 m |
ImageHeight | 1200 |
ImageNumber | 0 |
ImageSize | 1499x1200 |
ImageWidth | 1499 |
IncrementalTemperature | 0 |
IncrementalTint | 0 |
ISO | 400 |
Lens | EF16-35mm f/2.8L II USM |
LensID (1) | 246 |
LensID | Canon EF 16-35mm f/2.8L II USM |
LensInfo | 16-35mm f/? |
LensManualDistortionAmount | 0 |
LensModel | EF16-35mm f/2.8L II USM |
LensProfileEnable | 0 |
LensProfileSetup | LensDefaults |
LensSerialNumber | 0000829d47 |
LightValue | 11.2 |
LookName | |
LuminanceNoiseReductionContrast | 0 |
LuminanceNoiseReductionDetail | 50 |
LuminanceSmoothing | 57 |
Make | Canon |
MaxApertureValue | 2.8 |
Megapixels | 1.8 |
MeteringMode | Multi-segment |
Model | Canon EOS 6D |
ModifyDate (1) | 2019:09:01 19:36:22+02:00 |
ModifyDate | 2019:09:01 19:36:22 |
OverrideLookVignette | False |
ParametricDarks | 0 |
ParametricHighlights | 0 |
ParametricHighlightSplit | 75 |
ParametricLights | 0 |
ParametricMidtoneSplit | 50 |
ParametricShadows | 0 |
ParametricShadowSplit | 25 |
PerspectiveAspect | 0 |
PerspectiveHorizontal | 0 |
PerspectiveRotate | 0.0 |
PerspectiveScale | 100 |
PerspectiveUpright | 0 |
PerspectiveVertical | 0 |
PerspectiveX | 0.00 |
PerspectiveY | 0.00 |
PhotographicSensitivity | 400 |
PostCropVignetteAmount | 0 |
PreservedFileName | IMG_4374_HDR.tif |
ProcessVersion | 11.0 |
ProfileDescription | Adobe RGB (1998) |
Rating | 5 |
RawFileName | |
RedHue | 0 |
RedSaturation | 0 |
ScaleFactor35efl | 3.4 |
SceneCaptureType | Standard |
SerialNumber | 313051002815 |
Shadows2012 | +100 |
ShadowTint | 0 |
SharpenDetail | 25 |
SharpenEdgeMasking | 0 |
SharpenRadius | +1.0 |
Sharpness | 0 |
ShutterSpeed | 1/80 |
ShutterSpeedValue | 1/80 |
Software | Adobe Photoshop Lightroom Classic 8.4 (Windows) |
SplitToningBalance | 0 |
SplitToningHighlightHue | 0 |
SplitToningHighlightSaturation | 0 |
SplitToningShadowHue | 0 |
SplitToningShadowSaturation | 0 |
Texture | 0 |
ToneCurve | 0, 0, 255, 255 |
ToneCurveBlue | 0, 0, 255, 255 |
ToneCurveGreen | 0, 0, 255, 255 |
ToneCurveName | Linear |
ToneCurveName2012 | Linear |
ToneCurvePV2012 | 0, 0, 255, 255 |
ToneCurvePV2012Blue | 0, 0, 255, 255 |
ToneCurvePV2012Green | 0, 0, 255, 255 |
ToneCurvePV2012Red | 0, 0, 255, 255 |
ToneCurveRed | 0, 0, 255, 255 |
ToneMapStrength | 0 |
Version | 11.4 |
VignetteAmount | 0 |
WhiteBalance (1) | Custom |
WhiteBalance | Auto |
Whites2012 | +15 |