Felt | Verdi |
AlreadyApplied | True |
Aperture | 8.0 |
ApertureValue | 8.0 |
ApproximateFocusDistance | 102 |
AutoLateralCA | 1 |
BitsPerSample | 8 |
Blacks2012 | 0 |
BlueHue | 0 |
BlueSaturation | 0 |
CameraProfile | Adobe Standard |
CircGradBasedCorrActive | true |
CircGradBasedCorrAmount | 1.000000 |
CircGradBasedCorrBrightness | 0.000000 |
CircGradBasedCorrClarity2012 (1) | 0.241380 |
CircGradBasedCorrClarity2012 (2) | 0.310340 |
CircGradBasedCorrClarity2012 (3) | 0.264370 |
CircGradBasedCorrClarity2012 (8) | 0.317830 |
CircGradBasedCorrClarity2012 | 0.000000 |
CircGradBasedCorrContrast2012 | 0.000000 |
CircGradBasedCorrCorrectionRangeMaskColorAmount | 0.500000 |
CircGradBasedCorrCorrectionRangeMaskDepthFeather | 0.500000 |
CircGradBasedCorrCorrectionRangeMaskDepthMax | 1.000000 |
CircGradBasedCorrCorrectionRangeMaskDepthMin | 0.000000 |
CircGradBasedCorrCorrectionRangeMaskLumFeather | 0.500000 |
CircGradBasedCorrCorrectionRangeMaskLumMax | 1.000000 |
CircGradBasedCorrCorrectionRangeMaskLumMin | 0.000000 |
CircGradBasedCorrCorrectionRangeMaskType | 0 |
CircGradBasedCorrCorrectionRangeMaskVersion (8) | +2 |
CircGradBasedCorrCorrectionRangeMaskVersion | +1 |
CircGradBasedCorrDefringe | 0.000000 |
CircGradBasedCorrExposure2012 (1) | 0.000000 |
CircGradBasedCorrExposure2012 | 0.007750 |
CircGradBasedCorrHighlights2012 (3) | 0.395350 |
CircGradBasedCorrHighlights2012 (6) | 0.922480 |
CircGradBasedCorrHighlights2012 | 0.000000 |
CircGradBasedCorrHue (2) | 5.000000 |
CircGradBasedCorrHue | 0.000000 |
CircGradBasedCorrLocalBlacks2012 (5) | 0.000000 |
CircGradBasedCorrLocalBlacks2012 (7) | 0.193800 |
CircGradBasedCorrLocalBlacks2012 (8) | -0.116280 |
CircGradBasedCorrLocalBlacks2012 | 0.379310 |
CircGradBasedCorrLocalDehaze (3) | 0.000000 |
CircGradBasedCorrLocalDehaze (8) | 0.025970 |
CircGradBasedCorrLocalDehaze | 0.069770 |
CircGradBasedCorrLocalTexture | 0.000000 |
CircGradBasedCorrLocalWhites2012 (1) | 0.195400 |
CircGradBasedCorrLocalWhites2012 (2) | 0.178290 |
CircGradBasedCorrLocalWhites2012 (3) | 0.103450 |
CircGradBasedCorrLocalWhites2012 (4) | 0.034480 |
CircGradBasedCorrLocalWhites2012 (5) | 0.209300 |
CircGradBasedCorrLocalWhites2012 (7) | 0.000000 |
CircGradBasedCorrLocalWhites2012 | 0.218390 |
CircGradBasedCorrLuminanceNoise | 0.000000 |
CircGradBasedCorrMaskAngle (2) | 2.223430 |
CircGradBasedCorrMaskAngle (7) | 26.478400 |
CircGradBasedCorrMaskAngle (8) | -6.614820 |
CircGradBasedCorrMaskAngle | 0.000000 |
CircGradBasedCorrMaskBottom (1) | 0.685819 |
CircGradBasedCorrMaskBottom (2) | 0.995050 |
CircGradBasedCorrMaskBottom (3) | 0.311436 |
CircGradBasedCorrMaskBottom (4) | 0.734674 |
CircGradBasedCorrMaskBottom (5) | 0.614239 |
CircGradBasedCorrMaskBottom (6) | 0.610139 |
CircGradBasedCorrMaskBottom (7) | 0.859893 |
CircGradBasedCorrMaskBottom (8) | 0.660455 |
CircGradBasedCorrMaskBottom | 0.546838 |
CircGradBasedCorrMaskFeather | +50 |
CircGradBasedCorrMaskFlipped | true |
CircGradBasedCorrMaskLeft (1) | 0.370753 |
CircGradBasedCorrMaskLeft (2) | -0.015451 |
CircGradBasedCorrMaskLeft (3) | 0.110993 |
CircGradBasedCorrMaskLeft (4) | -0.079040 |
CircGradBasedCorrMaskLeft (5) | 0.358171 |
CircGradBasedCorrMaskLeft (6) | -0.148012 |
CircGradBasedCorrMaskLeft (7) | 0.734982 |
CircGradBasedCorrMaskLeft (8) | 0.090878 |
CircGradBasedCorrMaskLeft | 0.868078 |
CircGradBasedCorrMaskMidpoint | +50 |
CircGradBasedCorrMaskRight (1) | 1.057030 |
CircGradBasedCorrMaskRight (2) | 1.110820 |
CircGradBasedCorrMaskRight (3) | 0.633433 |
CircGradBasedCorrMaskRight (4) | 0.121003 |
CircGradBasedCorrMaskRight (5) | 0.612102 |
CircGradBasedCorrMaskRight (6) | 0.291498 |
CircGradBasedCorrMaskRight (7) | 0.751244 |
CircGradBasedCorrMaskRight (8) | 0.444919 |
CircGradBasedCorrMaskRight | 1.053600 |
CircGradBasedCorrMaskRoundness | 0 |
CircGradBasedCorrMaskTop (1) | 0.166448 |
CircGradBasedCorrMaskTop (2) | 0.580250 |
CircGradBasedCorrMaskTop (3) | 0.048085 |
CircGradBasedCorrMaskTop (4) | 0.587768 |
CircGradBasedCorrMaskTop (5) | 0.496049 |
CircGradBasedCorrMaskTop (6) | 0.369467 |
CircGradBasedCorrMaskTop (7) | 0.144633 |
CircGradBasedCorrMaskTop (8) | 0.603747 |
CircGradBasedCorrMaskTop | 0.306182 |
CircGradBasedCorrMaskValue | 1.000000 |
CircGradBasedCorrMaskVersion | +2 |
CircGradBasedCorrMaskWhat | Mask/CircularGradient |
CircGradBasedCorrMoire | 0.000000 |
CircGradBasedCorrSaturation (1) | 0.178290 |
CircGradBasedCorrSaturation (11) | -0.023260 |
CircGradBasedCorrSaturation (5) | 0.116280 |
CircGradBasedCorrSaturation (7) | 0.356320 |
CircGradBasedCorrSaturation (9) | 0.172410 |
CircGradBasedCorrSaturation | 0.000000 |
CircGradBasedCorrShadows2012 (5) | 0.103450 |
CircGradBasedCorrShadows2012 | 0.000000 |
CircGradBasedCorrSharpness | 0.000000 |
CircGradBasedCorrTemperature | 0.000000 |
CircGradBasedCorrTint | 0.000000 |
CircGradBasedCorrWhat | Correction |
CircleOfConfusion | 0.008 mm |
Clarity2012 | +10 |
ColorComponents | 3 |
ColorNoiseReduction | 25 |
ColorNoiseReductionDetail | 50 |
ColorNoiseReductionSmoothness | 50 |
ColorSpace | Uncalibrated |
ColorTemperature | 5150 |
ColorTransform | YCbCr |
Contrast2012 | +33 |
ConvertToGrayscale | True |
CreateDate (1) | 2015:11:22 13:41:31.07 |
CreateDate | 2015:11:22 13:41:31 |
CreatorTool | Adobe Photoshop Lightroom Classic 8.3.1 (Windows) |
CropAngle | 0 |
CropBottom | 0.928173 |
CropConstrainToWarp | 0 |
CropLeft | 0 |
CropRight | 1 |
CropTop | 0.146417 |
CustomRendered | Normal |
DateCreated (1) | 2015:11:22 |
DateCreated | 2015:11:22 13:41:31.07 |
DateTimeOriginal | 2015:11:22 13:41:31 |
Dehaze | 0 |
DistortionCorrectionAlreadyApplied | True |
DOF | 18.33 m (93.65 - 111.98 m) |
Exposure2012 | -1.20 |
ExposureCompensation | 0 |
ExposureMode | Manual |
ExposureProgram | Manual |
ExposureTime | 1/125 |
Firmware | 1.1.1 |
Flash | Off, Did not fire |
FlashCompensation | 0 |
FNumber | 8.0 |
FocalLength | 270.0 mm |
FocalLength35efl | 270.0 mm (35 mm equivalent: 1016.1 mm) |
Format | image/jpeg |
FOV | 2.0 deg |
GradientBasedCorrActive | true |
GradientBasedCorrAmount | 1.000000 |
GradientBasedCorrBrightness | 0.000000 |
GradientBasedCorrClarity2012 | 0.310340 |
GradientBasedCorrContrast2012 | 0.000000 |
GradientBasedCorrCorrectionRangeMaskColorAmount | 0.500000 |
GradientBasedCorrCorrectionRangeMaskDepthFeather | 0.500000 |
GradientBasedCorrCorrectionRangeMaskDepthMax | 1.000000 |
GradientBasedCorrCorrectionRangeMaskDepthMin | 0.000000 |
GradientBasedCorrCorrectionRangeMaskLumFeather | 0.500000 |
GradientBasedCorrCorrectionRangeMaskLumMax | 1.000000 |
GradientBasedCorrCorrectionRangeMaskLumMin | 0.000000 |
GradientBasedCorrCorrectionRangeMaskType | 0 |
GradientBasedCorrCorrectionRangeMaskVersion | +1 |
GradientBasedCorrDefringe | 0.000000 |
GradientBasedCorrExposure2012 | 0.149500 |
GradientBasedCorrHighlights2012 | 0.000000 |
GradientBasedCorrHue | 5.000000 |
GradientBasedCorrLocalBlacks2012 | 0.379310 |
GradientBasedCorrLocalDehaze | 0.000000 |
GradientBasedCorrLocalTexture | 0.000000 |
GradientBasedCorrLocalWhites2012 | -0.195400 |
GradientBasedCorrLuminanceNoise | 0.000000 |
GradientBasedCorrMaskFullX | 0.335660 |
GradientBasedCorrMaskFullY | 0.912743 |
GradientBasedCorrMaskValue | 1.000000 |
GradientBasedCorrMaskWhat | Mask/Gradient |
GradientBasedCorrMaskZeroX | 0.352517 |
GradientBasedCorrMaskZeroY | 0.638002 |
GradientBasedCorrMoire | 0.000000 |
GradientBasedCorrSaturation (1) | 0.356320 |
GradientBasedCorrSaturation | 0.000000 |
GradientBasedCorrShadows2012 | 0.103450 |
GradientBasedCorrSharpness | 0.000000 |
GradientBasedCorrTemperature | 0.000000 |
GradientBasedCorrTint | 0.000000 |
GradientBasedCorrWhat | Correction |
GrainAmount | 0 |
GrayMixerAqua | 0 |
GrayMixerBlue | -20 |
GrayMixerGreen | +20 |
GrayMixerMagenta | 0 |
GrayMixerOrange | 0 |
GrayMixerPurple | -11 |
GrayMixerRed | 0 |
GrayMixerYellow | +10 |
GreenHue | 0 |
GreenSaturation | 0 |
HasCrop | True |
HasSettings | True |
Highlights2012 | 0 |
HyperfocalDistance | 1141.35 m |
ImageHeight | 1303 |
ImageNumber | 0 |
ImageSize | 2500x1303 |
ImageWidth | 2500 |
ISO | 100 |
LateralChromaticAberrationCorrectionAlreadyApplied | True |
Lens | 18-270mm |
LensID (1) | 217 |
LensID | Tamron AF 18-270mm f/3.5-6.3 Di II VC PZD |
LensInfo | 18-270mm f/? |
LensManualDistortionAmount | 0 |
LensModel | 18-270mm |
LensProfileChromaticAberrationScale | 100 |
LensProfileDistortionScale | 100 |
LensProfileEnable | 1 |
LensProfileFilename | Canon (TAMRON 18-270mm F3.5-6.3 DiII VC B003E) - RAW.lcp |
LensProfileName | Adobe (TAMRON 18-270mm F/3.5-6.3 DiII VC B003E, Canon) |
LensProfileSetup | Custom |
LensProfileVignettingScale | 100 |
LensSerialNumber | 0000000000 |
LightValue | 13.0 |
LookAmount | 0.800000 |
LookCluster | Adobe |
LookGroup | B&W |
LookName | B&W 04 |
LookParametersClarity2012 | +8 |
LookParametersContrast2012 | +8 |
LookParametersConvertToGrayscale | True |
LookParametersLookTable | AC0E24EFC658D3BD29B430044AE2FB7C |
LookParametersProcessVersion | 11.0 |
LookParametersToneCurvePV2012 | 0, 0, 17, 10, 34, 24, 51, 41, 68, 63, 85, 89, 102, 116, 119, 143, 136, 169, 153, 193, 170, 212, 187, 228, 204, 239, 221, 246, 238, 251, 255, 255 |
LookParametersToneCurvePV2012Blue | 0, 0, 255, 255 |
LookParametersToneCurvePV2012Green | 0, 0, 255, 255 |
LookParametersToneCurvePV2012Red | 0, 0, 255, 255 |
LookParametersVersion | 11.3 |
LookSortName | B&W 04 |
LookSupportsMonochrome | false |
LuminanceSmoothing | 0 |
Make | Canon |
MaxApertureValue | 6.2 |
Megapixels | 3.3 |
MeteringMode | Multi-segment |
Model | Canon EOS 70D |
ModifyDate (1) | 2019:08:25 12:27:51+02:00 |
ModifyDate | 2019:08:25 12:27:51 |
OverrideLookVignette | False |
ParametricDarks | 0 |
ParametricHighlights | 0 |
ParametricHighlightSplit | 75 |
ParametricLights | 0 |
ParametricMidtoneSplit | 50 |
ParametricShadows | 0 |
ParametricShadowSplit | 25 |
PerspectiveAspect | 0 |
PerspectiveHorizontal | 0 |
PerspectiveRotate | 0.0 |
PerspectiveScale | 100 |
PerspectiveUpright | 1 |
PerspectiveVertical | 0 |
PerspectiveX | 0.00 |
PerspectiveY | 0.00 |
PostCropVignetteAmount | 0 |
ProcessVersion | 10.0 |
ProfileDescription | Adobe RGB (1998) |
RawFileName | Grensen-Okstindan_2849.CR2 |
RecommendedExposureIndex | 100 |
RedHue | 0 |
RedSaturation | 0 |
ScaleFactor35efl | 3.8 |
SceneCaptureType | Standard |
SensitivityType | Recommended Exposure Index |
SerialNumber | 083024006302 |
Shadows2012 | -43 |
ShadowTint | 0 |
SharpenDetail | 25 |
SharpenEdgeMasking | 0 |
SharpenRadius | +1.0 |
Sharpness | 25 |
ShutterSpeed | 1/125 |
ShutterSpeedValue | 1/125 |
Software | Adobe Photoshop Lightroom Classic 8.3.1 (Windows) |
SplitToningBalance | 0 |
SplitToningHighlightHue | 0 |
SplitToningHighlightSaturation | 0 |
SplitToningShadowHue | 0 |
SplitToningShadowSaturation | 0 |
Texture | 0 |
Tint | +7 |
ToneCurve | 0, 0, 255, 255 |
ToneCurveBlue | 0, 0, 255, 255 |
ToneCurveGreen | 0, 0, 255, 255 |
ToneCurveName | Linear |
ToneCurveName2012 | Linear |
ToneCurvePV2012 | 0, 0, 255, 255 |
ToneCurvePV2012Blue | 0, 0, 255, 255 |
ToneCurvePV2012Green | 0, 0, 255, 255 |
ToneCurvePV2012Red | 0, 0, 255, 255 |
ToneCurveRed | 0, 0, 255, 255 |
ToneMapStrength | 0 |
Version | 11.3 |
VignetteAmount | 0 |
VignetteCorrectionAlreadyApplied | True |
WhiteBalance (1) | As Shot |
WhiteBalance | Manual |
Whites2012 | 0 |