Felt | Verdi |
AlreadyApplied | True |
Aperture | 10.0 |
ApertureValue | 10.0 |
Artist | John Ottesen |
AutoLateralCA | 1 |
AutoWhiteVersion | 134348800 |
BitsPerSample (1) | 8 8 8 |
BitsPerSample | 8 |
Blacks2012 | +21 |
BlueHue | 0 |
BlueSaturation | 0 |
BrightnessValue | 8.91171875 |
By-line | John Ottesen |
CameraProfile | Adobe Standard |
CircleOfConfusion | 0.020 mm |
Clarity2012 | +33 |
ColorComponents | 3 |
ColorMode | RGB |
ColorNoiseReduction | 57 |
ColorNoiseReductionDetail | 57 |
ColorNoiseReductionSmoothness | 50 |
ColorSpace | Uncalibrated |
ColorTemperature | 5900 |
ColorTransform | YCbCr |
Contrast | Normal |
Contrast2012 | +33 |
ConvertToGrayscale | False |
Copyright | john Ottesen |
CopyrightNotice | john Ottesen |
CreateDate (1) | 2018:09:20 11:04:31+02:00 |
CreateDate | 2018:09:20 11:04:31 |
Creator | John Ottesen |
CreatorTool | Adobe Photoshop Elements 16.0 (Windows) |
CropAngle | 0 |
CropBottom | 0.859836 |
CropConstrainToWarp | 1 |
CropLeft | 0.040664 |
CropRight | 0.842901 |
CropTop | 0.135369 |
CustomRendered | Normal |
DateCreated (1) | 2018:09:20 |
DateCreated | 2018:09:20 11:04:31 |
DateTimeOriginal | 2018:09:20 11:04:31 |
DefringeGreenAmount | 0 |
DefringeGreenHueHi | 60 |
DefringeGreenHueLo | 40 |
DefringePurpleAmount | 0 |
DefringePurpleHueHi | 70 |
DefringePurpleHueLo | 30 |
Dehaze | 0 |
DigitalZoomRatio | 1 |
DistortionCorrectionAlreadyApplied | True |
ExifImageHeight | 625 |
ExifImageWidth | 1038 |
Exposure2012 | +0.12 |
ExposureCompensation | -0.7 |
ExposureMode | Auto |
ExposureProgram | Aperture-priority AE |
ExposureTime | 1/160 |
Flash | Off, Did not fire |
FNumber | 10.0 |
FocalLength | 104.0 mm |
FocalLength35efl | 104.0 mm (35 mm equivalent: 156.0 mm) |
FocalLengthIn35mmFormat | 156 mm |
Format | image/jpeg |
FOV | 13.2 deg |
GrainAmount | 0 |
GreenHue | 0 |
GreenSaturation | 0 |
HasCrop | True |
HasSettings | True |
Highlights2012 | 0 |
HueAdjustmentAqua | 0 |
HueAdjustmentBlue | 0 |
HueAdjustmentGreen | 0 |
HueAdjustmentMagenta | 0 |
HueAdjustmentOrange | 0 |
HueAdjustmentPurple | 0 |
HueAdjustmentRed | 0 |
HueAdjustmentYellow | 0 |
HyperfocalDistance | 54.00 m |
ICCProfileName | ProPhoto RGB |
ImageHeight (1) | 2898 |
ImageHeight | 625 |
ImageSize | 1038x625 |
ImageWidth (1) | 4813 |
ImageWidth | 1038 |
ISO | 200 |
LateralChromaticAberrationCorrectionAlreadyApplied | True |
Lens | E 18-135mm F3.5-5.6 OSS |
LensDistortInfo | 1051634314/1073741824 25630806/1073741824 -2534923/1073741824 -1020712/1073741824 |
LensInfo | 18-135mm f/3.5-5.6 |
LensManualDistortionAmount | 0 |
LensModel | E 18-135mm F3.5-5.6 OSS |
LensProfileChromaticAberrationScale | 100 |
LensProfileDistortionScale | 100 |
LensProfileEnable | 1 |
LensProfileFilename | SONY (Sony DT 18-135mm F3.5-5.6 SAM) - RAW.lcp |
LensProfileName | Adobe (Sony DT 18-135mm F3.5-5.6 SAM) |
LensProfileSetup | Custom |
LensProfileVignettingScale | 100 |
LightSource | Unknown |
LightValue | 13.0 |
LuminanceAdjustmentAqua | 0 |
LuminanceAdjustmentBlue | 0 |
LuminanceAdjustmentGreen | 0 |
LuminanceAdjustmentMagenta | 0 |
LuminanceAdjustmentOrange | 0 |
LuminanceAdjustmentPurple | 0 |
LuminanceAdjustmentRed | 0 |
LuminanceAdjustmentYellow | 0 |
LuminanceNoiseReductionContrast | 0 |
LuminanceNoiseReductionDetail | 57 |
LuminanceSmoothing | 45 |
Make | SONY |
MaxApertureValue | 5.6 |
Megapixels | 0.649 |
MeteringMode | Multi-segment |
Model | ILCE-6300 |
ModifyDate (1) | 2018:09:20 15:49:27+02:00 |
ModifyDate | 2018:09:20 15:49:27 |
Orientation | Horizontal (normal) |
ParametricDarks | 0 |
ParametricHighlights | 0 |
ParametricHighlightSplit | 75 |
ParametricLights | 0 |
ParametricMidtoneSplit | 50 |
ParametricShadows | 0 |
ParametricShadowSplit | 25 |
PerspectiveAspect | 0 |
PerspectiveHorizontal | 0 |
PerspectiveRotate | +0.5 |
PerspectiveScale | 100 |
PerspectiveUpright | 0 |
PerspectiveVertical | 0 |
PerspectiveX | 0.00 |
PerspectiveY | 0.00 |
PhotometricInterpretation | RGB |
PostCropVignetteAmount | 0 |
ProcessVersion | 6.7 |
ProfileDescription | ProPhoto RGB |
RecommendedExposureIndex | 200 |
RedHue | 0 |
RedSaturation | 0 |
Rights | john Ottesen |
SamplesPerPixel | 3 |
Saturation (1) | 0 |
Saturation | Normal |
SaturationAdjustmentAqua | 0 |
SaturationAdjustmentBlue | 0 |
SaturationAdjustmentGreen | 0 |
SaturationAdjustmentMagenta | 0 |
SaturationAdjustmentOrange | 0 |
SaturationAdjustmentPurple | 0 |
SaturationAdjustmentRed | 0 |
SaturationAdjustmentYellow | 0 |
ScaleFactor35efl | 1.5 |
SceneCaptureType | Standard |
SceneType | Directly photographed |
SensitivityType | Recommended Exposure Index |
Shadows2012 | +31 |
ShadowTint | 0 |
SharpenDetail | 99 |
SharpenEdgeMasking | 54 |
SharpenRadius | +1.3 |
Sharpness (1) | 66 |
Sharpness | Normal |
ShutterSpeed | 1/160 |
ShutterSpeedValue | 1/160 |
Software | Adobe Photoshop Elements 16.0 (Windows) |
SplitToningBalance | 0 |
SplitToningHighlightHue | 0 |
SplitToningHighlightSaturation | 0 |
SplitToningShadowHue | 0 |
SplitToningShadowSaturation | 0 |
Tint | +13 |
ToneCurve | 0, 0, 255, 255 |
ToneCurveBlue | 0, 0, 255, 255 |
ToneCurveGreen | 0, 0, 255, 255 |
ToneCurveName | Linear |
ToneCurveName2012 | Medium Contrast |
ToneCurvePV2012 | 0, 0, 32, 22, 64, 56, 128, 128, 192, 196, 255, 255 |
ToneCurvePV2012Blue | 0, 0, 255, 255 |
ToneCurvePV2012Green | 0, 0, 255, 255 |
ToneCurvePV2012Red | 0, 0, 255, 255 |
ToneCurveRed | 0, 0, 255, 255 |
ToneMapStrength | 0 |
URL_List | |
Version | 10.1 |
Vibrance | +17 |
VignetteAmount | 0 |
VignetteCorrectionAlreadyApplied | True |
WhiteBalance (1) | As Shot |
WhiteBalance | Auto |
Whites2012 | 0 |