Felt | Verdi |
AlreadyApplied | True |
Aperture | 11.0 |
ApertureValue | 11.0 |
ApproximateFocusDistance | 9.44 |
AutoLateralCA | 0 |
AutoWhiteVersion | 134348800 |
BitsPerSample | 8 |
Blacks2012 | -12 |
BlueHue | 0 |
BlueSaturation | 0 |
CameraProfile | Adobe Standard |
CFAPattern | [Red,Green][Green,Blue] |
CircGradBasedCorrActive | true |
CircGradBasedCorrAmount | 1.000000 |
CircGradBasedCorrBrightness | 0.000000 |
CircGradBasedCorrClarity2012 | 0.750454 |
CircGradBasedCorrContrast2012 (4) | -0.489462 |
CircGradBasedCorrContrast2012 | -0.407976 |
CircGradBasedCorrDefringe | 0.000000 |
CircGradBasedCorrExposure2012 (1) | 0.046602 |
CircGradBasedCorrExposure2012 (2) | 0.033067 |
CircGradBasedCorrExposure2012 (4) | 0.007631 |
CircGradBasedCorrExposure2012 (5) | 0.195403 |
CircGradBasedCorrExposure2012 | 0.137264 |
CircGradBasedCorrHighlights2012 | -0.747184 |
CircGradBasedCorrHue | 0.000000 |
CircGradBasedCorrLocalBlacks2012 | -0.083576 |
CircGradBasedCorrLocalDehaze | 0.000000 |
CircGradBasedCorrLocalWhites2012 | 0.233557 |
CircGradBasedCorrLuminanceNoise | 0.000000 |
CircGradBasedCorrMaskAngle (1) | -5.625820 |
CircGradBasedCorrMaskAngle (3) | 0.816738 |
CircGradBasedCorrMaskAngle (4) | -4.550660 |
CircGradBasedCorrMaskAngle (5) | 10.434200 |
CircGradBasedCorrMaskAngle | 3.815970 |
CircGradBasedCorrMaskBottom (1) | 0.367731 |
CircGradBasedCorrMaskBottom (2) | 0.810386 |
CircGradBasedCorrMaskBottom (3) | 0.594475 |
CircGradBasedCorrMaskBottom (4) | 0.234062 |
CircGradBasedCorrMaskBottom (5) | 0.876501 |
CircGradBasedCorrMaskBottom | 0.621768 |
CircGradBasedCorrMaskFeather | +53 |
CircGradBasedCorrMaskFlipped | true |
CircGradBasedCorrMaskLeft (1) | 0.358490 |
CircGradBasedCorrMaskLeft (2) | 0.302131 |
CircGradBasedCorrMaskLeft (3) | 0.406019 |
CircGradBasedCorrMaskLeft (4) | 0.559484 |
CircGradBasedCorrMaskLeft (5) | 0.704612 |
CircGradBasedCorrMaskLeft | 0.501392 |
CircGradBasedCorrMaskMidpoint | +50 |
CircGradBasedCorrMaskRight (1) | 1.107330 |
CircGradBasedCorrMaskRight (2) | 1.080510 |
CircGradBasedCorrMaskRight (3) | 1.042330 |
CircGradBasedCorrMaskRight (4) | 1.020910 |
CircGradBasedCorrMaskRight (5) | 1.021620 |
CircGradBasedCorrMaskRight | 1.135820 |
CircGradBasedCorrMaskRoundness | 0 |
CircGradBasedCorrMaskTop (1) | 0.280521 |
CircGradBasedCorrMaskTop (2) | 0.556397 |
CircGradBasedCorrMaskTop (3) | 0.503627 |
CircGradBasedCorrMaskTop (4) | 0.134224 |
CircGradBasedCorrMaskTop (5) | 0.630046 |
CircGradBasedCorrMaskTop | 0.487214 |
CircGradBasedCorrMaskValue | 1.000000 |
CircGradBasedCorrMaskVersion | +2 |
CircGradBasedCorrMaskWhat | Mask/CircularGradient |
CircGradBasedCorrMoire | 0.000000 |
CircGradBasedCorrSaturation (1) | 0.237918 |
CircGradBasedCorrSaturation (11) | -0.743732 |
CircGradBasedCorrSaturation (3) | -0.107649 |
CircGradBasedCorrSaturation (5) | 0.116188 |
CircGradBasedCorrSaturation | 0.000000 |
CircGradBasedCorrShadows2012 | 0.873910 |
CircGradBasedCorrSharpness | 0.000000 |
CircGradBasedCorrTemperature (1) | 0.423783 |
CircGradBasedCorrTemperature (2) | -0.246457 |
CircGradBasedCorrTemperature (3) | 0.434502 |
CircGradBasedCorrTemperature (4) | -0.001635 |
CircGradBasedCorrTemperature (5) | -0.146348 |
CircGradBasedCorrTemperature | 0.655523 |
CircGradBasedCorrTint | 0.000000 |
CircGradBasedCorrWhat | Correction |
CircleOfConfusion | 0.030 mm |
Clarity2012 | -44 |
ColorComponents | 3 |
ColorNoiseReduction | 25 |
ColorNoiseReductionDetail | 50 |
ColorNoiseReductionSmoothness | 50 |
ColorSpace | sRGB |
ColorTemperature | 5650 |
ColorTransform | YCbCr |
Contrast | Normal |
Contrast2012 | +71 |
ConvertToGrayscale | False |
CreateDate (1) | 2018:04:23 14:59:52.30 |
CreateDate | 2018:04:23 14:59:52 |
CreatorTool | Adobe Photoshop Lightroom 6.8 (Macintosh) |
CropAngle | 0.816738 |
CropBottom | 0.808006 |
CropConstrainToWarp | 0 |
CropLeft | 0.155801 |
CropRight | 0.986714 |
CropTop | 0.103346 |
CustomRendered | Normal |
DateCreated (1) | 2018:04:23 |
DateCreated | 2018:04:23 14:59:52.30 |
DateTimeOriginal | 2018:04:23 14:59:52 |
DefringeGreenAmount | 0 |
DefringeGreenHueHi | 60 |
DefringeGreenHueLo | 40 |
DefringePurpleAmount | 0 |
DefringePurpleHueHi | 70 |
DefringePurpleHueLo | 30 |
Dehaze | 0 |
DigitalZoomRatio | 1 |
DOF | inf (1.90 m - inf) |
Exposure2012 | -1.00 |
ExposureCompensation | +1/3 |
ExposureMode | Manual |
ExposureProgram | Manual |
ExposureTime | 1/30 |
Flash | Off, Did not fire |
FNumber | 11.0 |
FocalLength | 28.0 mm |
FocalLength35efl | 28.0 mm (35 mm equivalent: 28.0 mm) |
FocalLengthIn35mmFormat | 28 mm |
Format | image/jpeg |
FOV | 65.5 deg |
GainControl | None |
GradientBasedCorrActive | true |
GradientBasedCorrAmount | 1.000000 |
GradientBasedCorrBrightness | 0.000000 |
GradientBasedCorrClarity2012 | 0.750454 |
GradientBasedCorrContrast2012 | -0.489462 |
GradientBasedCorrDefringe | 0.000000 |
GradientBasedCorrExposure2012 | -0.207485 |
GradientBasedCorrHighlights2012 | -0.747184 |
GradientBasedCorrHue | 0.000000 |
GradientBasedCorrLocalBlacks2012 | -0.083576 |
GradientBasedCorrLocalDehaze | 0.000000 |
GradientBasedCorrLocalWhites2012 | 0.233557 |
GradientBasedCorrLuminanceNoise | 0.000000 |
GradientBasedCorrMaskFullX | 0.690723 |
GradientBasedCorrMaskFullY | 0.164526 |
GradientBasedCorrMaskValue | 1.000000 |
GradientBasedCorrMaskWhat | Mask/Gradient |
GradientBasedCorrMaskZeroX | 0.699358 |
GradientBasedCorrMaskZeroY | 0.401745 |
GradientBasedCorrMoire | 0.000000 |
GradientBasedCorrSaturation (1) | 0.153434 |
GradientBasedCorrSaturation | 0.000000 |
GradientBasedCorrShadows2012 | 0.873910 |
GradientBasedCorrSharpness | 0.000000 |
GradientBasedCorrTemperature | -0.185956 |
GradientBasedCorrTint | 0.000000 |
GradientBasedCorrWhat | Correction |
GrainAmount | 0 |
GreenHue | 0 |
GreenSaturation | 0 |
HasCrop | True |
HasSettings | True |
Highlights2012 | -58 |
HueAdjustmentAqua | 0 |
HueAdjustmentBlue | 0 |
HueAdjustmentGreen | 0 |
HueAdjustmentMagenta | 0 |
HueAdjustmentOrange | -62 |
HueAdjustmentPurple | 0 |
HueAdjustmentRed | -6 |
HueAdjustmentYellow | -68 |
HyperfocalDistance | 2.37 m |
ImageHeight | 2759 |
ImageNumber | 60181 |
ImageSize | 5039x2759 |
ImageWidth | 5039 |
ISO | 125 |
Lens | 28.0-300.0 mm f/3.5-5.6 |
LensID (1) | 165 |
LensID | AF-S Nikkor 28-300mm f/3.5-5.6G ED VR |
LensInfo | 28-300mm f/3.5-5.6 |
LensManualDistortionAmount | 0 |
LensModel | 28.0-300.0 mm f/3.5-5.6 |
LensProfileEnable | 0 |
LensProfileSetup | LensDefaults |
LightSource | Unknown |
LightValue | 11.5 |
LuminanceAdjustmentAqua | 0 |
LuminanceAdjustmentBlue | 0 |
LuminanceAdjustmentGreen | 0 |
LuminanceAdjustmentMagenta | 0 |
LuminanceAdjustmentOrange | 0 |
LuminanceAdjustmentPurple | 0 |
LuminanceAdjustmentRed | 0 |
LuminanceAdjustmentYellow | 0 |
LuminanceNoiseReductionContrast | 0 |
LuminanceNoiseReductionDetail | 50 |
LuminanceSmoothing | 29 |
Make | NIKON CORPORATION |
MaxApertureValue | 3.5 |
Megapixels | 13.9 |
MeteringMode | Multi-segment |
Model | NIKON D610 |
ModifyDate (1) | 2018:05:02 13:34:56+02:00 |
ModifyDate | 2018:05:02 13:34:56 |
ParametricDarks | 0 |
ParametricHighlights | 0 |
ParametricHighlightSplit | 75 |
ParametricLights | 0 |
ParametricMidtoneSplit | 50 |
ParametricShadows | 0 |
ParametricShadowSplit | 25 |
PerspectiveAspect | 0 |
PerspectiveHorizontal | 0 |
PerspectiveRotate | 0.0 |
PerspectiveScale | 100 |
PerspectiveUpright | 0 |
PerspectiveVertical | 0 |
PerspectiveX | 0.00 |
PerspectiveY | 0.00 |
PostCropVignetteAmount | 0 |
ProcessVersion | 6.7 |
ProfileDescription | sRGB IEC61966-2.1 |
RedHue | 0 |
RedSaturation | 0 |
Saturation (1) | +39 |
Saturation | Normal |
SaturationAdjustmentAqua | 0 |
SaturationAdjustmentBlue | 0 |
SaturationAdjustmentGreen | 0 |
SaturationAdjustmentMagenta | 0 |
SaturationAdjustmentOrange | 0 |
SaturationAdjustmentPurple | 0 |
SaturationAdjustmentRed | 0 |
SaturationAdjustmentYellow | 0 |
ScaleFactor35efl | 1.0 |
SceneCaptureType | Standard |
SceneType | Directly photographed |
SensingMethod | One-chip color area |
SensitivityType | Recommended Exposure Index |
SerialNumber | 2032347 |
Shadows2012 | +59 |
ShadowTint | 0 |
SharpenDetail | 25 |
SharpenEdgeMasking | 0 |
SharpenRadius | +1.0 |
Sharpness (1) | 25 |
Sharpness | Normal |
ShutterSpeed | 1/30 |
ShutterSpeedValue | 1/30 |
Software | Adobe Photoshop Lightroom 6.8 (Macintosh) |
SplitToningBalance | 0 |
SplitToningHighlightHue | 0 |
SplitToningHighlightSaturation | 0 |
SplitToningShadowHue | 0 |
SplitToningShadowSaturation | 0 |
SubjectDistanceRange | Unknown |
Tint | +7 |
ToneCurve | 0, 0, 255, 255 |
ToneCurveBlue | 0, 0, 255, 255 |
ToneCurveGreen | 0, 0, 255, 255 |
ToneCurveName | Linear |
ToneCurveName2012 | Linear |
ToneCurvePV2012 | 0, 0, 255, 255 |
ToneCurvePV2012Blue | 0, 0, 255, 255 |
ToneCurvePV2012Green | 0, 0, 255, 255 |
ToneCurvePV2012Red | 0, 0, 255, 255 |
ToneCurveRed | 0, 0, 255, 255 |
ToneMapStrength | 0 |
Version | 9.8 |
Vibrance | +2 |
VignetteAmount | 0 |
WhiteBalance (1) | As Shot |
WhiteBalance | Auto |
Whites2012 | 0 |